BEGIN:VCALENDAR
VERSION:2.0
PRODID:-// - ECPv6.15.20//NONSGML v1.0//EN
CALSCALE:GREGORIAN
METHOD:PUBLISH
X-ORIGINAL-URL:https://funhomeschoolflorida.com
X-WR-CALDESC:Events for 
REFRESH-INTERVAL;VALUE=DURATION:PT1H
X-Robots-Tag:noindex
X-PUBLISHED-TTL:PT1H
BEGIN:VTIMEZONE
TZID:America/New_York
BEGIN:DAYLIGHT
TZOFFSETFROM:-0500
TZOFFSETTO:-0400
TZNAME:EDT
DTSTART:20250309T070000
END:DAYLIGHT
BEGIN:STANDARD
TZOFFSETFROM:-0400
TZOFFSETTO:-0500
TZNAME:EST
DTSTART:20251102T060000
END:STANDARD
BEGIN:DAYLIGHT
TZOFFSETFROM:-0500
TZOFFSETTO:-0400
TZNAME:EDT
DTSTART:20260308T070000
END:DAYLIGHT
BEGIN:STANDARD
TZOFFSETFROM:-0400
TZOFFSETTO:-0500
TZNAME:EST
DTSTART:20261101T060000
END:STANDARD
BEGIN:DAYLIGHT
TZOFFSETFROM:-0500
TZOFFSETTO:-0400
TZNAME:EDT
DTSTART:20270314T070000
END:DAYLIGHT
BEGIN:STANDARD
TZOFFSETFROM:-0400
TZOFFSETTO:-0500
TZNAME:EST
DTSTART:20271107T060000
END:STANDARD
END:VTIMEZONE
BEGIN:VEVENT
DTSTART;TZID=America/New_York:20260407T170000
DTEND;TZID=America/New_York:20260407T180000
DTSTAMP:20260419T115153
CREATED:20260327T175024Z
LAST-MODIFIED:20260417T225414Z
UID:10003872-1775581200-1775584800@funhomeschoolflorida.com
SUMMARY:FREE Creative STEAM Lab
DESCRIPTION:Free \nTuesday\, April 07 \n5:00pm – 6:00pm \nGet creative and have fun exploring hands-on Science\, Technology\, Engineering\, Art\, and Math (STEAM) activities for ages 6 to 10. Registration is required for each participant. \nMust register on their website\, link is below.
URL:https://funhomeschoolflorida.com/event/free-creative-steam-lab/
LOCATION:West Regional Library\, 8601 West Broward Boulevard\, Pl\, FL\, 33324\, United States
CATEGORIES:Broward County
END:VEVENT
BEGIN:VEVENT
DTSTART;VALUE=DATE:20260309
DTEND;VALUE=DATE:20260310
DTSTAMP:20260419T115153
CREATED:20260225T121755Z
LAST-MODIFIED:20260417T144203Z
UID:10002264-1773014400-1773100799@funhomeschoolflorida.com
SUMMARY:Anatomy and Physiology Classes
DESCRIPTION:CLASS SESSIONS FROM MARCH 9th- MAY 18th \nEXPLORE THE AMAZING HUMAN BODY THROUGH FUN\, HANDS-ON LEARNING! \n10-WEEK COURSE \nALL MATERIALS INCLUDED \nJUST$250 TOTAL \nSTEP UP DIRECT PAY ACCEPTED \nPERFECT FOR HOMESCHOOL FAMILIES ENGAGING LESSONS\, ACTIVITIES\, AND EXPERIMENTS DESIGNED JUST FOR KIDS! \nFOR MORE INFORMATION \nPLEASE CONTACT \nRachel @ (754) 249-1907
URL:https://funhomeschoolflorida.com/event/anatomy-and-physiology-classes/
LOCATION:West Regional Library\, 8601 West Broward Boulevard\, Pl\, FL\, 33324\, United States
CATEGORIES:Broward County
ATTACH;FMTTYPE=image/jpeg:https://funhomeschoolflorida.com/wp-content/uploads/2026/02/IMG-20260212-WA00951-1.jpg
END:VEVENT
BEGIN:VEVENT
DTSTART;TZID=America/New_York:20260218T180000
DTEND;TZID=America/New_York:20260218T193000
DTSTAMP:20260419T115153
CREATED:20260212T023207Z
LAST-MODIFIED:20260418T031816Z
UID:10002213-1771437600-1771443000@funhomeschoolflorida.com
SUMMARY:Dungeons and Dragons for Teens
DESCRIPTION:Free \nWednesday\, February 18 \n6:00pm – 7:30pm \nJoin us for an adventure in the popular table-top role-playing game. Registration is required. \n  \nWe welcome new and experienced players. Teens from 14 to 18 are welcome to join. \n  \nRegistration is required. Link below
URL:https://funhomeschoolflorida.com/event/dungeons-and-dragons-for-teens/
LOCATION:West Regional Library\, 8601 West Broward Boulevard\, Pl\, FL\, 33324\, United States
CATEGORIES:Broward County
ATTACH;FMTTYPE=image/jpeg:https://funhomeschoolflorida.com/wp-content/uploads/2026/02/WR_DnD.jpg
END:VEVENT
BEGIN:VEVENT
DTSTART;TZID=America/New_York:20260217T170000
DTEND;TZID=America/New_York:20260217T180000
DTSTAMP:20260419T115153
CREATED:20260212T021951Z
LAST-MODIFIED:20260418T031943Z
UID:10002211-1771347600-1771351200@funhomeschoolflorida.com
SUMMARY:Creative STEAM Lab
DESCRIPTION:Free \nTuesday\, February 17 \n5:00pm – 6:00pm \nGet creative and have fun exploring hands-on Science\, Technology\, Engineering\, Art\, and Math (STEAM) activities for ages 6 to 10. Registration is required for each participant. \nMust register on their website\, link is below.
URL:https://funhomeschoolflorida.com/event/creative-steam-lab/
LOCATION:West Regional Library\, 8601 West Broward Boulevard\, Pl\, FL\, 33324\, United States
CATEGORIES:Broward County
END:VEVENT
END:VCALENDAR