BEGIN:VCALENDAR
VERSION:2.0
PRODID:-// - ECPv6.15.20//NONSGML v1.0//EN
CALSCALE:GREGORIAN
METHOD:PUBLISH
X-ORIGINAL-URL:https://funhomeschoolflorida.com
X-WR-CALDESC:Events for 
REFRESH-INTERVAL;VALUE=DURATION:PT1H
X-Robots-Tag:noindex
X-PUBLISHED-TTL:PT1H
BEGIN:VTIMEZONE
TZID:America/New_York
BEGIN:DAYLIGHT
TZOFFSETFROM:-0500
TZOFFSETTO:-0400
TZNAME:EDT
DTSTART:20250309T070000
END:DAYLIGHT
BEGIN:STANDARD
TZOFFSETFROM:-0400
TZOFFSETTO:-0500
TZNAME:EST
DTSTART:20251102T060000
END:STANDARD
BEGIN:DAYLIGHT
TZOFFSETFROM:-0500
TZOFFSETTO:-0400
TZNAME:EDT
DTSTART:20260308T070000
END:DAYLIGHT
BEGIN:STANDARD
TZOFFSETFROM:-0400
TZOFFSETTO:-0500
TZNAME:EST
DTSTART:20261101T060000
END:STANDARD
BEGIN:DAYLIGHT
TZOFFSETFROM:-0500
TZOFFSETTO:-0400
TZNAME:EDT
DTSTART:20270314T070000
END:DAYLIGHT
BEGIN:STANDARD
TZOFFSETFROM:-0400
TZOFFSETTO:-0500
TZNAME:EST
DTSTART:20271107T060000
END:STANDARD
END:VTIMEZONE
BEGIN:VEVENT
DTSTART;TZID=America/New_York:20260527T130000
DTEND;TZID=America/New_York:20260527T140000
DTSTAMP:20260419T082018
CREATED:20260301T184557Z
LAST-MODIFIED:20260418T033202Z
UID:10002647-1779886800-1779890400@funhomeschoolflorida.com
SUMMARY:[Tampa]The Florida Aquarium Homeschool Classes: LAB Squid Dissection
DESCRIPTION:May 27\, 2026 \nLab: Squid Dissection \nAges 6–14 \nWork in teams of three or four to explore the inside and outside of squid anatomy. \nParents/chaperones\, do you want to learn and enjoy this lab along with your homeschool student? You can. Just register yourself along with your child to enjoy this phenomenal program. Parent/chaperone attendance is optional; however\, you must be registered if you wish to join us in the classroom. \nCost \n$30 per child
URL:https://funhomeschoolflorida.com/event/tampathe-florida-aquarium-homeschool-classes-lab-squid-dissection/
LOCATION:The Florida Aquarium\, 701 Channelside Drive\, Tampa\, FL\, 33062\, United States
CATEGORIES:Tampa Bay
ATTACH;FMTTYPE=image/jpeg:https://funhomeschoolflorida.com/wp-content/uploads/2026/03/900x900_20220624_112735_O.jpg
ORGANIZER;CN="The Florida Aquarium":MAILTO:moreinfo@flaquarium.org
END:VEVENT
END:VCALENDAR