BEGIN:VCALENDAR
VERSION:2.0
PRODID:-// - ECPv6.15.20//NONSGML v1.0//EN
CALSCALE:GREGORIAN
METHOD:PUBLISH
X-ORIGINAL-URL:https://funhomeschoolflorida.com
X-WR-CALDESC:Events for 
REFRESH-INTERVAL;VALUE=DURATION:PT1H
X-Robots-Tag:noindex
X-PUBLISHED-TTL:PT1H
BEGIN:VTIMEZONE
TZID:America/New_York
BEGIN:DAYLIGHT
TZOFFSETFROM:-0500
TZOFFSETTO:-0400
TZNAME:EDT
DTSTART:20250309T070000
END:DAYLIGHT
BEGIN:STANDARD
TZOFFSETFROM:-0400
TZOFFSETTO:-0500
TZNAME:EST
DTSTART:20251102T060000
END:STANDARD
BEGIN:DAYLIGHT
TZOFFSETFROM:-0500
TZOFFSETTO:-0400
TZNAME:EDT
DTSTART:20260308T070000
END:DAYLIGHT
BEGIN:STANDARD
TZOFFSETFROM:-0400
TZOFFSETTO:-0500
TZNAME:EST
DTSTART:20261101T060000
END:STANDARD
BEGIN:DAYLIGHT
TZOFFSETFROM:-0500
TZOFFSETTO:-0400
TZNAME:EDT
DTSTART:20270314T070000
END:DAYLIGHT
BEGIN:STANDARD
TZOFFSETFROM:-0400
TZOFFSETTO:-0500
TZNAME:EST
DTSTART:20271107T060000
END:STANDARD
END:VTIMEZONE
BEGIN:VEVENT
DTSTART;TZID=America/New_York:20260526T140000
DTEND;TZID=America/New_York:20260526T144500
DTSTAMP:20260419T083046
CREATED:20260304T122820Z
LAST-MODIFIED:20260418T210926Z
UID:10003278-1779804000-1779806700@funhomeschoolflorida.com
SUMMARY:[PALM HARBOR] Homeschool Musical Theater & Jazz
DESCRIPTION:Homeschool Musical Theater & Jazz \nAges 7-13 yrs \nTuesday 2-2:45 pm \n45/monthly \nA mix of modern jazz and classic theater steps will get our young dancers prepared for the stage! Practice in free movement\, improvisation and choreography while learning musical theater history. Learn dances for the latest pop songs as well as famous choreography from classic theater. \nAttire: Keep long hair neatly tied back. Wear leotards\, tutus\, tights\, or your favorite comfortable exercise clothes. Don’t forget your ballet and tap shoes and bring a closed lid water bottle to stay refreshed and inspired.
URL:https://funhomeschoolflorida.com/event/palm-harbor-homeschool-musical-theater-jazz/2026-05-26/
LOCATION:The Centre @ Palm Harbor Parks & Recreation\, 1500 16th Street\, Palm Harbor\, FL\, 34683\, United States
CATEGORIES:Tampa Bay
END:VEVENT
END:VCALENDAR