BEGIN:VCALENDAR
VERSION:2.0
PRODID:-// - ECPv6.15.20//NONSGML v1.0//EN
CALSCALE:GREGORIAN
METHOD:PUBLISH
X-ORIGINAL-URL:https://funhomeschoolflorida.com
X-WR-CALDESC:Events for 
REFRESH-INTERVAL;VALUE=DURATION:PT1H
X-Robots-Tag:noindex
X-PUBLISHED-TTL:PT1H
BEGIN:VTIMEZONE
TZID:America/New_York
BEGIN:DAYLIGHT
TZOFFSETFROM:-0500
TZOFFSETTO:-0400
TZNAME:EDT
DTSTART:20250309T070000
END:DAYLIGHT
BEGIN:STANDARD
TZOFFSETFROM:-0400
TZOFFSETTO:-0500
TZNAME:EST
DTSTART:20251102T060000
END:STANDARD
BEGIN:DAYLIGHT
TZOFFSETFROM:-0500
TZOFFSETTO:-0400
TZNAME:EDT
DTSTART:20260308T070000
END:DAYLIGHT
BEGIN:STANDARD
TZOFFSETFROM:-0400
TZOFFSETTO:-0500
TZNAME:EST
DTSTART:20261101T060000
END:STANDARD
BEGIN:DAYLIGHT
TZOFFSETFROM:-0500
TZOFFSETTO:-0400
TZNAME:EDT
DTSTART:20270314T070000
END:DAYLIGHT
BEGIN:STANDARD
TZOFFSETFROM:-0400
TZOFFSETTO:-0500
TZNAME:EST
DTSTART:20271107T060000
END:STANDARD
END:VTIMEZONE
BEGIN:VEVENT
DTSTART;TZID=America/New_York:20260309T093000
DTEND;TZID=America/New_York:20260309T140000
DTSTAMP:20260419T102316
CREATED:20260228T094625Z
LAST-MODIFIED:20260418T210926Z
UID:10002309-1773048600-1773064800@funhomeschoolflorida.com
SUMMARY:[St.Petersburg] Lionfish Dissection with Tampa Bay Watch
DESCRIPTION:Ages: Recommended for ages 10 and up \nJoin us for an exciting lionfish dissection & Educator led exhibit gallery tour\, at the Discovery Center on St. Pete Pier \nTime & Location \nMar 09\, 2026\, 9:30 AM – 2:00 PM EDT \nSt. Petersburg\, 700 2nd Ave NE\, St. Petersburg\, FL 33701\, USA \n1- Lionfish Dissection \nJoin us to explore the ins and outs of the invasive lionfish. Uncover the truth about these problematic fish through a hands-on dissection and learn what is being done to eliminate them. \n2- Discovery Center Tour \nOur exhibit gallery showcases the economic and ecological value of Tampa Bay. During this guided tour provided by an educator\, students can look forward to our interactive displays\, video presentations\, multiple live species to observe\, and even a touch tank! \nChaperones: \nInclusion/ Accessibility: The discovery center and classroom are wheelchair accessible. For our friends that need more adult support\, they are accommodating our group to allow for a larger chaperone group in the sessions. \nItinerary: \nOur group will be divided in half\, so we can all fit comfortably in the classroom for our dissection. We will each alternate through: \nTickets: \nChaperones: $15 \nStudents: $1 \nItinerary: \nOur group will be divided in half\, so we can all fit comfortably in the classroom for our dissection. We will each alternate through: \n1- Lionfish Dissection \nJoin us to explore the ins and outs of the invasive lionfish. Uncover the truth about these problematic fish through a hands-on dissection and learn what is being done to eliminate them. \n2- Discovery Center Tour \nOur exhibit gallery showcases the economic and ecological value of Tampa Bay. During this guided tour provided by an educator\, students can look forward to our interactive displays\, video presentations\, multiple live species to observe\, and even a touch tank! \n*******Please Be Aware —HANDLING PROCEDURES AND PRECAUTIONS********* \nDuring dissection\, lionfish spines can remain venomous for some time after death\, depending on the temperature. Those handling lionfish must take extra precautions to avoid envenomation. \nBeyond their venomous characteristic\, the dorsal\, pelvic\, and anal spines of a lionfish are dangerous due to their needle-like sharpness. When managing both live and euthanized lionfish\, it is wise to wear puncture-resistant gloves to minimize the risk of envenomation. \nSymptoms of envenomation include pain and swelling in the affected area\, but severe cases may also involve sweating\, respiratory distress\, and even temporary paralysis. Puncture-resistant gloves from manufacturers like Hex Armor®\, TurtleSkin®\, and other specialized companies are specifically designed to prevent needle-stick and other industrial punctures. Heavy leather or canvas work gloves\, as well as latex or nitrile examination gloves\, are not adequate substitutes\, as lionfish spines can easily penetrate these materials. When using protective gear\, follow the manufacturer’s instructions and be aware of the protection area\, as some gloves may only offer protection in the palm and fingers. \nBefore starting the dissection (after recording weight and length measurements)\, the spines of the lionfish can be removed using a sharp pair of scissors or a knife. Trimming the spines at their base helps reduce the risk of envenomation. To prevent skin irritation from the non-venomous spines (such as opercular spines or cheek mail) on the lionfish’s head\, it is advisable to wear protective gloves made from nitrile\, latex\, or more durable rubber materials. \nSign up on their website\, link is below.
URL:https://funhomeschoolflorida.com/event/st-petersburg-lionfish-dissection-with-tampa-bay-watch/
LOCATION:Tampa Bay Watch Discovery Center\, 700 2nd Ave NE\, St. Petersburg\, FL\, 33071\, United States
CATEGORIES:Tampa Bay
ATTACH;FMTTYPE=image/jpeg:https://funhomeschoolflorida.com/wp-content/uploads/2026/02/FB_IMG_1772270297456.jpg
ORGANIZER;CN="Busy Bee Homeschool Hive":MAILTO:info@busybeehomeschoolhive.com
END:VEVENT
END:VCALENDAR