BEGIN:VCALENDAR
VERSION:2.0
PRODID:-// - ECPv6.15.20//NONSGML v1.0//EN
CALSCALE:GREGORIAN
METHOD:PUBLISH
X-ORIGINAL-URL:https://funhomeschoolflorida.com
X-WR-CALDESC:Events for 
REFRESH-INTERVAL;VALUE=DURATION:PT1H
X-Robots-Tag:noindex
X-PUBLISHED-TTL:PT1H
BEGIN:VTIMEZONE
TZID:America/New_York
BEGIN:DAYLIGHT
TZOFFSETFROM:-0500
TZOFFSETTO:-0400
TZNAME:EDT
DTSTART:20250309T070000
END:DAYLIGHT
BEGIN:STANDARD
TZOFFSETFROM:-0400
TZOFFSETTO:-0500
TZNAME:EST
DTSTART:20251102T060000
END:STANDARD
BEGIN:DAYLIGHT
TZOFFSETFROM:-0500
TZOFFSETTO:-0400
TZNAME:EDT
DTSTART:20260308T070000
END:DAYLIGHT
BEGIN:STANDARD
TZOFFSETFROM:-0400
TZOFFSETTO:-0500
TZNAME:EST
DTSTART:20261101T060000
END:STANDARD
BEGIN:DAYLIGHT
TZOFFSETFROM:-0500
TZOFFSETTO:-0400
TZNAME:EDT
DTSTART:20270314T070000
END:DAYLIGHT
BEGIN:STANDARD
TZOFFSETFROM:-0400
TZOFFSETTO:-0500
TZNAME:EST
DTSTART:20271107T060000
END:STANDARD
END:VTIMEZONE
BEGIN:VEVENT
DTSTART;TZID=America/New_York:20260226T163000
DTEND;TZID=America/New_York:20260226T173000
DTSTAMP:20260419T135231
CREATED:20260216T093638Z
LAST-MODIFIED:20260418T031814Z
UID:10002235-1772123400-1772127000@funhomeschoolflorida.com
SUMMARY:Teen Book Discussion: Legendborn
DESCRIPTION:Thursday\, February 26 \n4:30pm – 5:30pm \nThis event is for high schoolers. Event is cohost by teens. \n  \nTo discover the truth behind her mother’s mysterious death\, a teen girl infiltrates a magical secret society claiming to be the descendants of King Arthur and his knights”– Provided by publisher \n  \nAfter her mother dies in an accident\, Bree Matthews wants nothing to do with her family memories or childhood home. A residential program for bright high schoolers at UNC-Chapel Hill seems like the perfect escape– until Bree witnesses a magical attack her very first night on campus. A young mage who calls himself a ‘Merlin’ attempts– and fails– to wipe Bree’s memory of everything she saw. His failure unlocks Bree’s own unique magic and a buried memory with a hidden connection: the night her mother died\, another Merlin was at the hospital. Now she’ll do whatever it takes to find out the truth\, even if that means infiltrating the Legendborn as one of their initiates. Click here for a copy in catalog
URL:https://funhomeschoolflorida.com/event/teen-book-discussion-legendborn/
LOCATION:Sunrise Dan Pearl Branch\, 10500 West Oakland Park Boulevard\, Sunrise\, FL\, 33351\, United States
CATEGORIES:Broward County
ATTACH;FMTTYPE=image/jpeg:https://funhomeschoolflorida.com/wp-content/uploads/2026/02/Legendborn.jpg
END:VEVENT
BEGIN:VEVENT
DTSTART;TZID=America/New_York:20260224T170000
DTEND;TZID=America/New_York:20260224T180000
DTSTAMP:20260419T135231
CREATED:20260214T214501Z
LAST-MODIFIED:20260418T031815Z
UID:10002230-1771952400-1771956000@funhomeschoolflorida.com
SUMMARY:Teen STEAM Club
DESCRIPTION:Tuesday\, February 24 \n5:00pm – 6:00pm \nLearn about science with hands on experiments in the craft room with a teen host! *This event is for high schoolers and middle schoolers only.m
URL:https://funhomeschoolflorida.com/event/teen-steam-club/
LOCATION:Sunrise Dan Pearl Branch\, 10500 West Oakland Park Boulevard\, Sunrise\, FL\, 33351\, United States
CATEGORIES:Broward County
END:VEVENT
BEGIN:VEVENT
DTSTART;TZID=America/New_York:20260216T174500
DTEND;TZID=America/New_York:20260216T184500
DTSTAMP:20260419T135231
CREATED:20260216T194902Z
LAST-MODIFIED:20260418T031816Z
UID:10002240-1771263900-1771267500@funhomeschoolflorida.com
SUMMARY:DIY Teen Craft for Women's History Month
DESCRIPTION:Wednesday\, March 04 \n5:45pm – 6:45pm \nJoin the teen host in honor of Women’s History Month. Teen host will have a presentation on woman history before doing craft with attendees. \nRegister on their website\, link below
URL:https://funhomeschoolflorida.com/event/diy-teen-craft-for-womens-history-month/
LOCATION:Sunrise Dan Pearl Branch\, 10500 West Oakland Park Boulevard\, Sunrise\, FL\, 33351\, United States
CATEGORIES:Broward County
ATTACH;FMTTYPE=image/jpeg:https://funhomeschoolflorida.com/wp-content/uploads/2026/02/001-crafts-official.jpg
END:VEVENT
END:VCALENDAR