BEGIN:VCALENDAR
VERSION:2.0
PRODID:-// - ECPv6.15.20//NONSGML v1.0//EN
CALSCALE:GREGORIAN
METHOD:PUBLISH
X-ORIGINAL-URL:https://funhomeschoolflorida.com
X-WR-CALDESC:Events for 
REFRESH-INTERVAL;VALUE=DURATION:PT1H
X-Robots-Tag:noindex
X-PUBLISHED-TTL:PT1H
BEGIN:VTIMEZONE
TZID:America/New_York
BEGIN:DAYLIGHT
TZOFFSETFROM:-0500
TZOFFSETTO:-0400
TZNAME:EDT
DTSTART:20250309T070000
END:DAYLIGHT
BEGIN:STANDARD
TZOFFSETFROM:-0400
TZOFFSETTO:-0500
TZNAME:EST
DTSTART:20251102T060000
END:STANDARD
BEGIN:DAYLIGHT
TZOFFSETFROM:-0500
TZOFFSETTO:-0400
TZNAME:EDT
DTSTART:20260308T070000
END:DAYLIGHT
BEGIN:STANDARD
TZOFFSETFROM:-0400
TZOFFSETTO:-0500
TZNAME:EST
DTSTART:20261101T060000
END:STANDARD
BEGIN:DAYLIGHT
TZOFFSETFROM:-0500
TZOFFSETTO:-0400
TZNAME:EDT
DTSTART:20270314T070000
END:DAYLIGHT
BEGIN:STANDARD
TZOFFSETFROM:-0400
TZOFFSETTO:-0500
TZNAME:EST
DTSTART:20271107T060000
END:STANDARD
END:VTIMEZONE
BEGIN:VEVENT
DTSTART;TZID=America/New_York:20260421T141500
DTEND;TZID=America/New_York:20260421T151500
DTSTAMP:20260424T225142
CREATED:20260311T034654Z
LAST-MODIFIED:20260418T210925Z
UID:10003479-1776780900-1776784500@funhomeschoolflorida.com
SUMMARY:[Wesley Chapel] Homeschool Level 1 (co-ed Gymnastics) Suncoast Gymnastics Wesley Chapel
DESCRIPTION:Suncoast Gymnastics Wesley Chapel \nHomeschool Level 1 (co-ed Gymnastics) \nTue|2:15 PM – 3:15 PM \nSuncoast Gymnastics Wesley Chapel \n2441 Old Cypress Creek Rd \nLand O Lakes\, FL 34639
URL:https://funhomeschoolflorida.com/event/wesley-chapel-homeschool-level-1-co-ed-gymnastics-suncoast-gymnastics-wesley-chapel/2026-04-21/
LOCATION:Suncoast Gymnastics Wesley Chapel\, 2441 Old Cypress Creek Rd\, Land O Lakes\, FL\, 34639\, United States
CATEGORIES:Tampa Bay
ATTACH;FMTTYPE=image/png:https://funhomeschoolflorida.com/wp-content/uploads/2026/03/1692635624.f00edf02b723b7b23483d6ca116ab8a31251d1d9-1.png
END:VEVENT
BEGIN:VEVENT
DTSTART;TZID=America/New_York:20260414T141500
DTEND;TZID=America/New_York:20260414T151500
DTSTAMP:20260424T225142
CREATED:20260311T034654Z
LAST-MODIFIED:20260418T210925Z
UID:10003478-1776176100-1776179700@funhomeschoolflorida.com
SUMMARY:[Wesley Chapel] Homeschool Level 1 (co-ed Gymnastics) Suncoast Gymnastics Wesley Chapel
DESCRIPTION:Suncoast Gymnastics Wesley Chapel \nHomeschool Level 1 (co-ed Gymnastics) \nTue|2:15 PM – 3:15 PM \nSuncoast Gymnastics Wesley Chapel \n2441 Old Cypress Creek Rd \nLand O Lakes\, FL 34639
URL:https://funhomeschoolflorida.com/event/wesley-chapel-homeschool-level-1-co-ed-gymnastics-suncoast-gymnastics-wesley-chapel/2026-04-14/
LOCATION:Suncoast Gymnastics Wesley Chapel\, 2441 Old Cypress Creek Rd\, Land O Lakes\, FL\, 34639\, United States
CATEGORIES:Tampa Bay
ATTACH;FMTTYPE=image/png:https://funhomeschoolflorida.com/wp-content/uploads/2026/03/1692635624.f00edf02b723b7b23483d6ca116ab8a31251d1d9-1.png
END:VEVENT
BEGIN:VEVENT
DTSTART;TZID=America/New_York:20260407T141500
DTEND;TZID=America/New_York:20260407T151500
DTSTAMP:20260424T225142
CREATED:20260311T034654Z
LAST-MODIFIED:20260418T210925Z
UID:10003477-1775571300-1775574900@funhomeschoolflorida.com
SUMMARY:[Wesley Chapel] Homeschool Level 1 (co-ed Gymnastics) Suncoast Gymnastics Wesley Chapel
DESCRIPTION:Suncoast Gymnastics Wesley Chapel \nHomeschool Level 1 (co-ed Gymnastics) \nTue|2:15 PM – 3:15 PM \nSuncoast Gymnastics Wesley Chapel \n2441 Old Cypress Creek Rd \nLand O Lakes\, FL 34639
URL:https://funhomeschoolflorida.com/event/wesley-chapel-homeschool-level-1-co-ed-gymnastics-suncoast-gymnastics-wesley-chapel/2026-04-07/
LOCATION:Suncoast Gymnastics Wesley Chapel\, 2441 Old Cypress Creek Rd\, Land O Lakes\, FL\, 34639\, United States
CATEGORIES:Tampa Bay
ATTACH;FMTTYPE=image/png:https://funhomeschoolflorida.com/wp-content/uploads/2026/03/1692635624.f00edf02b723b7b23483d6ca116ab8a31251d1d9-1.png
END:VEVENT
BEGIN:VEVENT
DTSTART;TZID=America/New_York:20260331T141500
DTEND;TZID=America/New_York:20260331T151500
DTSTAMP:20260424T225142
CREATED:20260311T034654Z
LAST-MODIFIED:20260418T210925Z
UID:10003476-1774966500-1774970100@funhomeschoolflorida.com
SUMMARY:[Wesley Chapel] Homeschool Level 1 (co-ed Gymnastics) Suncoast Gymnastics Wesley Chapel
DESCRIPTION:Suncoast Gymnastics Wesley Chapel \nHomeschool Level 1 (co-ed Gymnastics) \nTue|2:15 PM – 3:15 PM \nSuncoast Gymnastics Wesley Chapel \n2441 Old Cypress Creek Rd \nLand O Lakes\, FL 34639
URL:https://funhomeschoolflorida.com/event/wesley-chapel-homeschool-level-1-co-ed-gymnastics-suncoast-gymnastics-wesley-chapel/2026-03-31/
LOCATION:Suncoast Gymnastics Wesley Chapel\, 2441 Old Cypress Creek Rd\, Land O Lakes\, FL\, 34639\, United States
CATEGORIES:Tampa Bay
ATTACH;FMTTYPE=image/png:https://funhomeschoolflorida.com/wp-content/uploads/2026/03/1692635624.f00edf02b723b7b23483d6ca116ab8a31251d1d9-1.png
END:VEVENT
BEGIN:VEVENT
DTSTART;TZID=America/New_York:20260324T141500
DTEND;TZID=America/New_York:20260324T151500
DTSTAMP:20260424T225142
CREATED:20260311T034654Z
LAST-MODIFIED:20260418T210925Z
UID:10003475-1774361700-1774365300@funhomeschoolflorida.com
SUMMARY:[Wesley Chapel] Homeschool Level 1 (co-ed Gymnastics) Suncoast Gymnastics Wesley Chapel
DESCRIPTION:Suncoast Gymnastics Wesley Chapel \nHomeschool Level 1 (co-ed Gymnastics) \nTue|2:15 PM – 3:15 PM \nSuncoast Gymnastics Wesley Chapel \n2441 Old Cypress Creek Rd \nLand O Lakes\, FL 34639
URL:https://funhomeschoolflorida.com/event/wesley-chapel-homeschool-level-1-co-ed-gymnastics-suncoast-gymnastics-wesley-chapel/2026-03-24/
LOCATION:Suncoast Gymnastics Wesley Chapel\, 2441 Old Cypress Creek Rd\, Land O Lakes\, FL\, 34639\, United States
CATEGORIES:Tampa Bay
ATTACH;FMTTYPE=image/png:https://funhomeschoolflorida.com/wp-content/uploads/2026/03/1692635624.f00edf02b723b7b23483d6ca116ab8a31251d1d9-1.png
END:VEVENT
BEGIN:VEVENT
DTSTART;TZID=America/New_York:20260317T141500
DTEND;TZID=America/New_York:20260317T151500
DTSTAMP:20260424T225142
CREATED:20260311T034654Z
LAST-MODIFIED:20260418T210925Z
UID:10003474-1773756900-1773760500@funhomeschoolflorida.com
SUMMARY:[Wesley Chapel] Homeschool Level 1 (co-ed Gymnastics) Suncoast Gymnastics Wesley Chapel
DESCRIPTION:Suncoast Gymnastics Wesley Chapel \nHomeschool Level 1 (co-ed Gymnastics) \nTue|2:15 PM – 3:15 PM \nSuncoast Gymnastics Wesley Chapel \n2441 Old Cypress Creek Rd \nLand O Lakes\, FL 34639
URL:https://funhomeschoolflorida.com/event/wesley-chapel-homeschool-level-1-co-ed-gymnastics-suncoast-gymnastics-wesley-chapel/2026-03-17/
LOCATION:Suncoast Gymnastics Wesley Chapel\, 2441 Old Cypress Creek Rd\, Land O Lakes\, FL\, 34639\, United States
CATEGORIES:Tampa Bay
ATTACH;FMTTYPE=image/png:https://funhomeschoolflorida.com/wp-content/uploads/2026/03/1692635624.f00edf02b723b7b23483d6ca116ab8a31251d1d9-1.png
END:VEVENT
BEGIN:VEVENT
DTSTART;TZID=America/New_York:20260310T141500
DTEND;TZID=America/New_York:20260310T151500
DTSTAMP:20260424T225142
CREATED:20260311T034654Z
LAST-MODIFIED:20260418T210925Z
UID:10003473-1773152100-1773155700@funhomeschoolflorida.com
SUMMARY:[Wesley Chapel] Homeschool Level 1 (co-ed Gymnastics) Suncoast Gymnastics Wesley Chapel
DESCRIPTION:Suncoast Gymnastics Wesley Chapel \nHomeschool Level 1 (co-ed Gymnastics) \nTue|2:15 PM – 3:15 PM \nSuncoast Gymnastics Wesley Chapel \n2441 Old Cypress Creek Rd \nLand O Lakes\, FL 34639
URL:https://funhomeschoolflorida.com/event/wesley-chapel-homeschool-level-1-co-ed-gymnastics-suncoast-gymnastics-wesley-chapel/2026-03-10/
LOCATION:Suncoast Gymnastics Wesley Chapel\, 2441 Old Cypress Creek Rd\, Land O Lakes\, FL\, 34639\, United States
CATEGORIES:Tampa Bay
ATTACH;FMTTYPE=image/png:https://funhomeschoolflorida.com/wp-content/uploads/2026/03/1692635624.f00edf02b723b7b23483d6ca116ab8a31251d1d9-1.png
END:VEVENT
END:VCALENDAR