BEGIN:VCALENDAR
VERSION:2.0
PRODID:-// - ECPv6.15.20//NONSGML v1.0//EN
CALSCALE:GREGORIAN
METHOD:PUBLISH
X-ORIGINAL-URL:https://funhomeschoolflorida.com
X-WR-CALDESC:Events for 
REFRESH-INTERVAL;VALUE=DURATION:PT1H
X-Robots-Tag:noindex
X-PUBLISHED-TTL:PT1H
BEGIN:VTIMEZONE
TZID:America/New_York
BEGIN:DAYLIGHT
TZOFFSETFROM:-0500
TZOFFSETTO:-0400
TZNAME:EDT
DTSTART:20250309T070000
END:DAYLIGHT
BEGIN:STANDARD
TZOFFSETFROM:-0400
TZOFFSETTO:-0500
TZNAME:EST
DTSTART:20251102T060000
END:STANDARD
BEGIN:DAYLIGHT
TZOFFSETFROM:-0500
TZOFFSETTO:-0400
TZNAME:EDT
DTSTART:20260308T070000
END:DAYLIGHT
BEGIN:STANDARD
TZOFFSETFROM:-0400
TZOFFSETTO:-0500
TZNAME:EST
DTSTART:20261101T060000
END:STANDARD
BEGIN:DAYLIGHT
TZOFFSETFROM:-0500
TZOFFSETTO:-0400
TZNAME:EDT
DTSTART:20270314T070000
END:DAYLIGHT
BEGIN:STANDARD
TZOFFSETFROM:-0400
TZOFFSETTO:-0500
TZNAME:EST
DTSTART:20271107T060000
END:STANDARD
END:VTIMEZONE
BEGIN:VEVENT
DTSTART;TZID=America/New_York:20260325T150000
DTEND;TZID=America/New_York:20260325T160000
DTSTAMP:20260419T101112
CREATED:20260221T211431Z
LAST-MODIFIED:20260221T232323Z
UID:10002258-1774450800-1774454400@funhomeschoolflorida.com
SUMMARY:Kate the Cat! A Seussical Family Event! All ages.
DESCRIPTION:Free \nWednesday\, March 25 \n3:00pm – 4:00pm \nJoin performer\, Suzy Hammer as ‘Kate the Cat’ for storytelling\, magic\, music\, and lots of laughter for the whole family!
URL:https://funhomeschoolflorida.com/event/kate-the-cat-a-seussical-family-event-all-ages/
LOCATION:South Regional/Broward College Library\, 7300 Pines Boulevard\, Pembroke Pines\, FL\, United States
CATEGORIES:Broward County
END:VEVENT
END:VCALENDAR