BEGIN:VCALENDAR
VERSION:2.0
PRODID:-// - ECPv6.15.20//NONSGML v1.0//EN
CALSCALE:GREGORIAN
METHOD:PUBLISH
X-ORIGINAL-URL:https://funhomeschoolflorida.com
X-WR-CALDESC:Events for 
REFRESH-INTERVAL;VALUE=DURATION:PT1H
X-Robots-Tag:noindex
X-PUBLISHED-TTL:PT1H
BEGIN:VTIMEZONE
TZID:America/New_York
BEGIN:DAYLIGHT
TZOFFSETFROM:-0500
TZOFFSETTO:-0400
TZNAME:EDT
DTSTART:20250309T070000
END:DAYLIGHT
BEGIN:STANDARD
TZOFFSETFROM:-0400
TZOFFSETTO:-0500
TZNAME:EST
DTSTART:20251102T060000
END:STANDARD
BEGIN:DAYLIGHT
TZOFFSETFROM:-0500
TZOFFSETTO:-0400
TZNAME:EDT
DTSTART:20260308T070000
END:DAYLIGHT
BEGIN:STANDARD
TZOFFSETFROM:-0400
TZOFFSETTO:-0500
TZNAME:EST
DTSTART:20261101T060000
END:STANDARD
BEGIN:DAYLIGHT
TZOFFSETFROM:-0500
TZOFFSETTO:-0400
TZNAME:EDT
DTSTART:20270314T070000
END:DAYLIGHT
BEGIN:STANDARD
TZOFFSETFROM:-0400
TZOFFSETTO:-0500
TZNAME:EST
DTSTART:20271107T060000
END:STANDARD
END:VTIMEZONE
BEGIN:VEVENT
DTSTART;TZID=America/New_York:20260331T100000
DTEND;TZID=America/New_York:20260331T114500
DTSTAMP:20260419T102138
CREATED:20260221T174008Z
LAST-MODIFIED:20260417T230203Z
UID:10002254-1774951200-1774957500@funhomeschoolflorida.com
SUMMARY:Sawgrass Nature Center Field Trip: Meet Animal Friends! Sponsored by Outschool
DESCRIPTION:Join us on March 31st at 10:00 AM for a field trip and presentation at the Sawgrass Nature Center in Coral Springs! \n10:00am-11:00am: Meet Your Animal Friends program \n11:00-11:45am: Tour of the facility \nThe Meet Your Animal Friends program involves 6 live animals that students can learn about. During this program\, the students will get to gently touch most of the animals that are brought while also learning about the habitats and adaptations specific to each animal. After the presentation\, students will get to take a tour of the facility. \n** \nAdmission for the first 20 kids and chaperones will be FREE courtesy of Outschool! \nIf you would like to attend but aren’t one of the first 20\, admission rates are $9.50/student and $5/chaperone. This event is first come\, first serve so it’s recommended to arrive a little early. \nLindsay will be present before and after the event to answer any questions about Outschool\, using FES/PEP funding with Outschool and with some coupons and raffles for attendees! \nHope to see you there!
URL:https://funhomeschoolflorida.com/event/sawgrass-nature-center-field-trip-meet-animal-friends-sponsored-by-outschool/
LOCATION:Sawgrass Nature Center\, 3000 Sportsplex Dr\, Coral Springs\, FL\, 33065\, United States
CATEGORIES:Broward County
ATTACH;FMTTYPE=image/jpeg:https://funhomeschoolflorida.com/wp-content/uploads/2026/02/FB_IMG_1771694675894.jpg
END:VEVENT
END:VCALENDAR