BEGIN:VCALENDAR
VERSION:2.0
PRODID:-// - ECPv6.15.20//NONSGML v1.0//EN
CALSCALE:GREGORIAN
METHOD:PUBLISH
X-ORIGINAL-URL:https://funhomeschoolflorida.com
X-WR-CALDESC:Events for 
REFRESH-INTERVAL;VALUE=DURATION:PT1H
X-Robots-Tag:noindex
X-PUBLISHED-TTL:PT1H
BEGIN:VTIMEZONE
TZID:America/New_York
BEGIN:DAYLIGHT
TZOFFSETFROM:-0500
TZOFFSETTO:-0400
TZNAME:EDT
DTSTART:20250309T070000
END:DAYLIGHT
BEGIN:STANDARD
TZOFFSETFROM:-0400
TZOFFSETTO:-0500
TZNAME:EST
DTSTART:20251102T060000
END:STANDARD
BEGIN:DAYLIGHT
TZOFFSETFROM:-0500
TZOFFSETTO:-0400
TZNAME:EDT
DTSTART:20260308T070000
END:DAYLIGHT
BEGIN:STANDARD
TZOFFSETFROM:-0400
TZOFFSETTO:-0500
TZNAME:EST
DTSTART:20261101T060000
END:STANDARD
BEGIN:DAYLIGHT
TZOFFSETFROM:-0500
TZOFFSETTO:-0400
TZNAME:EDT
DTSTART:20270314T070000
END:DAYLIGHT
BEGIN:STANDARD
TZOFFSETFROM:-0400
TZOFFSETTO:-0500
TZNAME:EST
DTSTART:20271107T060000
END:STANDARD
END:VTIMEZONE
BEGIN:VEVENT
DTSTART;TZID=America/New_York:20260414T100000
DTEND;TZID=America/New_York:20260414T120000
DTSTAMP:20260419T100743
CREATED:20260113T015005Z
LAST-MODIFIED:20260415T032716Z
UID:10000967-1776160800-1776168000@funhomeschoolflorida.com
SUMMARY:Project Rock: Homeschoolers
DESCRIPTION:Home Schoolers: \nCome c\,limb with a guide. During this 2 hour period of time you will be provided with all of the gear and instruction to get to the top of the routes and progress on a path of learning new skills both physically and mentally. On a 1 to 5 guide to climber ratio\, guides will take the kids through the art of climbing routes up to 60 feet tall. The cost for this class is $25 if using the projectROCK team to belay\, or $13 if parent belays for their child. \n**Parents\, want to learn to belay? Sign up with James for a lesson\, for $13 during Homeschool Tuesday \nNo pre-registration required. Pay in person @ Project Rock. \nClasses every 1st & 3rd Tuesday \nDates for homeschool classes: \nJanuary 6th and 20th \nFebruary 3rd and 17th \nMarch 3rd and 17th \nApril 7th and 21st \nMay 5th and 19th
URL:https://funhomeschoolflorida.com/event/project-rock-homeschoolers/2026-04-14/
LOCATION:Project Rock\, 3580 N Andrews Ave\, Oakland Park\, FL\, 33309\, United States
CATEGORIES:Broward County
ATTACH;FMTTYPE=image/png:https://funhomeschoolflorida.com/wp-content/uploads/2026/01/projectrock-logo.png
END:VEVENT
BEGIN:VEVENT
DTSTART;TZID=America/New_York:20260331T100000
DTEND;TZID=America/New_York:20260331T120000
DTSTAMP:20260419T100743
CREATED:20260113T015005Z
LAST-MODIFIED:20260415T032716Z
UID:10000966-1774951200-1774958400@funhomeschoolflorida.com
SUMMARY:Project Rock: Homeschoolers
DESCRIPTION:Home Schoolers: \nCome c\,limb with a guide. During this 2 hour period of time you will be provided with all of the gear and instruction to get to the top of the routes and progress on a path of learning new skills both physically and mentally. On a 1 to 5 guide to climber ratio\, guides will take the kids through the art of climbing routes up to 60 feet tall. The cost for this class is $25 if using the projectROCK team to belay\, or $13 if parent belays for their child. \n**Parents\, want to learn to belay? Sign up with James for a lesson\, for $13 during Homeschool Tuesday \nNo pre-registration required. Pay in person @ Project Rock. \nClasses every 1st & 3rd Tuesday \nDates for homeschool classes: \nJanuary 6th and 20th \nFebruary 3rd and 17th \nMarch 3rd and 17th \nApril 7th and 21st \nMay 5th and 19th
URL:https://funhomeschoolflorida.com/event/project-rock-homeschoolers/2026-03-31/
LOCATION:Project Rock\, 3580 N Andrews Ave\, Oakland Park\, FL\, 33309\, United States
CATEGORIES:Broward County
ATTACH;FMTTYPE=image/png:https://funhomeschoolflorida.com/wp-content/uploads/2026/01/projectrock-logo.png
END:VEVENT
BEGIN:VEVENT
DTSTART;TZID=America/New_York:20260317T100000
DTEND;TZID=America/New_York:20260317T120000
DTSTAMP:20260419T100743
CREATED:20260113T015005Z
LAST-MODIFIED:20260415T032716Z
UID:10000965-1773741600-1773748800@funhomeschoolflorida.com
SUMMARY:Project Rock: Homeschoolers
DESCRIPTION:Home Schoolers: \nCome c\,limb with a guide. During this 2 hour period of time you will be provided with all of the gear and instruction to get to the top of the routes and progress on a path of learning new skills both physically and mentally. On a 1 to 5 guide to climber ratio\, guides will take the kids through the art of climbing routes up to 60 feet tall. The cost for this class is $25 if using the projectROCK team to belay\, or $13 if parent belays for their child. \n**Parents\, want to learn to belay? Sign up with James for a lesson\, for $13 during Homeschool Tuesday \nNo pre-registration required. Pay in person @ Project Rock. \nClasses every 1st & 3rd Tuesday \nDates for homeschool classes: \nJanuary 6th and 20th \nFebruary 3rd and 17th \nMarch 3rd and 17th \nApril 7th and 21st \nMay 5th and 19th
URL:https://funhomeschoolflorida.com/event/project-rock-homeschoolers/2026-03-17/
LOCATION:Project Rock\, 3580 N Andrews Ave\, Oakland Park\, FL\, 33309\, United States
CATEGORIES:Broward County
ATTACH;FMTTYPE=image/png:https://funhomeschoolflorida.com/wp-content/uploads/2026/01/projectrock-logo.png
END:VEVENT
BEGIN:VEVENT
DTSTART;TZID=America/New_York:20260303T100000
DTEND;TZID=America/New_York:20260303T120000
DTSTAMP:20260419T100743
CREATED:20260113T015005Z
LAST-MODIFIED:20260415T032716Z
UID:10000964-1772532000-1772539200@funhomeschoolflorida.com
SUMMARY:Project Rock: Homeschoolers
DESCRIPTION:Home Schoolers: \nCome c\,limb with a guide. During this 2 hour period of time you will be provided with all of the gear and instruction to get to the top of the routes and progress on a path of learning new skills both physically and mentally. On a 1 to 5 guide to climber ratio\, guides will take the kids through the art of climbing routes up to 60 feet tall. The cost for this class is $25 if using the projectROCK team to belay\, or $13 if parent belays for their child. \n**Parents\, want to learn to belay? Sign up with James for a lesson\, for $13 during Homeschool Tuesday \nNo pre-registration required. Pay in person @ Project Rock. \nClasses every 1st & 3rd Tuesday \nDates for homeschool classes: \nJanuary 6th and 20th \nFebruary 3rd and 17th \nMarch 3rd and 17th \nApril 7th and 21st \nMay 5th and 19th
URL:https://funhomeschoolflorida.com/event/project-rock-homeschoolers/2026-03-03/
LOCATION:Project Rock\, 3580 N Andrews Ave\, Oakland Park\, FL\, 33309\, United States
CATEGORIES:Broward County
ATTACH;FMTTYPE=image/png:https://funhomeschoolflorida.com/wp-content/uploads/2026/01/projectrock-logo.png
END:VEVENT
BEGIN:VEVENT
DTSTART;TZID=America/New_York:20260217T100000
DTEND;TZID=America/New_York:20260217T120000
DTSTAMP:20260419T100743
CREATED:20260113T015005Z
LAST-MODIFIED:20260415T032716Z
UID:10000963-1771322400-1771329600@funhomeschoolflorida.com
SUMMARY:Project Rock: Homeschoolers
DESCRIPTION:Home Schoolers: \nCome c\,limb with a guide. During this 2 hour period of time you will be provided with all of the gear and instruction to get to the top of the routes and progress on a path of learning new skills both physically and mentally. On a 1 to 5 guide to climber ratio\, guides will take the kids through the art of climbing routes up to 60 feet tall. The cost for this class is $25 if using the projectROCK team to belay\, or $13 if parent belays for their child. \n**Parents\, want to learn to belay? Sign up with James for a lesson\, for $13 during Homeschool Tuesday \nNo pre-registration required. Pay in person @ Project Rock. \nClasses every 1st & 3rd Tuesday \nDates for homeschool classes: \nJanuary 6th and 20th \nFebruary 3rd and 17th \nMarch 3rd and 17th \nApril 7th and 21st \nMay 5th and 19th
URL:https://funhomeschoolflorida.com/event/project-rock-homeschoolers/2026-02-17/
LOCATION:Project Rock\, 3580 N Andrews Ave\, Oakland Park\, FL\, 33309\, United States
CATEGORIES:Broward County
ATTACH;FMTTYPE=image/png:https://funhomeschoolflorida.com/wp-content/uploads/2026/01/projectrock-logo.png
END:VEVENT
BEGIN:VEVENT
DTSTART;TZID=America/New_York:20260203T100000
DTEND;TZID=America/New_York:20260203T120000
DTSTAMP:20260419T100743
CREATED:20260113T015005Z
LAST-MODIFIED:20260415T032716Z
UID:10000962-1770112800-1770120000@funhomeschoolflorida.com
SUMMARY:Project Rock: Homeschoolers
DESCRIPTION:Home Schoolers: \nCome c\,limb with a guide. During this 2 hour period of time you will be provided with all of the gear and instruction to get to the top of the routes and progress on a path of learning new skills both physically and mentally. On a 1 to 5 guide to climber ratio\, guides will take the kids through the art of climbing routes up to 60 feet tall. The cost for this class is $25 if using the projectROCK team to belay\, or $13 if parent belays for their child. \n**Parents\, want to learn to belay? Sign up with James for a lesson\, for $13 during Homeschool Tuesday \nNo pre-registration required. Pay in person @ Project Rock. \nClasses every 1st & 3rd Tuesday \nDates for homeschool classes: \nJanuary 6th and 20th \nFebruary 3rd and 17th \nMarch 3rd and 17th \nApril 7th and 21st \nMay 5th and 19th
URL:https://funhomeschoolflorida.com/event/project-rock-homeschoolers/2026-02-03/
LOCATION:Project Rock\, 3580 N Andrews Ave\, Oakland Park\, FL\, 33309\, United States
CATEGORIES:Broward County
ATTACH;FMTTYPE=image/png:https://funhomeschoolflorida.com/wp-content/uploads/2026/01/projectrock-logo.png
END:VEVENT
BEGIN:VEVENT
DTSTART;TZID=America/New_York:20260120T100000
DTEND;TZID=America/New_York:20260120T120000
DTSTAMP:20260419T100743
CREATED:20260113T015005Z
LAST-MODIFIED:20260415T032716Z
UID:10000961-1768903200-1768910400@funhomeschoolflorida.com
SUMMARY:Project Rock: Homeschoolers
DESCRIPTION:Home Schoolers: \nCome c\,limb with a guide. During this 2 hour period of time you will be provided with all of the gear and instruction to get to the top of the routes and progress on a path of learning new skills both physically and mentally. On a 1 to 5 guide to climber ratio\, guides will take the kids through the art of climbing routes up to 60 feet tall. The cost for this class is $25 if using the projectROCK team to belay\, or $13 if parent belays for their child. \n**Parents\, want to learn to belay? Sign up with James for a lesson\, for $13 during Homeschool Tuesday \nNo pre-registration required. Pay in person @ Project Rock. \nClasses every 1st & 3rd Tuesday \nDates for homeschool classes: \nJanuary 6th and 20th \nFebruary 3rd and 17th \nMarch 3rd and 17th \nApril 7th and 21st \nMay 5th and 19th
URL:https://funhomeschoolflorida.com/event/project-rock-homeschoolers/2026-01-20/
LOCATION:Project Rock\, 3580 N Andrews Ave\, Oakland Park\, FL\, 33309\, United States
CATEGORIES:Broward County
ATTACH;FMTTYPE=image/png:https://funhomeschoolflorida.com/wp-content/uploads/2026/01/projectrock-logo.png
END:VEVENT
END:VCALENDAR