BEGIN:VCALENDAR
VERSION:2.0
PRODID:-// - ECPv6.15.20//NONSGML v1.0//EN
CALSCALE:GREGORIAN
METHOD:PUBLISH
X-ORIGINAL-URL:https://funhomeschoolflorida.com
X-WR-CALDESC:Events for 
REFRESH-INTERVAL;VALUE=DURATION:PT1H
X-Robots-Tag:noindex
X-PUBLISHED-TTL:PT1H
BEGIN:VTIMEZONE
TZID:America/New_York
BEGIN:DAYLIGHT
TZOFFSETFROM:-0500
TZOFFSETTO:-0400
TZNAME:EDT
DTSTART:20250309T070000
END:DAYLIGHT
BEGIN:STANDARD
TZOFFSETFROM:-0400
TZOFFSETTO:-0500
TZNAME:EST
DTSTART:20251102T060000
END:STANDARD
BEGIN:DAYLIGHT
TZOFFSETFROM:-0500
TZOFFSETTO:-0400
TZNAME:EDT
DTSTART:20260308T070000
END:DAYLIGHT
BEGIN:STANDARD
TZOFFSETFROM:-0400
TZOFFSETTO:-0500
TZNAME:EST
DTSTART:20261101T060000
END:STANDARD
BEGIN:DAYLIGHT
TZOFFSETFROM:-0500
TZOFFSETTO:-0400
TZNAME:EDT
DTSTART:20270314T070000
END:DAYLIGHT
BEGIN:STANDARD
TZOFFSETFROM:-0400
TZOFFSETTO:-0500
TZNAME:EST
DTSTART:20271107T060000
END:STANDARD
END:VTIMEZONE
BEGIN:VEVENT
DTSTART;TZID=America/New_York:20260428T160000
DTEND;TZID=America/New_York:20260428T170000
DTSTAMP:20260419T101147
CREATED:20260328T151618Z
LAST-MODIFIED:20260417T223502Z
UID:10003885-1777392000-1777395600@funhomeschoolflorida.com
SUMMARY:FREE Kids' Art Studio
DESCRIPTION:Tuesday\, April 28 \n4:00pm – 4:45pm \nDrop in and use your creativity to make a new piece of art! \nEvery month\, discover a new art form and experiment with different materials. This program is self-guided to encourage creative exploration. Recommended for children ages 6-12; siblings welcome with caregiver. Limited capacity; pre-registration recommended for each child attending the program.
URL:https://funhomeschoolflorida.com/event/free-kids-art-studio/
LOCATION:Nova Southeastern University Alvin Sherman Library\, Research and Information Technology Center\, 3100 Ray Ferrero Junior Boulevard\, Fort Lauderdale\, FL\, 33314\, United States
CATEGORIES:Broward County
END:VEVENT
BEGIN:VEVENT
DTSTART;TZID=America/New_York:20260504T160000
DTEND;TZID=America/New_York:20260504T170000
DTSTAMP:20260419T101147
CREATED:20260328T151022Z
LAST-MODIFIED:20260417T223501Z
UID:10003884-1777910400-1777914000@funhomeschoolflorida.com
SUMMARY:FREE Trivia Bingo @ Nova Southeastern University Alvin Sherman Library\, Research and Information Technology Center
DESCRIPTION:Free \nTrivia Bingo \nNova Southeastern University Alvin Sherman Library\, Research and Information Technology Center \nMonday\, May 04 \n4:00pm – 5:00pm \nJoin us for out of this world trivia testing your knowledge of the films\, characters\, planets\, and iconic moments from across the galaxy far\, far away. \nWhether you’re an Apprentice or a Master\, all fans are welcome to join the fun! Prizes will be awarded to top scorers. \nPlease register through their website\, link below.
URL:https://funhomeschoolflorida.com/event/free-trivia-bingo-nova-southeastern-university-alvin-sherman-library-research-and-information-technology-center/
LOCATION:Nova Southeastern University Alvin Sherman Library\, Research and Information Technology Center\, 3100 Ray Ferrero Junior Boulevard\, Fort Lauderdale\, FL\, 33314\, United States
CATEGORIES:Broward County
ATTACH;FMTTYPE=image/png:https://funhomeschoolflorida.com/wp-content/uploads/2026/03/NV_StarwarsTrivia2.png
END:VEVENT
END:VCALENDAR