BEGIN:VCALENDAR
VERSION:2.0
PRODID:-// - ECPv6.15.20//NONSGML v1.0//EN
CALSCALE:GREGORIAN
METHOD:PUBLISH
X-ORIGINAL-URL:https://funhomeschoolflorida.com
X-WR-CALDESC:Events for 
REFRESH-INTERVAL;VALUE=DURATION:PT1H
X-Robots-Tag:noindex
X-PUBLISHED-TTL:PT1H
BEGIN:VTIMEZONE
TZID:America/New_York
BEGIN:DAYLIGHT
TZOFFSETFROM:-0500
TZOFFSETTO:-0400
TZNAME:EDT
DTSTART:20250309T070000
END:DAYLIGHT
BEGIN:STANDARD
TZOFFSETFROM:-0400
TZOFFSETTO:-0500
TZNAME:EST
DTSTART:20251102T060000
END:STANDARD
BEGIN:DAYLIGHT
TZOFFSETFROM:-0500
TZOFFSETTO:-0400
TZNAME:EDT
DTSTART:20260308T070000
END:DAYLIGHT
BEGIN:STANDARD
TZOFFSETFROM:-0400
TZOFFSETTO:-0500
TZNAME:EST
DTSTART:20261101T060000
END:STANDARD
BEGIN:DAYLIGHT
TZOFFSETFROM:-0500
TZOFFSETTO:-0400
TZNAME:EDT
DTSTART:20270314T070000
END:DAYLIGHT
BEGIN:STANDARD
TZOFFSETFROM:-0400
TZOFFSETTO:-0500
TZNAME:EST
DTSTART:20271107T060000
END:STANDARD
END:VTIMEZONE
BEGIN:VEVENT
DTSTART;TZID=America/New_York:20260409T160000
DTEND;TZID=America/New_York:20260409T170000
DTSTAMP:20260419T102242
CREATED:20260324T100112Z
LAST-MODIFIED:20260417T225413Z
UID:10003782-1775750400-1775754000@funhomeschoolflorida.com
SUMMARY:FREE South Florida Chamber Ensemble Science 2.0 Ages K-5
DESCRIPTION:South Florida Chamber Ensemble Science 2.0 \nAges K-5 \nThursday\, April 9th & May 14 \n4:00pm – 5:00pm \nNorthwest Regional Library \nInteractive educational initiative that uses arts and sports to teach science and math concepts through a series of hands on experiments for ages K-5. \nThe South Florida Chamber Ensemble’s Science 2.0 program is an interactive educational initiative that uses arts and sports to teach science and math concepts through a series of hands on experiments. It is designed to address learning gaps and encourage participation in scientific fields. It also promotes literacy through the use of math word problems. All materials for the program will be provided. \nRegistration is required.
URL:https://funhomeschoolflorida.com/event/free-south-florida-chamber-ensemble-science-2-0-ages-k-5/2026-04-09/
LOCATION:Northwest Regional Library\, 3151 North University Drive\, Coral Springs\, FL\, 33065\, United States
CATEGORIES:Broward County
ATTACH;FMTTYPE=image/jpeg:https://funhomeschoolflorida.com/wp-content/uploads/2026/03/northwest_regional.jpg
END:VEVENT
BEGIN:VEVENT
DTSTART;TZID=America/New_York:20260312T160000
DTEND;TZID=America/New_York:20260312T170000
DTSTAMP:20260419T102242
CREATED:20260221T205513Z
LAST-MODIFIED:20260417T151630Z
UID:10002255-1773331200-1773334800@funhomeschoolflorida.com
SUMMARY:South Florida Chamber Ensemble Science 2.0
DESCRIPTION:Free \nThursday\, March 12 \n4:00pm – 5:00pm \nInteractive educational initiative that uses arts and sports to teach science and math concepts through a series of hands on experiments for ages K-5. \nThe South Florida Chamber Ensemble’s Science 2.0 program is an interactive educational initiative that uses arts and sports to teach science and math concepts through a series of hands on experiments. It is designed to address learning gaps and encourage participation in scientific fields. It also promotes literacy through the use of math word problems. All materials for the program will be provided. \nRegistration is required.
URL:https://funhomeschoolflorida.com/event/south-florida-chamber-ensemble-science-2-0/
LOCATION:Northwest Regional Library\, 3151 North University Drive\, Coral Springs\, FL\, 33065\, United States
CATEGORIES:Broward County
ATTACH;FMTTYPE=image/png:https://funhomeschoolflorida.com/wp-content/uploads/2026/02/NV_STEM_2023.png
END:VEVENT
BEGIN:VEVENT
DTSTART;TZID=America/New_York:20260223T144000
DTEND;TZID=America/New_York:20260223T160000
DTSTAMP:20260419T102242
CREATED:20260214T205353Z
LAST-MODIFIED:20260418T031815Z
UID:10002227-1771857600-1771862400@funhomeschoolflorida.com
SUMMARY:Afterschool Teen hang-out in the Living Room
DESCRIPTION:Monday\, February 23 \n2:40pm – 4:00pm \nVideogames\, entertainment\, and space to chill or engage. \n  \nHang out after school in the Living Room. Select and play a videogame–multiple choices are available daily on multiple screens. Play corn hole or a puzzle. Or\, spend time with friends in a fun\, friendly environment.
URL:https://funhomeschoolflorida.com/event/afterschool-teen-hang-out-in-the-living-room/
LOCATION:Northwest Regional Library\, 3151 North University Drive\, Coral Springs\, FL\, 33065\, United States
CATEGORIES:Broward County
END:VEVENT
BEGIN:VEVENT
DTSTART;TZID=America/New_York:20260218T163000
DTEND;TZID=America/New_York:20260218T171500
DTSTAMP:20260419T102242
CREATED:20260212T022752Z
LAST-MODIFIED:20260418T031943Z
UID:10002212-1771432200-1771434900@funhomeschoolflorida.com
SUMMARY:Gotta Dance! FREE workshop
DESCRIPTION:Free \nWednesday\, February 18 \n4:30pm – 5:15pm \nIntroduce your child to musical theater at GOTTA DANCE! workshops presented by the Broward Center for the Performing Arts at the Northwest Regional Library. \n  \nLed by Broward Center teaching artist\, Nia Bourne\, children learn basic dance steps\, stage directions\, and theater terminology – all in a fun\, supportive environment that encourages creativity and confidence. This 8-week workshop begins January 7. All levels welcome. \n  \nNia Bourne: Nia Bourne holds a BFA in Musical Theatre and a minor in Dance from Point Park University. She has appeared in national tours and regional productions\, including Nickelodeon’s Paw Patrol Live! and Beautiful. Passionate about arts education\, Nia creates a safe\, engaging space for students with a focus on musical theatre performance and movement. \n  \nMust register on their website\, link is below.
URL:https://funhomeschoolflorida.com/event/gotta-dance-free-workshop/
LOCATION:Northwest Regional Library\, 3151 North University Drive\, Coral Springs\, FL\, 33065\, United States
CATEGORIES:Broward County
ATTACH;FMTTYPE=image/jpeg:https://funhomeschoolflorida.com/wp-content/uploads/2026/02/8057-Flyer-for-Gotta-Dance-Workshop-7_5-wide-REV.jpg
END:VEVENT
END:VCALENDAR