BEGIN:VCALENDAR
VERSION:2.0
PRODID:-// - ECPv6.15.20//NONSGML v1.0//EN
CALSCALE:GREGORIAN
METHOD:PUBLISH
X-ORIGINAL-URL:https://funhomeschoolflorida.com
X-WR-CALDESC:Events for 
REFRESH-INTERVAL;VALUE=DURATION:PT1H
X-Robots-Tag:noindex
X-PUBLISHED-TTL:PT1H
BEGIN:VTIMEZONE
TZID:America/New_York
BEGIN:DAYLIGHT
TZOFFSETFROM:-0500
TZOFFSETTO:-0400
TZNAME:EDT
DTSTART:20250309T070000
END:DAYLIGHT
BEGIN:STANDARD
TZOFFSETFROM:-0400
TZOFFSETTO:-0500
TZNAME:EST
DTSTART:20251102T060000
END:STANDARD
BEGIN:DAYLIGHT
TZOFFSETFROM:-0500
TZOFFSETTO:-0400
TZNAME:EDT
DTSTART:20260308T070000
END:DAYLIGHT
BEGIN:STANDARD
TZOFFSETFROM:-0400
TZOFFSETTO:-0500
TZNAME:EST
DTSTART:20261101T060000
END:STANDARD
BEGIN:DAYLIGHT
TZOFFSETFROM:-0500
TZOFFSETTO:-0400
TZNAME:EDT
DTSTART:20270314T070000
END:DAYLIGHT
BEGIN:STANDARD
TZOFFSETFROM:-0400
TZOFFSETTO:-0500
TZNAME:EST
DTSTART:20271107T060000
END:STANDARD
END:VTIMEZONE
BEGIN:VEVENT
DTSTART;TZID=America/New_York:20260428T120000
DTEND;TZID=America/New_York:20260428T130000
DTSTAMP:20260419T082037
CREATED:20260115T110314Z
LAST-MODIFIED:20260417T223356Z
UID:10001029-1777377600-1777381200@funhomeschoolflorida.com
SUMMARY:YEA Homeschool Program- Healing Herbs
DESCRIPTION:Students will explore the world of medicinal plants by learning how to identify common healing herbs native or commonly grown in Florida. They will discover how these plants have been used for centuries to support wellness. Through hands-on activities\, they will create simple herbal products such as tinctures\, infusions\, and salves\, while learning about plant parts\, life cycles\, and the chemistry behind natural remedies. \nApr 28\, 2026\, 12:00 PM – 1:00 PM @ North Lauderdale Saraniero Branch \nPlease register and pay through their website. \n$25 [Self-Pay or Step Up Direct Bill]
URL:https://funhomeschoolflorida.com/event/yea-homeschool-program-healing-herbs/
LOCATION:North Lauderdale Saraniero Branch\, 6901 Kimberly Boulevard\, North Lauderdale\, FL\, 33068\, United States
CATEGORIES:Broward County
ATTACH;FMTTYPE=image/png:https://funhomeschoolflorida.com/wp-content/uploads/2026/01/6c1267_edee46f3c1ca4bcba2fb33d8010c9ec7mv2.png
END:VEVENT
BEGIN:VEVENT
DTSTART;TZID=America/New_York:20260526T130000
DTEND;TZID=America/New_York:20260526T140000
DTSTAMP:20260419T082037
CREATED:20260115T110928Z
LAST-MODIFIED:20260417T223355Z
UID:10001030-1779800400-1779804000@funhomeschoolflorida.com
SUMMARY:YEA Homeschool Class- Wonderful World of Wiggly Worms
DESCRIPTION:In this interactive science lesson\, students will become “Oligochaetologists” — scientists who study worms. They will explore the important role worms play as decomposers in the environment\, learn about symbiosis and different types of relationships between living things\, and discover how worms help us by recycling nutrients through composting. Students will engage in movement activities\, observation\, sorting games\, and discussion to deepen their understanding of ecology\, sustainability\, and the interconnectedness of life. \nMay 26\, 2026\, 1:00 PM – 2:00 PM @ North Lauderdale Saraniero Branch \nPlease register and pay through their website. \n$25 [Self-Pay or Step Up Direct Bill]
URL:https://funhomeschoolflorida.com/event/yea-homeschool-class-wonderful-world-of-wiggly-worms/
LOCATION:North Lauderdale Saraniero Branch\, 6901 Kimberly Boulevard\, North Lauderdale\, FL\, 33068\, United States
CATEGORIES:Broward County
ATTACH;FMTTYPE=image/png:https://funhomeschoolflorida.com/wp-content/uploads/2026/01/6c1267_01cf69063a9648028c01abf460db1b7emv2.png
END:VEVENT
END:VCALENDAR