BEGIN:VCALENDAR
VERSION:2.0
PRODID:-// - ECPv6.15.20//NONSGML v1.0//EN
CALSCALE:GREGORIAN
METHOD:PUBLISH
X-ORIGINAL-URL:https://funhomeschoolflorida.com
X-WR-CALDESC:Events for 
REFRESH-INTERVAL;VALUE=DURATION:PT1H
X-Robots-Tag:noindex
X-PUBLISHED-TTL:PT1H
BEGIN:VTIMEZONE
TZID:America/New_York
BEGIN:DAYLIGHT
TZOFFSETFROM:-0500
TZOFFSETTO:-0400
TZNAME:EDT
DTSTART:20250309T070000
END:DAYLIGHT
BEGIN:STANDARD
TZOFFSETFROM:-0400
TZOFFSETTO:-0500
TZNAME:EST
DTSTART:20251102T060000
END:STANDARD
BEGIN:DAYLIGHT
TZOFFSETFROM:-0500
TZOFFSETTO:-0400
TZNAME:EDT
DTSTART:20260308T070000
END:DAYLIGHT
BEGIN:STANDARD
TZOFFSETFROM:-0400
TZOFFSETTO:-0500
TZNAME:EST
DTSTART:20261101T060000
END:STANDARD
BEGIN:DAYLIGHT
TZOFFSETFROM:-0500
TZOFFSETTO:-0400
TZNAME:EDT
DTSTART:20270314T070000
END:DAYLIGHT
BEGIN:STANDARD
TZOFFSETFROM:-0400
TZOFFSETTO:-0500
TZNAME:EST
DTSTART:20271107T060000
END:STANDARD
END:VTIMEZONE
BEGIN:VEVENT
DTSTART;TZID=America/New_York:20260408T150000
DTEND;TZID=America/New_York:20260408T160000
DTSTAMP:20260419T101111
CREATED:20260327T174625Z
LAST-MODIFIED:20260417T225414Z
UID:10003871-1775660400-1775664000@funhomeschoolflorida.com
SUMMARY:STEAM Fun. Ages 7-11
DESCRIPTION:Wednesday\, April 8th \n3:00pm -4:00pm \nJoin us working on basic STEAM related projects. Registration recommended. \nJoin us as we explore STEAM concepts with awesome activities\, excellent experiments\, and cool crafts. Recommended for ages 7-11. \nClass size is limited; registration is recommended for each session. \nThis program is funded by the Friends of North Lauderdale Library.
URL:https://funhomeschoolflorida.com/event/steam-fun-ages-7-11-2/
LOCATION:North Lauderdale Saraniero Branch\, 6901 Kimberly Boulevard\, North Lauderdale\, FL\, 33068\, United States
CATEGORIES:Broward County
END:VEVENT
BEGIN:VEVENT
DTSTART;TZID=America/New_York:20260326T153000
DTEND;TZID=America/New_York:20260326T163000
DTSTAMP:20260419T101111
CREATED:20260221T210438Z
LAST-MODIFIED:20260417T225414Z
UID:10002257-1774539000-1774542600@funhomeschoolflorida.com
SUMMARY:Crafts for Teens: Jewelry Making
DESCRIPTION:Free \nThursday\, March 26 \n3:30pm – 4:30pm \nLet’s get creative! Make a unique piece of jewelry with a variety of colorful beads. \nNo jewelry making skills required. For ages 12 and up
URL:https://funhomeschoolflorida.com/event/crafts-for-teens-jewelry-making/
LOCATION:North Lauderdale Saraniero Branch\, 6901 Kimberly Boulevard\, North Lauderdale\, FL\, 33068\, United States
CATEGORIES:Broward County
END:VEVENT
BEGIN:VEVENT
DTSTART;TZID=America/New_York:20260324T130000
DTEND;TZID=America/New_York:20260324T140000
DTSTAMP:20260419T101111
CREATED:20260115T105748Z
LAST-MODIFIED:20260221T232323Z
UID:10001028-1774357200-1774360800@funhomeschoolflorida.com
SUMMARY:YEA Homeschool Program- Cellular Celebrations
DESCRIPTION:Students will explore the structure and function of plant and animal cells through observation\, comparison\, and modeling activities. \nBy the end of the lesson\, students will be able to: \n1. Identify basic cell parts (organelles) and their functions. \n2. Compare plant and animal cell structures using observations and drawings. \n3. Model how a cell functions by comparing it to parts of a home. \n4. Explain how structure relates to function within both plant and animal cells. \n5. Demonstrate understanding through matching\, drawing\, and storytelling \nMar 24\, 2026\, 1:00 PM – 2:00 PM @ North Lauderdale Saraniero Branch \nPlease register and pay through their website. \n$25 [Self-Pay or Step Up Direct Bill]
URL:https://funhomeschoolflorida.com/event/yea-homeschool-program-cellular-celebrations/
LOCATION:North Lauderdale Saraniero Branch\, 6901 Kimberly Boulevard\, North Lauderdale\, FL\, 33068\, United States
CATEGORIES:Broward County
ATTACH;FMTTYPE=image/png:https://funhomeschoolflorida.com/wp-content/uploads/2026/01/6c1267_fcd36f19126c4ad7ada88c87cfbcafa0mv2.png
END:VEVENT
BEGIN:VEVENT
DTSTART;TZID=America/New_York:20260225T150000
DTEND;TZID=America/New_York:20260225T160000
DTSTAMP:20260419T101111
CREATED:20260216T093028Z
LAST-MODIFIED:20260418T031942Z
UID:10002234-1772031600-1772035200@funhomeschoolflorida.com
SUMMARY:STEAM Fun. Ages 7-11
DESCRIPTION:Wednesday\, February 25 \n3:00pm – 4:00pm \nJoin us working on basic STEAM related projects. Registration recommended. \nJoin us as we explore STEAM concepts with awesome activities\, excellent experiments\, and cool crafts. Recommended for ages 7-11. \nClass size is limited; registration is recommended for each session. \nThis program is funded by the Friends of North Lauderdale Library.
URL:https://funhomeschoolflorida.com/event/steam-fun-ages-7-11/
LOCATION:North Lauderdale Saraniero Branch\, 6901 Kimberly Boulevard\, North Lauderdale\, FL\, 33068\, United States
CATEGORIES:Broward County
END:VEVENT
BEGIN:VEVENT
DTSTART;TZID=America/New_York:20260224T180000
DTEND;TZID=America/New_York:20260224T190000
DTSTAMP:20260419T101111
CREATED:20260214T215426Z
LAST-MODIFIED:20260418T031942Z
UID:10002231-1771956000-1771959600@funhomeschoolflorida.com
SUMMARY:I am Change(Motivating Future Leaders): Coding for the Youth
DESCRIPTION:Tuesday\, February 24 \n6:00pm – 7:00pm \nMotivating Future Leaders\, Coding for the Youth\, aims to provide high-quality computer coding classes for youth aged 11-18. \nOur goal is to equip the next generation with essential skills in computer programming\, preparing them for future careers in technology. Through our interactive and engaging coding classes\, students will learn valuable coding languages and develop problem-solving abilities. \nMust register on their website.
URL:https://funhomeschoolflorida.com/event/i-am-changemotivating-future-leaders-coding-for-the-youth/
LOCATION:North Lauderdale Saraniero Branch\, 6901 Kimberly Boulevard\, North Lauderdale\, FL\, 33068\, United States
CATEGORIES:Broward County
END:VEVENT
BEGIN:VEVENT
DTSTART;TZID=America/New_York:20260224T130000
DTEND;TZID=America/New_York:20260224T140000
DTSTAMP:20260419T101111
CREATED:20260115T104630Z
LAST-MODIFIED:20260120T033356Z
UID:10001027-1771938000-1771941600@funhomeschoolflorida.com
SUMMARY:YEA Homeschool Program-Question about Digestion
DESCRIPTION:Youth Environmental Alliance \nThis program focuses on the digestive system and how food undergoes physical changes as well as chemical changes. Students laugh and learn their way through the digestive system through experimentation and simulations. \nGet ready to explore what really happens when we eat! In this interactive\, hands-on program\, students will simulate the digestive process and discover how the body turns food into fuel. Through engaging demonstrations and activities\, they’ll identify and describe the major organs of the digestive system\, learn how each organ functions\, and understand how nutrients and water are absorbed to keep our bodies healthy and energized. \nThis fun and educational experience connects science to everyday life\, helping students appreciate the incredible journey food takes through the human body! \nFeb 24\, 2026\, 1:00 PM – 2:00 PM @ North Lauderdale Saraniero Branch \nPlease register and pay through their website. \n$25 [Self-Pay or Step Up Direct Bill]
URL:https://funhomeschoolflorida.com/event/yea-homeschool-program-question-about-digestion/
LOCATION:North Lauderdale Saraniero Branch\, 6901 Kimberly Boulevard\, North Lauderdale\, FL\, 33068\, United States
CATEGORIES:Broward County
ATTACH;FMTTYPE=image/png:https://funhomeschoolflorida.com/wp-content/uploads/2026/01/6c1267_1e465a092400419db2120fce53d6dac9mv2.png
END:VEVENT
BEGIN:VEVENT
DTSTART;TZID=America/New_York:20260217T153000
DTEND;TZID=America/New_York:20260217T170000
DTSTAMP:20260419T101111
CREATED:20260212T021417Z
LAST-MODIFIED:20260418T031943Z
UID:10002210-1771342200-1771347600@funhomeschoolflorida.com
SUMMARY:MFL Presents: The Art of Speech for Youth
DESCRIPTION:Free \nTuesday\, February 17 \n3:30pm – 5:00pm \nBuild Confidence for delivering speeches and presentations\, while developing strong eye contact\, poise and articulation. Sponsored by Friends of Broward County Library. \nMust register on their website\, link below.
URL:https://funhomeschoolflorida.com/event/mfl-presents-the-art-of-speech-for-youth/
LOCATION:North Lauderdale Saraniero Branch\, 6901 Kimberly Boulevard\, North Lauderdale\, FL\, 33068\, United States
CATEGORIES:Broward County
END:VEVENT
END:VCALENDAR