BEGIN:VCALENDAR
VERSION:2.0
PRODID:-// - ECPv6.15.20//NONSGML v1.0//EN
CALSCALE:GREGORIAN
METHOD:PUBLISH
X-ORIGINAL-URL:https://funhomeschoolflorida.com
X-WR-CALDESC:Events for 
REFRESH-INTERVAL;VALUE=DURATION:PT1H
X-Robots-Tag:noindex
X-PUBLISHED-TTL:PT1H
BEGIN:VTIMEZONE
TZID:America/New_York
BEGIN:DAYLIGHT
TZOFFSETFROM:-0500
TZOFFSETTO:-0400
TZNAME:EDT
DTSTART:20250309T070000
END:DAYLIGHT
BEGIN:STANDARD
TZOFFSETFROM:-0400
TZOFFSETTO:-0500
TZNAME:EST
DTSTART:20251102T060000
END:STANDARD
BEGIN:DAYLIGHT
TZOFFSETFROM:-0500
TZOFFSETTO:-0400
TZNAME:EDT
DTSTART:20260308T070000
END:DAYLIGHT
BEGIN:STANDARD
TZOFFSETFROM:-0400
TZOFFSETTO:-0500
TZNAME:EST
DTSTART:20261101T060000
END:STANDARD
BEGIN:DAYLIGHT
TZOFFSETFROM:-0500
TZOFFSETTO:-0400
TZNAME:EDT
DTSTART:20270314T070000
END:DAYLIGHT
BEGIN:STANDARD
TZOFFSETFROM:-0400
TZOFFSETTO:-0500
TZNAME:EST
DTSTART:20271107T060000
END:STANDARD
END:VTIMEZONE
BEGIN:VEVENT
DTSTART;TZID=America/New_York:20260409T180000
DTEND;TZID=America/New_York:20260409T200000
DTSTAMP:20260421T041855
CREATED:20260306T091348Z
LAST-MODIFIED:20260418T210812Z
UID:10003286-1775757600-1775764800@funhomeschoolflorida.com
SUMMARY:[BROOKSVILLE] TEEN Monthly Meet Up @ Ivory & Sage Homeschool
DESCRIPTION:Teen Meet Up: FREE EVENT \nJoin us for our monthly social gathering designed specifically for homeschool teens! This is a time to connect with peers\, share experiences\, and build lasting friendships in a supportive environment. \nMarch Meet Up: Mar 12\, 2026 • 6:00 PM – 8:00PM \nApril Meet Up: Apr 9\, 2026 • 6:00 PM – 8:00 PM \nMay Meet Up: May 14\, 2026 • 6:00 PM – 8:00 PM \nSpring is here\, and it’s time to let things bloom! 🌼 Join us for a fun teen meetup where we’ll paint flower pots\, get creative\, and hang out together. No art skills needed—just come ready to relax\, create\, and have fun. All supplies provided. \n 
URL:https://funhomeschoolflorida.com/event/brooksville-teen-monthly-meet-up-ivory-sage-homeschool/2026-04-09/
LOCATION:Ivory & Sage Homeschool\, 624 Erin Way\,\, Brooksville\, FL\, 34601\, United States
CATEGORIES:Tampa Bay
ATTACH;FMTTYPE=image/webp:https://funhomeschoolflorida.com/wp-content/uploads/2026/03/1757805242128-wa9w5yweu1.webp
END:VEVENT
BEGIN:VEVENT
DTSTART;TZID=America/New_York:20260401T100000
DTEND;TZID=America/New_York:20260401T120000
DTSTAMP:20260421T041855
CREATED:20260306T095134Z
LAST-MODIFIED:20260418T035606Z
UID:10003299-1775037600-1775044800@funhomeschoolflorida.com
SUMMARY:[BROOKSVILLE] History Quest: Trial Class @ Ivory & Sage Homeschool
DESCRIPTION:April 1\, 2026 at 10:00 AM-12:00 PM -$60 \nThe History Quest Trial Class is designed to give families an authentic look into our History Quest program at Ivory & Sage Homeschool. Rather than a lecture or worksheet-based class\, History Quest centers on experiential learning. Children explore history through hands-on activities\, discussion\, collaboration\, and guided projects that encourage curiosity and critical thinking. Classes take place in a relaxed\, outdoor Florida backyard setting beneath oak trees\, creating a calm and engaging environment where learning feels natural and unforced. This trial class blends elements from our regular History Quest curriculum to show how lessons unfold\, how children interact\, and how we create a shared learning experience rooted in community\, creativity\, and respect for childhood. It is ideal for families considering enrollment who want to experience the rhythm and atmosphere of Ivory & Sage firsthand. Class size is intentionally small to allow for meaningful engagement and connection. \nWhat to Expect \nA small group setting (no more than 10 children) • Outdoor learning on our Micro-Homestead • Hands-on history activities using maps\, materials\, and guided projects • Movement\, discussion\, and collaborative learning • A welcoming environment that encourages curiosity • A clear sense of how History Quest classes are structured and facilitated This is not a sit-and-listen class. Children are encouraged to explore\, ask questions\, and engage with the material in an age-appropriate and active way. \nPlease register through their website\, link below.
URL:https://funhomeschoolflorida.com/event/history-quest-trial-class-ivory-sage-homeschool/
LOCATION:Ivory & Sage Homeschool\, 624 Erin Way\,\, Brooksville\, FL\, 34601\, United States
CATEGORIES:Tampa Bay
END:VEVENT
BEGIN:VEVENT
DTSTART;TZID=America/New_York:20260328T100000
DTEND;TZID=America/New_York:20260328T140000
DTSTAMP:20260421T041855
CREATED:20260306T093732Z
LAST-MODIFIED:20260418T205428Z
UID:10003298-1774692000-1774706400@funhomeschoolflorida.com
SUMMARY:[BROOKSVILLE] Ivory & Sage Book Fair
DESCRIPTION:FREE \nJoin us for a cozy\, family-friendly Ivory & Sage Book Fair on March 28th from 10:00 AM – 2:00 PM! Everyone is welcome—whether you’re coming with kids\, shopping solo\, or just stopping by to browse. \nWe’ll have a wide variety of affordable books\, including: \n• Children’s books \n• Adult fiction & nonfiction \n• Homeschool curriculum. \nCome shop while the kids play\, hang out\, and enjoy a relaxed atmosphere. Drop in for a quick browse or stay awhile—this is a come-and-go event designed for easy\, stress-free book shopping. \nPlease register through their website\, link below.
URL:https://funhomeschoolflorida.com/event/ivory-sage-book-fair/
LOCATION:Ivory & Sage Homeschool\, 624 Erin Way\,\, Brooksville\, FL\, 34601\, United States
CATEGORIES:Tampa Bay
ATTACH;FMTTYPE=image/webp:https://funhomeschoolflorida.com/wp-content/uploads/2026/03/1771774741354-r8msnmur8h.webp
END:VEVENT
BEGIN:VEVENT
DTSTART;TZID=America/New_York:20260312T180000
DTEND;TZID=America/New_York:20260312T200000
DTSTAMP:20260421T041855
CREATED:20260306T091348Z
LAST-MODIFIED:20260418T210812Z
UID:10003285-1773338400-1773345600@funhomeschoolflorida.com
SUMMARY:[BROOKSVILLE] TEEN Monthly Meet Up @ Ivory & Sage Homeschool
DESCRIPTION:Teen Meet Up: FREE EVENT \nJoin us for our monthly social gathering designed specifically for homeschool teens! This is a time to connect with peers\, share experiences\, and build lasting friendships in a supportive environment. \nMarch Meet Up: Mar 12\, 2026 • 6:00 PM – 8:00PM \nApril Meet Up: Apr 9\, 2026 • 6:00 PM – 8:00 PM \nMay Meet Up: May 14\, 2026 • 6:00 PM – 8:00 PM \nSpring is here\, and it’s time to let things bloom! 🌼 Join us for a fun teen meetup where we’ll paint flower pots\, get creative\, and hang out together. No art skills needed—just come ready to relax\, create\, and have fun. All supplies provided. \n 
URL:https://funhomeschoolflorida.com/event/brooksville-teen-monthly-meet-up-ivory-sage-homeschool/2026-03-12/
LOCATION:Ivory & Sage Homeschool\, 624 Erin Way\,\, Brooksville\, FL\, 34601\, United States
CATEGORIES:Tampa Bay
ATTACH;FMTTYPE=image/webp:https://funhomeschoolflorida.com/wp-content/uploads/2026/03/1757805242128-wa9w5yweu1.webp
END:VEVENT
END:VCALENDAR