BEGIN:VCALENDAR
VERSION:2.0
PRODID:-// - ECPv6.15.20//NONSGML v1.0//EN
CALSCALE:GREGORIAN
METHOD:PUBLISH
X-ORIGINAL-URL:https://funhomeschoolflorida.com
X-WR-CALDESC:Events for 
REFRESH-INTERVAL;VALUE=DURATION:PT1H
X-Robots-Tag:noindex
X-PUBLISHED-TTL:PT1H
BEGIN:VTIMEZONE
TZID:America/New_York
BEGIN:DAYLIGHT
TZOFFSETFROM:-0500
TZOFFSETTO:-0400
TZNAME:EDT
DTSTART:20250309T070000
END:DAYLIGHT
BEGIN:STANDARD
TZOFFSETFROM:-0400
TZOFFSETTO:-0500
TZNAME:EST
DTSTART:20251102T060000
END:STANDARD
BEGIN:DAYLIGHT
TZOFFSETFROM:-0500
TZOFFSETTO:-0400
TZNAME:EDT
DTSTART:20260308T070000
END:DAYLIGHT
BEGIN:STANDARD
TZOFFSETFROM:-0400
TZOFFSETTO:-0500
TZNAME:EST
DTSTART:20261101T060000
END:STANDARD
BEGIN:DAYLIGHT
TZOFFSETFROM:-0500
TZOFFSETTO:-0400
TZNAME:EDT
DTSTART:20270314T070000
END:DAYLIGHT
BEGIN:STANDARD
TZOFFSETFROM:-0400
TZOFFSETTO:-0500
TZNAME:EST
DTSTART:20271107T060000
END:STANDARD
END:VTIMEZONE
BEGIN:VEVENT
DTSTART;TZID=America/New_York:20260127T110000
DTEND;TZID=America/New_York:20260127T140000
DTSTAMP:20260419T135140
CREATED:20260115T103230Z
LAST-MODIFIED:20260415T032837Z
UID:10001026-1769511600-1769522400@funhomeschoolflorida.com
SUMMARY:Coastal Engagement Field Trip - Marvelous Mangroves
DESCRIPTION:Explore the Coastal Ecosystem at Dr. Von D. Mizell–Eula Johnson State Park \nDiscover the vital role of Florida’s coastal habitats through hands-on exploration and scientific investigation! \nStudents will gain a deeper understanding of how mangroves\, seagrass beds\, and sandy shores work together to support Florida’s biodiversity — and how we can all play a role in keeping these ecosystems healthy. \nProgram includes: \nMangrove Lesson & Exploration – Learn about the three types of mangroves\, their adaptations\, and how they protect our coastlines. \nFishing & Ethical Angling or Seine Netting & Microscopic Study – Practice sustainable fishing techniques or collect and observe marine life using seine nets\, then study your finds under a microscope. \nGuided Coastal Walk – Engage in a sensory “I Spy” adventure to identify native plants and wildlife while exploring the shoreline. \nEco-Action Project – Participate in a stewardship activity to help protect and preserve this unique coastal environment. \nRegistration and payment required through their website\, link below. \n$50 per child \nSelf pay and Step Up Direct Bill
URL:https://funhomeschoolflorida.com/event/coastal-engagement-field-trip-marvelous-mangroves/
LOCATION:Dr. Von D. Mizell–Eula Johnson State Park\, 6503 N Ocean Dr\, Dania Beach\, FL\, 33004\, United States
CATEGORIES:Broward County
ATTACH;FMTTYPE=image/jpeg:https://funhomeschoolflorida.com/wp-content/uploads/2026/01/6c1267_db84fe468a044ca2b3bd14794ec3298amv2.jpg
END:VEVENT
END:VCALENDAR