BEGIN:VCALENDAR
VERSION:2.0
PRODID:-// - ECPv6.15.20//NONSGML v1.0//EN
CALSCALE:GREGORIAN
METHOD:PUBLISH
X-ORIGINAL-URL:https://funhomeschoolflorida.com
X-WR-CALDESC:Events for 
REFRESH-INTERVAL;VALUE=DURATION:PT1H
X-Robots-Tag:noindex
X-PUBLISHED-TTL:PT1H
BEGIN:VTIMEZONE
TZID:America/New_York
BEGIN:DAYLIGHT
TZOFFSETFROM:-0500
TZOFFSETTO:-0400
TZNAME:EDT
DTSTART:20250309T070000
END:DAYLIGHT
BEGIN:STANDARD
TZOFFSETFROM:-0400
TZOFFSETTO:-0500
TZNAME:EST
DTSTART:20251102T060000
END:STANDARD
BEGIN:DAYLIGHT
TZOFFSETFROM:-0500
TZOFFSETTO:-0400
TZNAME:EDT
DTSTART:20260308T070000
END:DAYLIGHT
BEGIN:STANDARD
TZOFFSETFROM:-0400
TZOFFSETTO:-0500
TZNAME:EST
DTSTART:20261101T060000
END:STANDARD
BEGIN:DAYLIGHT
TZOFFSETFROM:-0500
TZOFFSETTO:-0400
TZNAME:EDT
DTSTART:20270314T070000
END:DAYLIGHT
BEGIN:STANDARD
TZOFFSETFROM:-0400
TZOFFSETTO:-0500
TZNAME:EST
DTSTART:20271107T060000
END:STANDARD
END:VTIMEZONE
BEGIN:VEVENT
DTSTART;TZID=America/New_York:20260320T153000
DTEND;TZID=America/New_York:20260320T170000
DTSTAMP:20260419T115422
CREATED:20260118T180028Z
LAST-MODIFIED:20260418T031815Z
UID:10001144-1774020600-1774026000@funhomeschoolflorida.com
SUMMARY:Teen Art Therapy W/ Coral Springs Museum
DESCRIPTION:Fridays 3:30 PM – 5 PM \nAge Range 13 -17 \nGuided by a board-certified Art Therapist\, these small-group sessions offer teens a safe and non-judgmental space to create\, express themselves\, and grow through art. No art skills needed\, and all supplies are provided. \n$5 per session \nFebruary 20 • March 20 \nRegister and pay through their website\, link below. \n 
URL:https://funhomeschoolflorida.com/event/85416/2026-03-20/
LOCATION:Coral Springs Museum\, 2855 Coral Springs Drive\, Coral Springs\, FL\, 33065\, United States
CATEGORIES:Broward County
ATTACH;FMTTYPE=image/png:https://funhomeschoolflorida.com/wp-content/uploads/2026/01/1-2-450x350-1.png
END:VEVENT
BEGIN:VEVENT
DTSTART;TZID=America/New_York:20260220T153000
DTEND;TZID=America/New_York:20260220T170000
DTSTAMP:20260419T115422
CREATED:20260118T180028Z
LAST-MODIFIED:20260418T031815Z
UID:10001143-1771601400-1771606800@funhomeschoolflorida.com
SUMMARY:Teen Art Therapy W/ Coral Springs Museum
DESCRIPTION:Fridays 3:30 PM – 5 PM \nAge Range 13 -17 \nGuided by a board-certified Art Therapist\, these small-group sessions offer teens a safe and non-judgmental space to create\, express themselves\, and grow through art. No art skills needed\, and all supplies are provided. \n$5 per session \nFebruary 20 • March 20 \nRegister and pay through their website\, link below. \n 
URL:https://funhomeschoolflorida.com/event/85416/2026-02-20/
LOCATION:Coral Springs Museum\, 2855 Coral Springs Drive\, Coral Springs\, FL\, 33065\, United States
CATEGORIES:Broward County
ATTACH;FMTTYPE=image/png:https://funhomeschoolflorida.com/wp-content/uploads/2026/01/1-2-450x350-1.png
END:VEVENT
END:VCALENDAR