BEGIN:VCALENDAR
VERSION:2.0
PRODID:-// - ECPv6.15.20//NONSGML v1.0//EN
CALSCALE:GREGORIAN
METHOD:PUBLISH
X-ORIGINAL-URL:https://funhomeschoolflorida.com
X-WR-CALDESC:Events for 
REFRESH-INTERVAL;VALUE=DURATION:PT1H
X-Robots-Tag:noindex
X-PUBLISHED-TTL:PT1H
BEGIN:VTIMEZONE
TZID:America/New_York
BEGIN:DAYLIGHT
TZOFFSETFROM:-0500
TZOFFSETTO:-0400
TZNAME:EDT
DTSTART:20250309T070000
END:DAYLIGHT
BEGIN:STANDARD
TZOFFSETFROM:-0400
TZOFFSETTO:-0500
TZNAME:EST
DTSTART:20251102T060000
END:STANDARD
BEGIN:DAYLIGHT
TZOFFSETFROM:-0500
TZOFFSETTO:-0400
TZNAME:EDT
DTSTART:20260308T070000
END:DAYLIGHT
BEGIN:STANDARD
TZOFFSETFROM:-0400
TZOFFSETTO:-0500
TZNAME:EST
DTSTART:20261101T060000
END:STANDARD
BEGIN:DAYLIGHT
TZOFFSETFROM:-0500
TZOFFSETTO:-0400
TZNAME:EDT
DTSTART:20270314T070000
END:DAYLIGHT
BEGIN:STANDARD
TZOFFSETFROM:-0400
TZOFFSETTO:-0500
TZNAME:EST
DTSTART:20271107T060000
END:STANDARD
END:VTIMEZONE
BEGIN:VEVENT
DTSTART;TZID=America/New_York:20260302T180000
DTEND;TZID=America/New_York:20260302T190000
DTSTAMP:20260419T133848
CREATED:20260216T095242Z
LAST-MODIFIED:20260216T095242Z
UID:10002236-1772474400-1772478000@funhomeschoolflorida.com
SUMMARY:Chess For Kids and Teens
DESCRIPTION:Monday\, March 02 \n6:00pm – 7:00pm \nJoin us the first Monday of every month for Chess for Kids & Teens! \nLearn how to play and practice. This Program is for all Level chess players \nFirst Monday of Each Month 6pm-7pm Starting Monday\, December 4\, 2023 \nRecommended for ages 6-18 \nRegistration recommended. Ask a Librarian for Assistance.
URL:https://funhomeschoolflorida.com/event/chess-for-kids-and-teens/
LOCATION:Carver Ranches Branch\, 4735 Southwest 18th Street\, West Park\, FL\, 33023\, United States
ATTACH;FMTTYPE=image/png:https://funhomeschoolflorida.com/wp-content/uploads/2026/02/CR_Chess_Kids_Teens___Communico.png
END:VEVENT
END:VCALENDAR