BEGIN:VCALENDAR
VERSION:2.0
PRODID:-// - ECPv6.15.20//NONSGML v1.0//EN
CALSCALE:GREGORIAN
METHOD:PUBLISH
X-ORIGINAL-URL:https://funhomeschoolflorida.com
X-WR-CALDESC:Events for 
REFRESH-INTERVAL;VALUE=DURATION:PT1H
X-Robots-Tag:noindex
X-PUBLISHED-TTL:PT1H
BEGIN:VTIMEZONE
TZID:America/New_York
BEGIN:DAYLIGHT
TZOFFSETFROM:-0500
TZOFFSETTO:-0400
TZNAME:EDT
DTSTART:20250309T070000
END:DAYLIGHT
BEGIN:STANDARD
TZOFFSETFROM:-0400
TZOFFSETTO:-0500
TZNAME:EST
DTSTART:20251102T060000
END:STANDARD
BEGIN:DAYLIGHT
TZOFFSETFROM:-0500
TZOFFSETTO:-0400
TZNAME:EDT
DTSTART:20260308T070000
END:DAYLIGHT
BEGIN:STANDARD
TZOFFSETFROM:-0400
TZOFFSETTO:-0500
TZNAME:EST
DTSTART:20261101T060000
END:STANDARD
BEGIN:DAYLIGHT
TZOFFSETFROM:-0500
TZOFFSETTO:-0400
TZNAME:EDT
DTSTART:20270314T070000
END:DAYLIGHT
BEGIN:STANDARD
TZOFFSETFROM:-0400
TZOFFSETTO:-0500
TZNAME:EST
DTSTART:20271107T060000
END:STANDARD
BEGIN:DAYLIGHT
TZOFFSETFROM:-0500
TZOFFSETTO:-0400
TZNAME:EDT
DTSTART:20280312T070000
END:DAYLIGHT
BEGIN:STANDARD
TZOFFSETFROM:-0400
TZOFFSETTO:-0500
TZNAME:EST
DTSTART:20281105T060000
END:STANDARD
END:VTIMEZONE
BEGIN:VEVENT
DTSTART;TZID=America/New_York:20261207T130000
DTEND;TZID=America/New_York:20261207T140000
DTSTAMP:20260419T135138
CREATED:20260117T114139Z
LAST-MODIFIED:20260415T032715Z
UID:10001109-1796648400-1796652000@funhomeschoolflorida.com
SUMMARY:Kids Homeschool Art Club-ART PAPER SCISSORS ​PARKLAND
DESCRIPTION:Homeschool Art Club – February\, Mondays 1pm with Art Paper Scissors \nIn this 1 hour class\, step into a world of creativity\, culture\, and color! Our Art Around the World program takes students on a global journey\, exploring famous artists\, unique styles\, and cultural traditions from every corner of the map. Each class introduces a new country or region through a bite-sized lesson\, a featured artist or art style\, and a hands-on project that brings the learning to life.Series appointment times \nFebruary 2nd\, 2026 at 1:00 PM \nFebruary 9th\, 2026 at 1:00 PM \nFebruary 23rd\, 2026 at 1:00 PM \n$60.00 \nPlease register and pay through their website\, link below.
URL:https://funhomeschoolflorida.com/event/kids-homeschool-art-club-art-paper-scissors-parkland/2026-12-07/
LOCATION:ART PAPER SCISSORS ​PARKLAND\, 6654 Parkside Drive\, Parkland\, 33067\, United States
CATEGORIES:Broward County
ATTACH;FMTTYPE=image/jpeg:https://funhomeschoolflorida.com/wp-content/uploads/2026/01/appointmentType-thumb-50733713.jpg
END:VEVENT
BEGIN:VEVENT
DTSTART;TZID=America/New_York:20261214T130000
DTEND;TZID=America/New_York:20261214T140000
DTSTAMP:20260419T135138
CREATED:20260117T114139Z
LAST-MODIFIED:20260415T032715Z
UID:10001110-1797253200-1797256800@funhomeschoolflorida.com
SUMMARY:Kids Homeschool Art Club-ART PAPER SCISSORS ​PARKLAND
DESCRIPTION:Homeschool Art Club – February\, Mondays 1pm with Art Paper Scissors \nIn this 1 hour class\, step into a world of creativity\, culture\, and color! Our Art Around the World program takes students on a global journey\, exploring famous artists\, unique styles\, and cultural traditions from every corner of the map. Each class introduces a new country or region through a bite-sized lesson\, a featured artist or art style\, and a hands-on project that brings the learning to life.Series appointment times \nFebruary 2nd\, 2026 at 1:00 PM \nFebruary 9th\, 2026 at 1:00 PM \nFebruary 23rd\, 2026 at 1:00 PM \n$60.00 \nPlease register and pay through their website\, link below.
URL:https://funhomeschoolflorida.com/event/kids-homeschool-art-club-art-paper-scissors-parkland/2026-12-14/
LOCATION:ART PAPER SCISSORS ​PARKLAND\, 6654 Parkside Drive\, Parkland\, 33067\, United States
CATEGORIES:Broward County
ATTACH;FMTTYPE=image/jpeg:https://funhomeschoolflorida.com/wp-content/uploads/2026/01/appointmentType-thumb-50733713.jpg
END:VEVENT
BEGIN:VEVENT
DTSTART;TZID=America/New_York:20261221T130000
DTEND;TZID=America/New_York:20261221T140000
DTSTAMP:20260419T135138
CREATED:20260117T114139Z
LAST-MODIFIED:20260415T032715Z
UID:10001111-1797858000-1797861600@funhomeschoolflorida.com
SUMMARY:Kids Homeschool Art Club-ART PAPER SCISSORS ​PARKLAND
DESCRIPTION:Homeschool Art Club – February\, Mondays 1pm with Art Paper Scissors \nIn this 1 hour class\, step into a world of creativity\, culture\, and color! Our Art Around the World program takes students on a global journey\, exploring famous artists\, unique styles\, and cultural traditions from every corner of the map. Each class introduces a new country or region through a bite-sized lesson\, a featured artist or art style\, and a hands-on project that brings the learning to life.Series appointment times \nFebruary 2nd\, 2026 at 1:00 PM \nFebruary 9th\, 2026 at 1:00 PM \nFebruary 23rd\, 2026 at 1:00 PM \n$60.00 \nPlease register and pay through their website\, link below.
URL:https://funhomeschoolflorida.com/event/kids-homeschool-art-club-art-paper-scissors-parkland/2026-12-21/
LOCATION:ART PAPER SCISSORS ​PARKLAND\, 6654 Parkside Drive\, Parkland\, 33067\, United States
CATEGORIES:Broward County
ATTACH;FMTTYPE=image/jpeg:https://funhomeschoolflorida.com/wp-content/uploads/2026/01/appointmentType-thumb-50733713.jpg
END:VEVENT
BEGIN:VEVENT
DTSTART;TZID=America/New_York:20261228T130000
DTEND;TZID=America/New_York:20261228T140000
DTSTAMP:20260419T135138
CREATED:20260117T114139Z
LAST-MODIFIED:20260415T032715Z
UID:10001112-1798462800-1798466400@funhomeschoolflorida.com
SUMMARY:Kids Homeschool Art Club-ART PAPER SCISSORS ​PARKLAND
DESCRIPTION:Homeschool Art Club – February\, Mondays 1pm with Art Paper Scissors \nIn this 1 hour class\, step into a world of creativity\, culture\, and color! Our Art Around the World program takes students on a global journey\, exploring famous artists\, unique styles\, and cultural traditions from every corner of the map. Each class introduces a new country or region through a bite-sized lesson\, a featured artist or art style\, and a hands-on project that brings the learning to life.Series appointment times \nFebruary 2nd\, 2026 at 1:00 PM \nFebruary 9th\, 2026 at 1:00 PM \nFebruary 23rd\, 2026 at 1:00 PM \n$60.00 \nPlease register and pay through their website\, link below.
URL:https://funhomeschoolflorida.com/event/kids-homeschool-art-club-art-paper-scissors-parkland/2026-12-28/
LOCATION:ART PAPER SCISSORS ​PARKLAND\, 6654 Parkside Drive\, Parkland\, 33067\, United States
CATEGORIES:Broward County
ATTACH;FMTTYPE=image/jpeg:https://funhomeschoolflorida.com/wp-content/uploads/2026/01/appointmentType-thumb-50733713.jpg
END:VEVENT
BEGIN:VEVENT
DTSTART;TZID=America/New_York:20270104T130000
DTEND;TZID=America/New_York:20270104T140000
DTSTAMP:20260419T135138
CREATED:20260117T114139Z
LAST-MODIFIED:20260415T032715Z
UID:10001113-1799067600-1799071200@funhomeschoolflorida.com
SUMMARY:Kids Homeschool Art Club-ART PAPER SCISSORS ​PARKLAND
DESCRIPTION:Homeschool Art Club – February\, Mondays 1pm with Art Paper Scissors \nIn this 1 hour class\, step into a world of creativity\, culture\, and color! Our Art Around the World program takes students on a global journey\, exploring famous artists\, unique styles\, and cultural traditions from every corner of the map. Each class introduces a new country or region through a bite-sized lesson\, a featured artist or art style\, and a hands-on project that brings the learning to life.Series appointment times \nFebruary 2nd\, 2026 at 1:00 PM \nFebruary 9th\, 2026 at 1:00 PM \nFebruary 23rd\, 2026 at 1:00 PM \n$60.00 \nPlease register and pay through their website\, link below.
URL:https://funhomeschoolflorida.com/event/kids-homeschool-art-club-art-paper-scissors-parkland/2027-01-04/
LOCATION:ART PAPER SCISSORS ​PARKLAND\, 6654 Parkside Drive\, Parkland\, 33067\, United States
CATEGORIES:Broward County
ATTACH;FMTTYPE=image/jpeg:https://funhomeschoolflorida.com/wp-content/uploads/2026/01/appointmentType-thumb-50733713.jpg
END:VEVENT
BEGIN:VEVENT
DTSTART;TZID=America/New_York:20270111T130000
DTEND;TZID=America/New_York:20270111T140000
DTSTAMP:20260419T135138
CREATED:20260117T114139Z
LAST-MODIFIED:20260415T032715Z
UID:10001114-1799672400-1799676000@funhomeschoolflorida.com
SUMMARY:Kids Homeschool Art Club-ART PAPER SCISSORS ​PARKLAND
DESCRIPTION:Homeschool Art Club – February\, Mondays 1pm with Art Paper Scissors \nIn this 1 hour class\, step into a world of creativity\, culture\, and color! Our Art Around the World program takes students on a global journey\, exploring famous artists\, unique styles\, and cultural traditions from every corner of the map. Each class introduces a new country or region through a bite-sized lesson\, a featured artist or art style\, and a hands-on project that brings the learning to life.Series appointment times \nFebruary 2nd\, 2026 at 1:00 PM \nFebruary 9th\, 2026 at 1:00 PM \nFebruary 23rd\, 2026 at 1:00 PM \n$60.00 \nPlease register and pay through their website\, link below.
URL:https://funhomeschoolflorida.com/event/kids-homeschool-art-club-art-paper-scissors-parkland/2027-01-11/
LOCATION:ART PAPER SCISSORS ​PARKLAND\, 6654 Parkside Drive\, Parkland\, 33067\, United States
CATEGORIES:Broward County
ATTACH;FMTTYPE=image/jpeg:https://funhomeschoolflorida.com/wp-content/uploads/2026/01/appointmentType-thumb-50733713.jpg
END:VEVENT
BEGIN:VEVENT
DTSTART;TZID=America/New_York:20270118T130000
DTEND;TZID=America/New_York:20270118T140000
DTSTAMP:20260419T135138
CREATED:20260117T114139Z
LAST-MODIFIED:20260415T032715Z
UID:10001115-1800277200-1800280800@funhomeschoolflorida.com
SUMMARY:Kids Homeschool Art Club-ART PAPER SCISSORS ​PARKLAND
DESCRIPTION:Homeschool Art Club – February\, Mondays 1pm with Art Paper Scissors \nIn this 1 hour class\, step into a world of creativity\, culture\, and color! Our Art Around the World program takes students on a global journey\, exploring famous artists\, unique styles\, and cultural traditions from every corner of the map. Each class introduces a new country or region through a bite-sized lesson\, a featured artist or art style\, and a hands-on project that brings the learning to life.Series appointment times \nFebruary 2nd\, 2026 at 1:00 PM \nFebruary 9th\, 2026 at 1:00 PM \nFebruary 23rd\, 2026 at 1:00 PM \n$60.00 \nPlease register and pay through their website\, link below.
URL:https://funhomeschoolflorida.com/event/kids-homeschool-art-club-art-paper-scissors-parkland/2027-01-18/
LOCATION:ART PAPER SCISSORS ​PARKLAND\, 6654 Parkside Drive\, Parkland\, 33067\, United States
CATEGORIES:Broward County
ATTACH;FMTTYPE=image/jpeg:https://funhomeschoolflorida.com/wp-content/uploads/2026/01/appointmentType-thumb-50733713.jpg
END:VEVENT
BEGIN:VEVENT
DTSTART;TZID=America/New_York:20270125T130000
DTEND;TZID=America/New_York:20270125T140000
DTSTAMP:20260419T135138
CREATED:20260117T114139Z
LAST-MODIFIED:20260415T032715Z
UID:10001116-1800882000-1800885600@funhomeschoolflorida.com
SUMMARY:Kids Homeschool Art Club-ART PAPER SCISSORS ​PARKLAND
DESCRIPTION:Homeschool Art Club – February\, Mondays 1pm with Art Paper Scissors \nIn this 1 hour class\, step into a world of creativity\, culture\, and color! Our Art Around the World program takes students on a global journey\, exploring famous artists\, unique styles\, and cultural traditions from every corner of the map. Each class introduces a new country or region through a bite-sized lesson\, a featured artist or art style\, and a hands-on project that brings the learning to life.Series appointment times \nFebruary 2nd\, 2026 at 1:00 PM \nFebruary 9th\, 2026 at 1:00 PM \nFebruary 23rd\, 2026 at 1:00 PM \n$60.00 \nPlease register and pay through their website\, link below.
URL:https://funhomeschoolflorida.com/event/kids-homeschool-art-club-art-paper-scissors-parkland/2027-01-25/
LOCATION:ART PAPER SCISSORS ​PARKLAND\, 6654 Parkside Drive\, Parkland\, 33067\, United States
CATEGORIES:Broward County
ATTACH;FMTTYPE=image/jpeg:https://funhomeschoolflorida.com/wp-content/uploads/2026/01/appointmentType-thumb-50733713.jpg
END:VEVENT
BEGIN:VEVENT
DTSTART;TZID=America/New_York:20270201T130000
DTEND;TZID=America/New_York:20270201T140000
DTSTAMP:20260419T135138
CREATED:20260117T114139Z
LAST-MODIFIED:20260415T032715Z
UID:10001117-1801486800-1801490400@funhomeschoolflorida.com
SUMMARY:Kids Homeschool Art Club-ART PAPER SCISSORS ​PARKLAND
DESCRIPTION:Homeschool Art Club – February\, Mondays 1pm with Art Paper Scissors \nIn this 1 hour class\, step into a world of creativity\, culture\, and color! Our Art Around the World program takes students on a global journey\, exploring famous artists\, unique styles\, and cultural traditions from every corner of the map. Each class introduces a new country or region through a bite-sized lesson\, a featured artist or art style\, and a hands-on project that brings the learning to life.Series appointment times \nFebruary 2nd\, 2026 at 1:00 PM \nFebruary 9th\, 2026 at 1:00 PM \nFebruary 23rd\, 2026 at 1:00 PM \n$60.00 \nPlease register and pay through their website\, link below.
URL:https://funhomeschoolflorida.com/event/kids-homeschool-art-club-art-paper-scissors-parkland/2027-02-01/
LOCATION:ART PAPER SCISSORS ​PARKLAND\, 6654 Parkside Drive\, Parkland\, 33067\, United States
CATEGORIES:Broward County
ATTACH;FMTTYPE=image/jpeg:https://funhomeschoolflorida.com/wp-content/uploads/2026/01/appointmentType-thumb-50733713.jpg
END:VEVENT
BEGIN:VEVENT
DTSTART;TZID=America/New_York:20270208T130000
DTEND;TZID=America/New_York:20270208T140000
DTSTAMP:20260419T135138
CREATED:20260117T114139Z
LAST-MODIFIED:20260415T032715Z
UID:10001118-1802091600-1802095200@funhomeschoolflorida.com
SUMMARY:Kids Homeschool Art Club-ART PAPER SCISSORS ​PARKLAND
DESCRIPTION:Homeschool Art Club – February\, Mondays 1pm with Art Paper Scissors \nIn this 1 hour class\, step into a world of creativity\, culture\, and color! Our Art Around the World program takes students on a global journey\, exploring famous artists\, unique styles\, and cultural traditions from every corner of the map. Each class introduces a new country or region through a bite-sized lesson\, a featured artist or art style\, and a hands-on project that brings the learning to life.Series appointment times \nFebruary 2nd\, 2026 at 1:00 PM \nFebruary 9th\, 2026 at 1:00 PM \nFebruary 23rd\, 2026 at 1:00 PM \n$60.00 \nPlease register and pay through their website\, link below.
URL:https://funhomeschoolflorida.com/event/kids-homeschool-art-club-art-paper-scissors-parkland/2027-02-08/
LOCATION:ART PAPER SCISSORS ​PARKLAND\, 6654 Parkside Drive\, Parkland\, 33067\, United States
CATEGORIES:Broward County
ATTACH;FMTTYPE=image/jpeg:https://funhomeschoolflorida.com/wp-content/uploads/2026/01/appointmentType-thumb-50733713.jpg
END:VEVENT
BEGIN:VEVENT
DTSTART;TZID=America/New_York:20270215T130000
DTEND;TZID=America/New_York:20270215T140000
DTSTAMP:20260419T135138
CREATED:20260117T114139Z
LAST-MODIFIED:20260415T032715Z
UID:10001119-1802696400-1802700000@funhomeschoolflorida.com
SUMMARY:Kids Homeschool Art Club-ART PAPER SCISSORS ​PARKLAND
DESCRIPTION:Homeschool Art Club – February\, Mondays 1pm with Art Paper Scissors \nIn this 1 hour class\, step into a world of creativity\, culture\, and color! Our Art Around the World program takes students on a global journey\, exploring famous artists\, unique styles\, and cultural traditions from every corner of the map. Each class introduces a new country or region through a bite-sized lesson\, a featured artist or art style\, and a hands-on project that brings the learning to life.Series appointment times \nFebruary 2nd\, 2026 at 1:00 PM \nFebruary 9th\, 2026 at 1:00 PM \nFebruary 23rd\, 2026 at 1:00 PM \n$60.00 \nPlease register and pay through their website\, link below.
URL:https://funhomeschoolflorida.com/event/kids-homeschool-art-club-art-paper-scissors-parkland/2027-02-15/
LOCATION:ART PAPER SCISSORS ​PARKLAND\, 6654 Parkside Drive\, Parkland\, 33067\, United States
CATEGORIES:Broward County
ATTACH;FMTTYPE=image/jpeg:https://funhomeschoolflorida.com/wp-content/uploads/2026/01/appointmentType-thumb-50733713.jpg
END:VEVENT
BEGIN:VEVENT
DTSTART;TZID=America/New_York:20270222T130000
DTEND;TZID=America/New_York:20270222T140000
DTSTAMP:20260419T135138
CREATED:20260117T114139Z
LAST-MODIFIED:20260415T032715Z
UID:10001120-1803301200-1803304800@funhomeschoolflorida.com
SUMMARY:Kids Homeschool Art Club-ART PAPER SCISSORS ​PARKLAND
DESCRIPTION:Homeschool Art Club – February\, Mondays 1pm with Art Paper Scissors \nIn this 1 hour class\, step into a world of creativity\, culture\, and color! Our Art Around the World program takes students on a global journey\, exploring famous artists\, unique styles\, and cultural traditions from every corner of the map. Each class introduces a new country or region through a bite-sized lesson\, a featured artist or art style\, and a hands-on project that brings the learning to life.Series appointment times \nFebruary 2nd\, 2026 at 1:00 PM \nFebruary 9th\, 2026 at 1:00 PM \nFebruary 23rd\, 2026 at 1:00 PM \n$60.00 \nPlease register and pay through their website\, link below.
URL:https://funhomeschoolflorida.com/event/kids-homeschool-art-club-art-paper-scissors-parkland/2027-02-22/
LOCATION:ART PAPER SCISSORS ​PARKLAND\, 6654 Parkside Drive\, Parkland\, 33067\, United States
CATEGORIES:Broward County
ATTACH;FMTTYPE=image/jpeg:https://funhomeschoolflorida.com/wp-content/uploads/2026/01/appointmentType-thumb-50733713.jpg
END:VEVENT
END:VCALENDAR