BEGIN:VCALENDAR
VERSION:2.0
PRODID:-// - ECPv6.15.20//NONSGML v1.0//EN
CALSCALE:GREGORIAN
METHOD:PUBLISH
X-ORIGINAL-URL:https://funhomeschoolflorida.com
X-WR-CALDESC:Events for 
REFRESH-INTERVAL;VALUE=DURATION:PT1H
X-Robots-Tag:noindex
X-PUBLISHED-TTL:PT1H
BEGIN:VTIMEZONE
TZID:America/New_York
BEGIN:DAYLIGHT
TZOFFSETFROM:-0500
TZOFFSETTO:-0400
TZNAME:EDT
DTSTART:20250309T070000
END:DAYLIGHT
BEGIN:STANDARD
TZOFFSETFROM:-0400
TZOFFSETTO:-0500
TZNAME:EST
DTSTART:20251102T060000
END:STANDARD
BEGIN:DAYLIGHT
TZOFFSETFROM:-0500
TZOFFSETTO:-0400
TZNAME:EDT
DTSTART:20260308T070000
END:DAYLIGHT
BEGIN:STANDARD
TZOFFSETFROM:-0400
TZOFFSETTO:-0500
TZNAME:EST
DTSTART:20261101T060000
END:STANDARD
BEGIN:DAYLIGHT
TZOFFSETFROM:-0500
TZOFFSETTO:-0400
TZNAME:EDT
DTSTART:20270314T070000
END:DAYLIGHT
BEGIN:STANDARD
TZOFFSETFROM:-0400
TZOFFSETTO:-0500
TZNAME:EST
DTSTART:20271107T060000
END:STANDARD
END:VTIMEZONE
BEGIN:VEVENT
DTSTART;TZID=America/New_York:20260209T130000
DTEND;TZID=America/New_York:20260209T140000
DTSTAMP:20260419T115658
CREATED:20260117T114139Z
LAST-MODIFIED:20260415T032715Z
UID:10001067-1770642000-1770645600@funhomeschoolflorida.com
SUMMARY:Kids Homeschool Art Club-ART PAPER SCISSORS ​PARKLAND
DESCRIPTION:Homeschool Art Club – February\, Mondays 1pm with Art Paper Scissors \nIn this 1 hour class\, step into a world of creativity\, culture\, and color! Our Art Around the World program takes students on a global journey\, exploring famous artists\, unique styles\, and cultural traditions from every corner of the map. Each class introduces a new country or region through a bite-sized lesson\, a featured artist or art style\, and a hands-on project that brings the learning to life.Series appointment times \nFebruary 2nd\, 2026 at 1:00 PM \nFebruary 9th\, 2026 at 1:00 PM \nFebruary 23rd\, 2026 at 1:00 PM \n$60.00 \nPlease register and pay through their website\, link below.
URL:https://funhomeschoolflorida.com/event/kids-homeschool-art-club-art-paper-scissors-parkland/2026-02-09/
LOCATION:ART PAPER SCISSORS ​PARKLAND\, 6654 Parkside Drive\, Parkland\, 33067\, United States
CATEGORIES:Broward County
ATTACH;FMTTYPE=image/jpeg:https://funhomeschoolflorida.com/wp-content/uploads/2026/01/appointmentType-thumb-50733713.jpg
END:VEVENT
BEGIN:VEVENT
DTSTART;TZID=America/New_York:20260202T130000
DTEND;TZID=America/New_York:20260202T140000
DTSTAMP:20260419T115658
CREATED:20260117T114139Z
LAST-MODIFIED:20260415T032715Z
UID:10001066-1770037200-1770040800@funhomeschoolflorida.com
SUMMARY:Kids Homeschool Art Club-ART PAPER SCISSORS ​PARKLAND
DESCRIPTION:Homeschool Art Club – February\, Mondays 1pm with Art Paper Scissors \nIn this 1 hour class\, step into a world of creativity\, culture\, and color! Our Art Around the World program takes students on a global journey\, exploring famous artists\, unique styles\, and cultural traditions from every corner of the map. Each class introduces a new country or region through a bite-sized lesson\, a featured artist or art style\, and a hands-on project that brings the learning to life.Series appointment times \nFebruary 2nd\, 2026 at 1:00 PM \nFebruary 9th\, 2026 at 1:00 PM \nFebruary 23rd\, 2026 at 1:00 PM \n$60.00 \nPlease register and pay through their website\, link below.
URL:https://funhomeschoolflorida.com/event/kids-homeschool-art-club-art-paper-scissors-parkland/2026-02-02/
LOCATION:ART PAPER SCISSORS ​PARKLAND\, 6654 Parkside Drive\, Parkland\, 33067\, United States
CATEGORIES:Broward County
ATTACH;FMTTYPE=image/jpeg:https://funhomeschoolflorida.com/wp-content/uploads/2026/01/appointmentType-thumb-50733713.jpg
END:VEVENT
END:VCALENDAR