BEGIN:VCALENDAR
VERSION:2.0
PRODID:-// - ECPv6.15.20//NONSGML v1.0//EN
CALSCALE:GREGORIAN
METHOD:PUBLISH
X-ORIGINAL-URL:https://funhomeschoolflorida.com
X-WR-CALDESC:Events for 
REFRESH-INTERVAL;VALUE=DURATION:PT1H
X-Robots-Tag:noindex
X-PUBLISHED-TTL:PT1H
BEGIN:VTIMEZONE
TZID:America/New_York
BEGIN:DAYLIGHT
TZOFFSETFROM:-0500
TZOFFSETTO:-0400
TZNAME:EDT
DTSTART:20250309T070000
END:DAYLIGHT
BEGIN:STANDARD
TZOFFSETFROM:-0400
TZOFFSETTO:-0500
TZNAME:EST
DTSTART:20251102T060000
END:STANDARD
BEGIN:DAYLIGHT
TZOFFSETFROM:-0500
TZOFFSETTO:-0400
TZNAME:EDT
DTSTART:20260308T070000
END:DAYLIGHT
BEGIN:STANDARD
TZOFFSETFROM:-0400
TZOFFSETTO:-0500
TZNAME:EST
DTSTART:20261101T060000
END:STANDARD
BEGIN:DAYLIGHT
TZOFFSETFROM:-0500
TZOFFSETTO:-0400
TZNAME:EDT
DTSTART:20270314T070000
END:DAYLIGHT
BEGIN:STANDARD
TZOFFSETFROM:-0400
TZOFFSETTO:-0500
TZNAME:EST
DTSTART:20271107T060000
END:STANDARD
END:VTIMEZONE
BEGIN:VEVENT
DTSTART;TZID=America/New_York:20260310T130000
DTEND;TZID=America/New_York:20260310T134500
DTSTAMP:20260421T175357
CREATED:20260307T110522Z
LAST-MODIFIED:20260418T210925Z
UID:10003302-1773147600-1773150300@funhomeschoolflorida.com
SUMMARY:[LUTZ] Martial Arts for Homeschoolers: West Coast Karate
DESCRIPTION:West Coast Karate \nMartial Arts for Homeschoolers \nTuesdays & Thursdays 1:00pm- 1:45pm \nAre you a homeschool family looking for an activity during the day? We offer classes Tuesdays and Thursdays at 1pm. Our homeschool students have access to our entire program including evening classes\, camps\, and Parent’s Night Out. \nINTERESTED? COME TRY A FREE TRIAL CLASS. \nCOME SEE WHY WE ARE THE NUMBER ONE MARTIAL ARTS PROGRAM FOR HOMESCHOOLERS IN AREA! \n6 Weeks Intro for $125 \nRegister through their website\, link below.
URL:https://funhomeschoolflorida.com/event/lutz-martial-arts-for-homeschoolers-west-coast-karate/2026-03-10/
LOCATION:West Coast Karate\, 23604 State Road 54\, Lutz\, FL\, 33559\, United States
CATEGORIES:Tampa Bay
ATTACH;FMTTYPE=image/jpeg:https://funhomeschoolflorida.com/wp-content/uploads/2026/03/qtq_95-2.jpeg
ORGANIZER;CN="West Coast Karate":MAILTO:westcoastkaratedojo@gmail.com
END:VEVENT
END:VCALENDAR