BEGIN:VCALENDAR
VERSION:2.0
PRODID:-// - ECPv6.15.20//NONSGML v1.0//EN
CALSCALE:GREGORIAN
METHOD:PUBLISH
X-ORIGINAL-URL:https://funhomeschoolflorida.com
X-WR-CALDESC:Events for 
REFRESH-INTERVAL;VALUE=DURATION:PT1H
X-Robots-Tag:noindex
X-PUBLISHED-TTL:PT1H
BEGIN:VTIMEZONE
TZID:America/New_York
BEGIN:DAYLIGHT
TZOFFSETFROM:-0500
TZOFFSETTO:-0400
TZNAME:EDT
DTSTART:20250309T070000
END:DAYLIGHT
BEGIN:STANDARD
TZOFFSETFROM:-0400
TZOFFSETTO:-0500
TZNAME:EST
DTSTART:20251102T060000
END:STANDARD
BEGIN:DAYLIGHT
TZOFFSETFROM:-0500
TZOFFSETTO:-0400
TZNAME:EDT
DTSTART:20260308T070000
END:DAYLIGHT
BEGIN:STANDARD
TZOFFSETFROM:-0400
TZOFFSETTO:-0500
TZNAME:EST
DTSTART:20261101T060000
END:STANDARD
BEGIN:DAYLIGHT
TZOFFSETFROM:-0500
TZOFFSETTO:-0400
TZNAME:EDT
DTSTART:20270314T070000
END:DAYLIGHT
BEGIN:STANDARD
TZOFFSETFROM:-0400
TZOFFSETTO:-0500
TZNAME:EST
DTSTART:20271107T060000
END:STANDARD
END:VTIMEZONE
BEGIN:VEVENT
DTSTART;TZID=America/New_York:20260428T141500
DTEND;TZID=America/New_York:20260428T151500
DTSTAMP:20260425T115842
CREATED:20260311T034654Z
LAST-MODIFIED:20260418T210925Z
UID:10003480-1777385700-1777389300@funhomeschoolflorida.com
SUMMARY:[Wesley Chapel] Homeschool Level 1 (co-ed Gymnastics) Suncoast Gymnastics Wesley Chapel
DESCRIPTION:Suncoast Gymnastics Wesley Chapel \nHomeschool Level 1 (co-ed Gymnastics) \nTue|2:15 PM – 3:15 PM \nSuncoast Gymnastics Wesley Chapel \n2441 Old Cypress Creek Rd \nLand O Lakes\, FL 34639
URL:https://funhomeschoolflorida.com/event/wesley-chapel-homeschool-level-1-co-ed-gymnastics-suncoast-gymnastics-wesley-chapel/2026-04-28/
LOCATION:Suncoast Gymnastics Wesley Chapel\, 2441 Old Cypress Creek Rd\, Land O Lakes\, FL\, 34639\, United States
CATEGORIES:Tampa Bay
ATTACH;FMTTYPE=image/png:https://funhomeschoolflorida.com/wp-content/uploads/2026/03/1692635624.f00edf02b723b7b23483d6ca116ab8a31251d1d9-1.png
END:VEVENT
BEGIN:VEVENT
DTSTART;TZID=America/New_York:20260505T141500
DTEND;TZID=America/New_York:20260505T151500
DTSTAMP:20260425T115842
CREATED:20260311T034654Z
LAST-MODIFIED:20260418T210925Z
UID:10003481-1777990500-1777994100@funhomeschoolflorida.com
SUMMARY:[Wesley Chapel] Homeschool Level 1 (co-ed Gymnastics) Suncoast Gymnastics Wesley Chapel
DESCRIPTION:Suncoast Gymnastics Wesley Chapel \nHomeschool Level 1 (co-ed Gymnastics) \nTue|2:15 PM – 3:15 PM \nSuncoast Gymnastics Wesley Chapel \n2441 Old Cypress Creek Rd \nLand O Lakes\, FL 34639
URL:https://funhomeschoolflorida.com/event/wesley-chapel-homeschool-level-1-co-ed-gymnastics-suncoast-gymnastics-wesley-chapel/2026-05-05/
LOCATION:Suncoast Gymnastics Wesley Chapel\, 2441 Old Cypress Creek Rd\, Land O Lakes\, FL\, 34639\, United States
CATEGORIES:Tampa Bay
ATTACH;FMTTYPE=image/png:https://funhomeschoolflorida.com/wp-content/uploads/2026/03/1692635624.f00edf02b723b7b23483d6ca116ab8a31251d1d9-1.png
END:VEVENT
BEGIN:VEVENT
DTSTART;TZID=America/New_York:20260512T141500
DTEND;TZID=America/New_York:20260512T151500
DTSTAMP:20260425T115842
CREATED:20260311T034654Z
LAST-MODIFIED:20260418T210925Z
UID:10003482-1778595300-1778598900@funhomeschoolflorida.com
SUMMARY:[Wesley Chapel] Homeschool Level 1 (co-ed Gymnastics) Suncoast Gymnastics Wesley Chapel
DESCRIPTION:Suncoast Gymnastics Wesley Chapel \nHomeschool Level 1 (co-ed Gymnastics) \nTue|2:15 PM – 3:15 PM \nSuncoast Gymnastics Wesley Chapel \n2441 Old Cypress Creek Rd \nLand O Lakes\, FL 34639
URL:https://funhomeschoolflorida.com/event/wesley-chapel-homeschool-level-1-co-ed-gymnastics-suncoast-gymnastics-wesley-chapel/2026-05-12/
LOCATION:Suncoast Gymnastics Wesley Chapel\, 2441 Old Cypress Creek Rd\, Land O Lakes\, FL\, 34639\, United States
CATEGORIES:Tampa Bay
ATTACH;FMTTYPE=image/png:https://funhomeschoolflorida.com/wp-content/uploads/2026/03/1692635624.f00edf02b723b7b23483d6ca116ab8a31251d1d9-1.png
END:VEVENT
BEGIN:VEVENT
DTSTART;TZID=America/New_York:20260519T141500
DTEND;TZID=America/New_York:20260519T151500
DTSTAMP:20260425T115842
CREATED:20260311T034654Z
LAST-MODIFIED:20260418T210925Z
UID:10003483-1779200100-1779203700@funhomeschoolflorida.com
SUMMARY:[Wesley Chapel] Homeschool Level 1 (co-ed Gymnastics) Suncoast Gymnastics Wesley Chapel
DESCRIPTION:Suncoast Gymnastics Wesley Chapel \nHomeschool Level 1 (co-ed Gymnastics) \nTue|2:15 PM – 3:15 PM \nSuncoast Gymnastics Wesley Chapel \n2441 Old Cypress Creek Rd \nLand O Lakes\, FL 34639
URL:https://funhomeschoolflorida.com/event/wesley-chapel-homeschool-level-1-co-ed-gymnastics-suncoast-gymnastics-wesley-chapel/2026-05-19/
LOCATION:Suncoast Gymnastics Wesley Chapel\, 2441 Old Cypress Creek Rd\, Land O Lakes\, FL\, 34639\, United States
CATEGORIES:Tampa Bay
ATTACH;FMTTYPE=image/png:https://funhomeschoolflorida.com/wp-content/uploads/2026/03/1692635624.f00edf02b723b7b23483d6ca116ab8a31251d1d9-1.png
END:VEVENT
BEGIN:VEVENT
DTSTART;TZID=America/New_York:20260526T141500
DTEND;TZID=America/New_York:20260526T151500
DTSTAMP:20260425T115842
CREATED:20260311T034654Z
LAST-MODIFIED:20260418T210925Z
UID:10003484-1779804900-1779808500@funhomeschoolflorida.com
SUMMARY:[Wesley Chapel] Homeschool Level 1 (co-ed Gymnastics) Suncoast Gymnastics Wesley Chapel
DESCRIPTION:Suncoast Gymnastics Wesley Chapel \nHomeschool Level 1 (co-ed Gymnastics) \nTue|2:15 PM – 3:15 PM \nSuncoast Gymnastics Wesley Chapel \n2441 Old Cypress Creek Rd \nLand O Lakes\, FL 34639
URL:https://funhomeschoolflorida.com/event/wesley-chapel-homeschool-level-1-co-ed-gymnastics-suncoast-gymnastics-wesley-chapel/2026-05-26/
LOCATION:Suncoast Gymnastics Wesley Chapel\, 2441 Old Cypress Creek Rd\, Land O Lakes\, FL\, 34639\, United States
CATEGORIES:Tampa Bay
ATTACH;FMTTYPE=image/png:https://funhomeschoolflorida.com/wp-content/uploads/2026/03/1692635624.f00edf02b723b7b23483d6ca116ab8a31251d1d9-1.png
END:VEVENT
END:VCALENDAR