BEGIN:VCALENDAR
VERSION:2.0
PRODID:-// - ECPv6.15.20//NONSGML v1.0//EN
CALSCALE:GREGORIAN
METHOD:PUBLISH
X-ORIGINAL-URL:https://funhomeschoolflorida.com
X-WR-CALDESC:Events for 
REFRESH-INTERVAL;VALUE=DURATION:PT1H
X-Robots-Tag:noindex
X-PUBLISHED-TTL:PT1H
BEGIN:VTIMEZONE
TZID:America/New_York
BEGIN:DAYLIGHT
TZOFFSETFROM:-0500
TZOFFSETTO:-0400
TZNAME:EDT
DTSTART:20250309T070000
END:DAYLIGHT
BEGIN:STANDARD
TZOFFSETFROM:-0400
TZOFFSETTO:-0500
TZNAME:EST
DTSTART:20251102T060000
END:STANDARD
BEGIN:DAYLIGHT
TZOFFSETFROM:-0500
TZOFFSETTO:-0400
TZNAME:EDT
DTSTART:20260308T070000
END:DAYLIGHT
BEGIN:STANDARD
TZOFFSETFROM:-0400
TZOFFSETTO:-0500
TZNAME:EST
DTSTART:20261101T060000
END:STANDARD
BEGIN:DAYLIGHT
TZOFFSETFROM:-0500
TZOFFSETTO:-0400
TZNAME:EDT
DTSTART:20270314T070000
END:DAYLIGHT
BEGIN:STANDARD
TZOFFSETFROM:-0400
TZOFFSETTO:-0500
TZNAME:EST
DTSTART:20271107T060000
END:STANDARD
END:VTIMEZONE
BEGIN:VEVENT
DTSTART;TZID=America/New_York:20260417T100000
DTEND;TZID=America/New_York:20260417T140000
DTSTAMP:20260419T083255
CREATED:20260117T182257Z
LAST-MODIFIED:20260417T223904Z
UID:10001132-1776420000-1776434400@funhomeschoolflorida.com
SUMMARY:🌟 Frost Science Museum Field Trip with SFLHRC 🌟
DESCRIPTION:Frost Science Museum Field Trip with SFLHRC \n📍 Location: Frost Science Museum\, 1101 Biscayne Blvd\, Miami\, FL 33132 \n📅 Date: April 17\, 2026 \n👧👦 Ages: 7 – 12 \n💲 Cost: $35.00 per person – PARENTS and CHILDREN must pay! \n🕙 Meeting Time: 10:00 am at the front entrance \nJoin SFLHRC for an unforgettable day of discovery at the Phillip and Patricia Frost Museum of Science! Students will explore interactive exhibits\, dive into hands-on learning\, and enjoy a dazzling planetarium show. \n🗓 Schedule of Events: \n10:00 am – 1:15 pm: Explore the museum and enjoy lunch on your own. \n10:30 am & 12:00 pm: Two Learning Lab Sessions – Building the Future (24 students per session). \n1:15 pm: Meet at the Planetarium. \n1:30 pm: Planetarium Show. \n2:00 pm+: Wrap-up with SFLHRC; however\, you can stay until closing! \n🔬 Learning Lab – Building the Future \nStudents will step into the role of engineers in this 45-minute\, hands-on learning experience. They’ll work in teams to design\, build\, and test bridges that meet real-world challenges of weight and length. Through planning\, building\, testing\, and redesigning\, students will sharpen their creativity\, problem-solving\, teamwork\, and perseverance. \n👩‍👩‍👧 Parent Participation \nParents are welcome to register and join the group for the museum exploration and planetarium show. However\, due to space limitations\, only SFLHRC staff may accompany students inside the Learning Lab. Parents can relax or explore nearby exhibits during this time. \n✨ Get ready for a day filled with science\, innovation\, and fun at the Frost Science Museum! \n  \nRegister and pay through their website\, link below.
URL:https://funhomeschoolflorida.com/event/%f0%9f%8c%9f-frost-science-museum-field-trip-with-sflhrc-%f0%9f%8c%9f/
LOCATION:Frost Science Museum\, 1101 Biscayne Blvd\, Miami\, FL\, 33132\, United States
CATEGORIES:Broward County
ATTACH;FMTTYPE=image/jpeg:https://funhomeschoolflorida.com/wp-content/uploads/2026/01/football-playoff-promo-image-1920x1080-1-1536x864-1.jpg
ORGANIZER;CN="SFLHRC - South Florida Homeschool Resource Center":MAILTO:info@sflhrc.com
END:VEVENT
BEGIN:VEVENT
DTSTART;TZID=America/New_York:20260306T094500
DTEND;TZID=America/New_York:20260306T120000
DTSTAMP:20260419T083255
CREATED:20260117T180538Z
LAST-MODIFIED:20260417T144124Z
UID:10001131-1772790300-1772798400@funhomeschoolflorida.com
SUMMARY:SFLHRC 🌍 Field Trip: Map It Out: Explorers at Vizcaya! 🌍
DESCRIPTION:👦🏽 Ages: 7 – 12 \nDiscover\, Navigate\, Collaborate! \nGet ready for an exciting journey through time and place! \nIn this exploration adventure\, students will dive into the story of Vizcaya and how cultural exchange and South Florida’s unique geography shaped this iconic estate. \nYoung explorers will team up for a fun-filled scavenger hunt using real maps and compasses\, all while learning the value of teamwork\, problem-solving\, and the cooperative spirit that defines our South Florida community. \n📆 Day: Friday\, March 6\, 2026 \n⏰ Time: 9:45 am – 12:00 pm \n💵 Cost: \nBoth\, parents AND children pay $20.00. \nParents you MUST register yourselves. \n📍Address: \nVizcaya Museum and Gardens \n3251 South Miami Ave. Miami Fl. 33129 \n  \nRegister and pay through their website\, link below \n  \n 
URL:https://funhomeschoolflorida.com/event/sflhrc-%f0%9f%8c%8d-field-trip-map-it-out-explorers-at-vizcaya-%f0%9f%8c%8d/
LOCATION:Vizcaya Museum & Gardens\, 3251 S Miami Ave\, Miami\, FL 33129\, Miami\, FL\, 33129\, United States
CATEGORIES:Broward County
ATTACH;FMTTYPE=image/jpeg:https://funhomeschoolflorida.com/wp-content/uploads/2026/01/vizcaya-video-home-1-copy-1400x747-1.jpg
ORGANIZER;CN="SFLHRC - South Florida Homeschool Resource Center":MAILTO:info@sflhrc.com
END:VEVENT
BEGIN:VEVENT
DTSTART;TZID=America/New_York:20260220T094500
DTEND;TZID=America/New_York:20260220T120000
DTSTAMP:20260419T083255
CREATED:20260117T173145Z
LAST-MODIFIED:20260418T031816Z
UID:10001130-1771580700-1771588800@funhomeschoolflorida.com
SUMMARY:SFLHRC Teen Field Trip: CSI: New River – Secrets in the Soil
DESCRIPTION:👦🏽 Ages: 12 – 17 \nStep into the shoes of a crime scene investigator as we travel back to 1836 and uncover the mystery of the Cooley incident along the New River. \nIn this immersive field trip\, students will explore the past with a modern twist—analyzing historical evidence like real forensic anthropologists and bio-archaeologists. \nUsing skeletal clues\, crime scene techniques\, and critical thinking\, they’ll piece together what really happened to the Cooley family and their tutor. \nFrom collecting evidence to interpreting forensic data\, students will gain a unique perspective on how science and history come together to tell untold stories. \n📆 Date: February 20\, 2026 \n⏰ Time: am 9:45 am – 12:00 pm \nPlease arrive eraly to find METERED PARKING or park in the lot on SW 3rd Avenue. \n💵 Cost: $15 for EVERYONE – adults and children \nPlease register EVERYONE attending. \nEvery human “body” counts due to space limitations. \n📍 Address: 231 SW 2nd Avenue\, Fort Lauderdale \n❗️ NOTE: Feel free to pack a picnic lunch to enjoy at the picnic tables next to the museum on the river. \nRegister and pay through their website\, link below.
URL:https://funhomeschoolflorida.com/event/sflhrc-teen-field-trip-csi-new-river-secrets-in-the-soil/
LOCATION:History Fort Lauderdale\, 231 SW 2nd Avenue\, Fort Lauderdale\, FL\, United States
CATEGORIES:Broward County
ATTACH;FMTTYPE=image/png:https://funhomeschoolflorida.com/wp-content/uploads/2026/01/20260117_122431_0000.png
ORGANIZER;CN="SFLHRC - South Florida Homeschool Resource Center":MAILTO:info@sflhrc.com
END:VEVENT
BEGIN:VEVENT
DTSTART;TZID=America/New_York:20260206T094500
DTEND;TZID=America/New_York:20260206T120000
DTSTAMP:20260419T083255
CREATED:20260117T172122Z
LAST-MODIFIED:20260221T232442Z
UID:10001129-1770371100-1770379200@funhomeschoolflorida.com
SUMMARY:SFLHRC  FIELD TRIP: Roots & Rising: Stories of Fort Lauderdale's African American Pioneers
DESCRIPTION:Join us on a powerful journey through time as we honor the legacy of Fort Lauderdale’s African American trailblazers. \nFrom the determination of Sylvia Aldridge to the advocacy of Eula Johnson\, and the groundbreaking work of Dr. Von Mizell and Dr. Sistrunk\, students will explore the lives and lasting impact of these incredible leaders. \nThrough interactive stories\, artifacts\, and hands-on learning\, we’ll celebrate the vibrant contributions in education\, health\, the arts\, and entrepreneurship that have shaped our community from the 1800s to today. \nA guided visit to History Fort Lauderdale where students will experience history come to life through exhibits\, multimedia presentations\, and cultural displays. They’ll walk the paths of pioneers\, see their neighborhoods\, and hear stories that inspire pride and purpose. \n📆 Day: Friday\, February 6\, 2026 \n⏰ Time: am 9:45 am – 12:00 pm \nPlease arrive eraly to find METERED PARKING or park in the lot on SW 3rd Avenue. \n👦🏽 Ages: 8 – 13 \n💵 Cost: $15 for EVERYONE – adults and children \nPlease register EVERYONE attending. \nEvery human “body” counts due to space limitations. \n📍 Address: 231 SW 2nd Avenue\, Fort Lauderdale \n❗️ NOTE: Feel free to pack a picnic lunch to enjoy at the picnic tables next to the museum on the river. \nPlease register and pay through their website\, link below.
URL:https://funhomeschoolflorida.com/event/roots-rising-stories-of-fort-lauderdales-african-american-pioneers/
LOCATION:History Fort Lauderdale\, 231 SW 2nd Avenue\, Fort Lauderdale\, FL\, United States
CATEGORIES:Broward County
ATTACH;FMTTYPE=image/png:https://funhomeschoolflorida.com/wp-content/uploads/2026/01/20260117_122431_0000.png
ORGANIZER;CN="SFLHRC - South Florida Homeschool Resource Center":MAILTO:info@sflhrc.com
END:VEVENT
END:VCALENDAR