BEGIN:VCALENDAR
VERSION:2.0
PRODID:-// - ECPv6.15.20//NONSGML v1.0//EN
CALSCALE:GREGORIAN
METHOD:PUBLISH
X-ORIGINAL-URL:https://funhomeschoolflorida.com
X-WR-CALDESC:Events for 
REFRESH-INTERVAL;VALUE=DURATION:PT1H
X-Robots-Tag:noindex
X-PUBLISHED-TTL:PT1H
BEGIN:VTIMEZONE
TZID:America/New_York
BEGIN:DAYLIGHT
TZOFFSETFROM:-0500
TZOFFSETTO:-0400
TZNAME:EDT
DTSTART:20250309T070000
END:DAYLIGHT
BEGIN:STANDARD
TZOFFSETFROM:-0400
TZOFFSETTO:-0500
TZNAME:EST
DTSTART:20251102T060000
END:STANDARD
BEGIN:DAYLIGHT
TZOFFSETFROM:-0500
TZOFFSETTO:-0400
TZNAME:EDT
DTSTART:20260308T070000
END:DAYLIGHT
BEGIN:STANDARD
TZOFFSETFROM:-0400
TZOFFSETTO:-0500
TZNAME:EST
DTSTART:20261101T060000
END:STANDARD
BEGIN:DAYLIGHT
TZOFFSETFROM:-0500
TZOFFSETTO:-0400
TZNAME:EDT
DTSTART:20270314T070000
END:DAYLIGHT
BEGIN:STANDARD
TZOFFSETFROM:-0400
TZOFFSETTO:-0500
TZNAME:EST
DTSTART:20271107T060000
END:STANDARD
END:VTIMEZONE
BEGIN:VEVENT
DTSTART;VALUE=DATE:20260402
DTEND;VALUE=DATE:20260403
DTSTAMP:20260419T081853
CREATED:20260301T192126Z
LAST-MODIFIED:20260418T035606Z
UID:10002648-1775088000-1775174399@funhomeschoolflorida.com
SUMMARY:[ Tampa] MOSI HOMESCHOOL CLASS: The Power Company [ LAST DAY TO REGISTER]
DESCRIPTION:Last day to register: Thursday\, April 2\, 2026 \nSEED Ages 8-10: The Power Company \nTuesday\, April 7\, 2026 or Thursday\, April 9\, 2026 \n1:00 pm – 3:00 pm \nNon-members: $25 | Members: $20 \nGet ready to spark curiosity and power up learning. This month is an electrifying class all about circuits\, circuit design\, and the fascinating world of electronics. Students will dive into the basics of electrical current\, components\, and design principles while building their own working circuits from scratch. \nLast day to register: Thursday\, April 2\, 2026 \nHomeschool Science Experience Enrichment Days (SEED) \nSEED Days are monthly enrichment classes for your homeschooler that complement your homeschool curriculum through hands-on explorations of STEAM (Science\, Technology\, Engineering\, Art and Mathematics). \n*Homeschool classes are for students only. We ask that parents make other arrangements during class time. Registration and payment are required at least one week in advance \nProgram Cancellation and Refund Policy \nRefunds for homeschool programs are only available before the registration deadline\, so that your spot can be given to others on the waitlist.I \nAll registrations subject to availability. MOSI reserves the right to cancel classes that have not met the minimum enrollment. Students will be placed in an alternative class when possible. If MOSI cancels a class\, payment will be fully refunded. \nAll refund requests must be made in writing and sent to reservations@mosi.org \nMinimum Age: 8 \nRegister on their website\, link is below
URL:https://funhomeschoolflorida.com/event/mosi-homeschool-class-the-power-company-last-day-to-register/
LOCATION:MOSI\, 4801 E. Fowler Avenue Tampa\, Florida 33617\, FL\, 33617\, United States
CATEGORIES:Tampa Bay
ATTACH;FMTTYPE=image/png:https://funhomeschoolflorida.com/wp-content/uploads/2026/03/camps-big-cloud-e1699902700904.png
END:VEVENT
END:VCALENDAR