BEGIN:VCALENDAR
VERSION:2.0
PRODID:-// - ECPv6.15.20//NONSGML v1.0//EN
CALSCALE:GREGORIAN
METHOD:PUBLISH
X-ORIGINAL-URL:https://funhomeschoolflorida.com
X-WR-CALDESC:Events for 
REFRESH-INTERVAL;VALUE=DURATION:PT1H
X-Robots-Tag:noindex
X-PUBLISHED-TTL:PT1H
BEGIN:VTIMEZONE
TZID:America/New_York
BEGIN:DAYLIGHT
TZOFFSETFROM:-0500
TZOFFSETTO:-0400
TZNAME:EDT
DTSTART:20290311T070000
END:DAYLIGHT
BEGIN:STANDARD
TZOFFSETFROM:-0400
TZOFFSETTO:-0500
TZNAME:EST
DTSTART:20291104T060000
END:STANDARD
BEGIN:DAYLIGHT
TZOFFSETFROM:-0500
TZOFFSETTO:-0400
TZNAME:EDT
DTSTART:20300310T070000
END:DAYLIGHT
BEGIN:STANDARD
TZOFFSETFROM:-0400
TZOFFSETTO:-0500
TZNAME:EST
DTSTART:20301103T060000
END:STANDARD
BEGIN:DAYLIGHT
TZOFFSETFROM:-0500
TZOFFSETTO:-0400
TZNAME:EDT
DTSTART:20310309T070000
END:DAYLIGHT
BEGIN:STANDARD
TZOFFSETFROM:-0400
TZOFFSETTO:-0500
TZNAME:EST
DTSTART:20311102T060000
END:STANDARD
BEGIN:DAYLIGHT
TZOFFSETFROM:-0500
TZOFFSETTO:-0400
TZNAME:EDT
DTSTART:20320314T070000
END:DAYLIGHT
BEGIN:STANDARD
TZOFFSETFROM:-0400
TZOFFSETTO:-0500
TZNAME:EST
DTSTART:20321107T060000
END:STANDARD
END:VTIMEZONE
BEGIN:VEVENT
DTSTART;TZID=America/New_York:20300612T100000
DTEND;TZID=America/New_York:20300612T120000
DTSTAMP:20260420T111857
CREATED:20260301T153318Z
LAST-MODIFIED:20260418T210725Z
UID:10002603-1907488800-1907496000@funhomeschoolflorida.com
SUMMARY:[Tampa] BOUNCE ZONE Homeschool Days
DESCRIPTION:Homeschool Day is every Wednesday from 10 AM – 12 PM\, created for homeschool kids to enjoy active play\, socialize\, and have a blast together! \nEach session is just $15.99 per child (ages 12 and under). \nCome bounce\, laugh\, and make new friends during these exclusive morning sessions — only at Bounce Zone Tampa! 💜
URL:https://funhomeschoolflorida.com/event/tampa-bounce-zone-homeschool-days/2030-06-12/
LOCATION:BOUNCE ZONE\, 5208 West Linebaugh Ave\, Tampa\, FL\, 33624\, United States
CATEGORIES:Tampa Bay
ATTACH;FMTTYPE=image/png:https://funhomeschoolflorida.com/wp-content/uploads/2026/03/ToddlerTime.png
END:VEVENT
BEGIN:VEVENT
DTSTART;TZID=America/New_York:20300619T100000
DTEND;TZID=America/New_York:20300619T120000
DTSTAMP:20260420T111857
CREATED:20260301T153318Z
LAST-MODIFIED:20260418T210725Z
UID:10002604-1908093600-1908100800@funhomeschoolflorida.com
SUMMARY:[Tampa] BOUNCE ZONE Homeschool Days
DESCRIPTION:Homeschool Day is every Wednesday from 10 AM – 12 PM\, created for homeschool kids to enjoy active play\, socialize\, and have a blast together! \nEach session is just $15.99 per child (ages 12 and under). \nCome bounce\, laugh\, and make new friends during these exclusive morning sessions — only at Bounce Zone Tampa! 💜
URL:https://funhomeschoolflorida.com/event/tampa-bounce-zone-homeschool-days/2030-06-19/
LOCATION:BOUNCE ZONE\, 5208 West Linebaugh Ave\, Tampa\, FL\, 33624\, United States
CATEGORIES:Tampa Bay
ATTACH;FMTTYPE=image/png:https://funhomeschoolflorida.com/wp-content/uploads/2026/03/ToddlerTime.png
END:VEVENT
BEGIN:VEVENT
DTSTART;TZID=America/New_York:20300626T100000
DTEND;TZID=America/New_York:20300626T120000
DTSTAMP:20260420T111857
CREATED:20260301T153318Z
LAST-MODIFIED:20260418T210725Z
UID:10002605-1908698400-1908705600@funhomeschoolflorida.com
SUMMARY:[Tampa] BOUNCE ZONE Homeschool Days
DESCRIPTION:Homeschool Day is every Wednesday from 10 AM – 12 PM\, created for homeschool kids to enjoy active play\, socialize\, and have a blast together! \nEach session is just $15.99 per child (ages 12 and under). \nCome bounce\, laugh\, and make new friends during these exclusive morning sessions — only at Bounce Zone Tampa! 💜
URL:https://funhomeschoolflorida.com/event/tampa-bounce-zone-homeschool-days/2030-06-26/
LOCATION:BOUNCE ZONE\, 5208 West Linebaugh Ave\, Tampa\, FL\, 33624\, United States
CATEGORIES:Tampa Bay
ATTACH;FMTTYPE=image/png:https://funhomeschoolflorida.com/wp-content/uploads/2026/03/ToddlerTime.png
END:VEVENT
BEGIN:VEVENT
DTSTART;TZID=America/New_York:20300703T100000
DTEND;TZID=America/New_York:20300703T120000
DTSTAMP:20260420T111857
CREATED:20260301T153318Z
LAST-MODIFIED:20260418T210725Z
UID:10002606-1909303200-1909310400@funhomeschoolflorida.com
SUMMARY:[Tampa] BOUNCE ZONE Homeschool Days
DESCRIPTION:Homeschool Day is every Wednesday from 10 AM – 12 PM\, created for homeschool kids to enjoy active play\, socialize\, and have a blast together! \nEach session is just $15.99 per child (ages 12 and under). \nCome bounce\, laugh\, and make new friends during these exclusive morning sessions — only at Bounce Zone Tampa! 💜
URL:https://funhomeschoolflorida.com/event/tampa-bounce-zone-homeschool-days/2030-07-03/
LOCATION:BOUNCE ZONE\, 5208 West Linebaugh Ave\, Tampa\, FL\, 33624\, United States
CATEGORIES:Tampa Bay
ATTACH;FMTTYPE=image/png:https://funhomeschoolflorida.com/wp-content/uploads/2026/03/ToddlerTime.png
END:VEVENT
BEGIN:VEVENT
DTSTART;TZID=America/New_York:20300710T100000
DTEND;TZID=America/New_York:20300710T120000
DTSTAMP:20260420T111857
CREATED:20260301T153318Z
LAST-MODIFIED:20260418T210725Z
UID:10002607-1909908000-1909915200@funhomeschoolflorida.com
SUMMARY:[Tampa] BOUNCE ZONE Homeschool Days
DESCRIPTION:Homeschool Day is every Wednesday from 10 AM – 12 PM\, created for homeschool kids to enjoy active play\, socialize\, and have a blast together! \nEach session is just $15.99 per child (ages 12 and under). \nCome bounce\, laugh\, and make new friends during these exclusive morning sessions — only at Bounce Zone Tampa! 💜
URL:https://funhomeschoolflorida.com/event/tampa-bounce-zone-homeschool-days/2030-07-10/
LOCATION:BOUNCE ZONE\, 5208 West Linebaugh Ave\, Tampa\, FL\, 33624\, United States
CATEGORIES:Tampa Bay
ATTACH;FMTTYPE=image/png:https://funhomeschoolflorida.com/wp-content/uploads/2026/03/ToddlerTime.png
END:VEVENT
BEGIN:VEVENT
DTSTART;TZID=America/New_York:20300717T100000
DTEND;TZID=America/New_York:20300717T120000
DTSTAMP:20260420T111857
CREATED:20260301T153318Z
LAST-MODIFIED:20260418T210725Z
UID:10002608-1910512800-1910520000@funhomeschoolflorida.com
SUMMARY:[Tampa] BOUNCE ZONE Homeschool Days
DESCRIPTION:Homeschool Day is every Wednesday from 10 AM – 12 PM\, created for homeschool kids to enjoy active play\, socialize\, and have a blast together! \nEach session is just $15.99 per child (ages 12 and under). \nCome bounce\, laugh\, and make new friends during these exclusive morning sessions — only at Bounce Zone Tampa! 💜
URL:https://funhomeschoolflorida.com/event/tampa-bounce-zone-homeschool-days/2030-07-17/
LOCATION:BOUNCE ZONE\, 5208 West Linebaugh Ave\, Tampa\, FL\, 33624\, United States
CATEGORIES:Tampa Bay
ATTACH;FMTTYPE=image/png:https://funhomeschoolflorida.com/wp-content/uploads/2026/03/ToddlerTime.png
END:VEVENT
BEGIN:VEVENT
DTSTART;TZID=America/New_York:20300724T100000
DTEND;TZID=America/New_York:20300724T120000
DTSTAMP:20260420T111857
CREATED:20260301T153318Z
LAST-MODIFIED:20260418T210725Z
UID:10002609-1911117600-1911124800@funhomeschoolflorida.com
SUMMARY:[Tampa] BOUNCE ZONE Homeschool Days
DESCRIPTION:Homeschool Day is every Wednesday from 10 AM – 12 PM\, created for homeschool kids to enjoy active play\, socialize\, and have a blast together! \nEach session is just $15.99 per child (ages 12 and under). \nCome bounce\, laugh\, and make new friends during these exclusive morning sessions — only at Bounce Zone Tampa! 💜
URL:https://funhomeschoolflorida.com/event/tampa-bounce-zone-homeschool-days/2030-07-24/
LOCATION:BOUNCE ZONE\, 5208 West Linebaugh Ave\, Tampa\, FL\, 33624\, United States
CATEGORIES:Tampa Bay
ATTACH;FMTTYPE=image/png:https://funhomeschoolflorida.com/wp-content/uploads/2026/03/ToddlerTime.png
END:VEVENT
BEGIN:VEVENT
DTSTART;TZID=America/New_York:20300731T100000
DTEND;TZID=America/New_York:20300731T120000
DTSTAMP:20260420T111857
CREATED:20260301T153318Z
LAST-MODIFIED:20260418T210725Z
UID:10002610-1911722400-1911729600@funhomeschoolflorida.com
SUMMARY:[Tampa] BOUNCE ZONE Homeschool Days
DESCRIPTION:Homeschool Day is every Wednesday from 10 AM – 12 PM\, created for homeschool kids to enjoy active play\, socialize\, and have a blast together! \nEach session is just $15.99 per child (ages 12 and under). \nCome bounce\, laugh\, and make new friends during these exclusive morning sessions — only at Bounce Zone Tampa! 💜
URL:https://funhomeschoolflorida.com/event/tampa-bounce-zone-homeschool-days/2030-07-31/
LOCATION:BOUNCE ZONE\, 5208 West Linebaugh Ave\, Tampa\, FL\, 33624\, United States
CATEGORIES:Tampa Bay
ATTACH;FMTTYPE=image/png:https://funhomeschoolflorida.com/wp-content/uploads/2026/03/ToddlerTime.png
END:VEVENT
BEGIN:VEVENT
DTSTART;TZID=America/New_York:20300807T100000
DTEND;TZID=America/New_York:20300807T120000
DTSTAMP:20260420T111857
CREATED:20260301T153318Z
LAST-MODIFIED:20260418T210725Z
UID:10002611-1912327200-1912334400@funhomeschoolflorida.com
SUMMARY:[Tampa] BOUNCE ZONE Homeschool Days
DESCRIPTION:Homeschool Day is every Wednesday from 10 AM – 12 PM\, created for homeschool kids to enjoy active play\, socialize\, and have a blast together! \nEach session is just $15.99 per child (ages 12 and under). \nCome bounce\, laugh\, and make new friends during these exclusive morning sessions — only at Bounce Zone Tampa! 💜
URL:https://funhomeschoolflorida.com/event/tampa-bounce-zone-homeschool-days/2030-08-07/
LOCATION:BOUNCE ZONE\, 5208 West Linebaugh Ave\, Tampa\, FL\, 33624\, United States
CATEGORIES:Tampa Bay
ATTACH;FMTTYPE=image/png:https://funhomeschoolflorida.com/wp-content/uploads/2026/03/ToddlerTime.png
END:VEVENT
BEGIN:VEVENT
DTSTART;TZID=America/New_York:20300814T100000
DTEND;TZID=America/New_York:20300814T120000
DTSTAMP:20260420T111857
CREATED:20260301T153318Z
LAST-MODIFIED:20260418T210725Z
UID:10002612-1912932000-1912939200@funhomeschoolflorida.com
SUMMARY:[Tampa] BOUNCE ZONE Homeschool Days
DESCRIPTION:Homeschool Day is every Wednesday from 10 AM – 12 PM\, created for homeschool kids to enjoy active play\, socialize\, and have a blast together! \nEach session is just $15.99 per child (ages 12 and under). \nCome bounce\, laugh\, and make new friends during these exclusive morning sessions — only at Bounce Zone Tampa! 💜
URL:https://funhomeschoolflorida.com/event/tampa-bounce-zone-homeschool-days/2030-08-14/
LOCATION:BOUNCE ZONE\, 5208 West Linebaugh Ave\, Tampa\, FL\, 33624\, United States
CATEGORIES:Tampa Bay
ATTACH;FMTTYPE=image/png:https://funhomeschoolflorida.com/wp-content/uploads/2026/03/ToddlerTime.png
END:VEVENT
BEGIN:VEVENT
DTSTART;TZID=America/New_York:20300821T100000
DTEND;TZID=America/New_York:20300821T120000
DTSTAMP:20260420T111857
CREATED:20260301T153318Z
LAST-MODIFIED:20260418T210725Z
UID:10002613-1913536800-1913544000@funhomeschoolflorida.com
SUMMARY:[Tampa] BOUNCE ZONE Homeschool Days
DESCRIPTION:Homeschool Day is every Wednesday from 10 AM – 12 PM\, created for homeschool kids to enjoy active play\, socialize\, and have a blast together! \nEach session is just $15.99 per child (ages 12 and under). \nCome bounce\, laugh\, and make new friends during these exclusive morning sessions — only at Bounce Zone Tampa! 💜
URL:https://funhomeschoolflorida.com/event/tampa-bounce-zone-homeschool-days/2030-08-21/
LOCATION:BOUNCE ZONE\, 5208 West Linebaugh Ave\, Tampa\, FL\, 33624\, United States
CATEGORIES:Tampa Bay
ATTACH;FMTTYPE=image/png:https://funhomeschoolflorida.com/wp-content/uploads/2026/03/ToddlerTime.png
END:VEVENT
BEGIN:VEVENT
DTSTART;TZID=America/New_York:20300828T100000
DTEND;TZID=America/New_York:20300828T120000
DTSTAMP:20260420T111857
CREATED:20260301T153318Z
LAST-MODIFIED:20260418T210725Z
UID:10002614-1914141600-1914148800@funhomeschoolflorida.com
SUMMARY:[Tampa] BOUNCE ZONE Homeschool Days
DESCRIPTION:Homeschool Day is every Wednesday from 10 AM – 12 PM\, created for homeschool kids to enjoy active play\, socialize\, and have a blast together! \nEach session is just $15.99 per child (ages 12 and under). \nCome bounce\, laugh\, and make new friends during these exclusive morning sessions — only at Bounce Zone Tampa! 💜
URL:https://funhomeschoolflorida.com/event/tampa-bounce-zone-homeschool-days/2030-08-28/
LOCATION:BOUNCE ZONE\, 5208 West Linebaugh Ave\, Tampa\, FL\, 33624\, United States
CATEGORIES:Tampa Bay
ATTACH;FMTTYPE=image/png:https://funhomeschoolflorida.com/wp-content/uploads/2026/03/ToddlerTime.png
END:VEVENT
BEGIN:VEVENT
DTSTART;TZID=America/New_York:20300904T100000
DTEND;TZID=America/New_York:20300904T120000
DTSTAMP:20260420T111858
CREATED:20260301T153318Z
LAST-MODIFIED:20260418T210725Z
UID:10002615-1914746400-1914753600@funhomeschoolflorida.com
SUMMARY:[Tampa] BOUNCE ZONE Homeschool Days
DESCRIPTION:Homeschool Day is every Wednesday from 10 AM – 12 PM\, created for homeschool kids to enjoy active play\, socialize\, and have a blast together! \nEach session is just $15.99 per child (ages 12 and under). \nCome bounce\, laugh\, and make new friends during these exclusive morning sessions — only at Bounce Zone Tampa! 💜
URL:https://funhomeschoolflorida.com/event/tampa-bounce-zone-homeschool-days/2030-09-04/
LOCATION:BOUNCE ZONE\, 5208 West Linebaugh Ave\, Tampa\, FL\, 33624\, United States
CATEGORIES:Tampa Bay
ATTACH;FMTTYPE=image/png:https://funhomeschoolflorida.com/wp-content/uploads/2026/03/ToddlerTime.png
END:VEVENT
BEGIN:VEVENT
DTSTART;TZID=America/New_York:20300911T100000
DTEND;TZID=America/New_York:20300911T120000
DTSTAMP:20260420T111858
CREATED:20260301T153318Z
LAST-MODIFIED:20260418T210725Z
UID:10002616-1915351200-1915358400@funhomeschoolflorida.com
SUMMARY:[Tampa] BOUNCE ZONE Homeschool Days
DESCRIPTION:Homeschool Day is every Wednesday from 10 AM – 12 PM\, created for homeschool kids to enjoy active play\, socialize\, and have a blast together! \nEach session is just $15.99 per child (ages 12 and under). \nCome bounce\, laugh\, and make new friends during these exclusive morning sessions — only at Bounce Zone Tampa! 💜
URL:https://funhomeschoolflorida.com/event/tampa-bounce-zone-homeschool-days/2030-09-11/
LOCATION:BOUNCE ZONE\, 5208 West Linebaugh Ave\, Tampa\, FL\, 33624\, United States
CATEGORIES:Tampa Bay
ATTACH;FMTTYPE=image/png:https://funhomeschoolflorida.com/wp-content/uploads/2026/03/ToddlerTime.png
END:VEVENT
BEGIN:VEVENT
DTSTART;TZID=America/New_York:20300918T100000
DTEND;TZID=America/New_York:20300918T120000
DTSTAMP:20260420T111858
CREATED:20260301T153318Z
LAST-MODIFIED:20260418T210725Z
UID:10002617-1915956000-1915963200@funhomeschoolflorida.com
SUMMARY:[Tampa] BOUNCE ZONE Homeschool Days
DESCRIPTION:Homeschool Day is every Wednesday from 10 AM – 12 PM\, created for homeschool kids to enjoy active play\, socialize\, and have a blast together! \nEach session is just $15.99 per child (ages 12 and under). \nCome bounce\, laugh\, and make new friends during these exclusive morning sessions — only at Bounce Zone Tampa! 💜
URL:https://funhomeschoolflorida.com/event/tampa-bounce-zone-homeschool-days/2030-09-18/
LOCATION:BOUNCE ZONE\, 5208 West Linebaugh Ave\, Tampa\, FL\, 33624\, United States
CATEGORIES:Tampa Bay
ATTACH;FMTTYPE=image/png:https://funhomeschoolflorida.com/wp-content/uploads/2026/03/ToddlerTime.png
END:VEVENT
BEGIN:VEVENT
DTSTART;TZID=America/New_York:20300925T100000
DTEND;TZID=America/New_York:20300925T120000
DTSTAMP:20260420T111858
CREATED:20260301T153318Z
LAST-MODIFIED:20260418T210725Z
UID:10002618-1916560800-1916568000@funhomeschoolflorida.com
SUMMARY:[Tampa] BOUNCE ZONE Homeschool Days
DESCRIPTION:Homeschool Day is every Wednesday from 10 AM – 12 PM\, created for homeschool kids to enjoy active play\, socialize\, and have a blast together! \nEach session is just $15.99 per child (ages 12 and under). \nCome bounce\, laugh\, and make new friends during these exclusive morning sessions — only at Bounce Zone Tampa! 💜
URL:https://funhomeschoolflorida.com/event/tampa-bounce-zone-homeschool-days/2030-09-25/
LOCATION:BOUNCE ZONE\, 5208 West Linebaugh Ave\, Tampa\, FL\, 33624\, United States
CATEGORIES:Tampa Bay
ATTACH;FMTTYPE=image/png:https://funhomeschoolflorida.com/wp-content/uploads/2026/03/ToddlerTime.png
END:VEVENT
BEGIN:VEVENT
DTSTART;TZID=America/New_York:20301002T100000
DTEND;TZID=America/New_York:20301002T120000
DTSTAMP:20260420T111858
CREATED:20260301T153318Z
LAST-MODIFIED:20260418T210725Z
UID:10002619-1917165600-1917172800@funhomeschoolflorida.com
SUMMARY:[Tampa] BOUNCE ZONE Homeschool Days
DESCRIPTION:Homeschool Day is every Wednesday from 10 AM – 12 PM\, created for homeschool kids to enjoy active play\, socialize\, and have a blast together! \nEach session is just $15.99 per child (ages 12 and under). \nCome bounce\, laugh\, and make new friends during these exclusive morning sessions — only at Bounce Zone Tampa! 💜
URL:https://funhomeschoolflorida.com/event/tampa-bounce-zone-homeschool-days/2030-10-02/
LOCATION:BOUNCE ZONE\, 5208 West Linebaugh Ave\, Tampa\, FL\, 33624\, United States
CATEGORIES:Tampa Bay
ATTACH;FMTTYPE=image/png:https://funhomeschoolflorida.com/wp-content/uploads/2026/03/ToddlerTime.png
END:VEVENT
BEGIN:VEVENT
DTSTART;TZID=America/New_York:20301009T100000
DTEND;TZID=America/New_York:20301009T120000
DTSTAMP:20260420T111858
CREATED:20260301T153318Z
LAST-MODIFIED:20260418T210725Z
UID:10002620-1917770400-1917777600@funhomeschoolflorida.com
SUMMARY:[Tampa] BOUNCE ZONE Homeschool Days
DESCRIPTION:Homeschool Day is every Wednesday from 10 AM – 12 PM\, created for homeschool kids to enjoy active play\, socialize\, and have a blast together! \nEach session is just $15.99 per child (ages 12 and under). \nCome bounce\, laugh\, and make new friends during these exclusive morning sessions — only at Bounce Zone Tampa! 💜
URL:https://funhomeschoolflorida.com/event/tampa-bounce-zone-homeschool-days/2030-10-09/
LOCATION:BOUNCE ZONE\, 5208 West Linebaugh Ave\, Tampa\, FL\, 33624\, United States
CATEGORIES:Tampa Bay
ATTACH;FMTTYPE=image/png:https://funhomeschoolflorida.com/wp-content/uploads/2026/03/ToddlerTime.png
END:VEVENT
BEGIN:VEVENT
DTSTART;TZID=America/New_York:20301016T100000
DTEND;TZID=America/New_York:20301016T120000
DTSTAMP:20260420T111858
CREATED:20260301T153318Z
LAST-MODIFIED:20260418T210725Z
UID:10002621-1918375200-1918382400@funhomeschoolflorida.com
SUMMARY:[Tampa] BOUNCE ZONE Homeschool Days
DESCRIPTION:Homeschool Day is every Wednesday from 10 AM – 12 PM\, created for homeschool kids to enjoy active play\, socialize\, and have a blast together! \nEach session is just $15.99 per child (ages 12 and under). \nCome bounce\, laugh\, and make new friends during these exclusive morning sessions — only at Bounce Zone Tampa! 💜
URL:https://funhomeschoolflorida.com/event/tampa-bounce-zone-homeschool-days/2030-10-16/
LOCATION:BOUNCE ZONE\, 5208 West Linebaugh Ave\, Tampa\, FL\, 33624\, United States
CATEGORIES:Tampa Bay
ATTACH;FMTTYPE=image/png:https://funhomeschoolflorida.com/wp-content/uploads/2026/03/ToddlerTime.png
END:VEVENT
BEGIN:VEVENT
DTSTART;TZID=America/New_York:20301023T100000
DTEND;TZID=America/New_York:20301023T120000
DTSTAMP:20260420T111858
CREATED:20260301T153318Z
LAST-MODIFIED:20260418T210725Z
UID:10002622-1918980000-1918987200@funhomeschoolflorida.com
SUMMARY:[Tampa] BOUNCE ZONE Homeschool Days
DESCRIPTION:Homeschool Day is every Wednesday from 10 AM – 12 PM\, created for homeschool kids to enjoy active play\, socialize\, and have a blast together! \nEach session is just $15.99 per child (ages 12 and under). \nCome bounce\, laugh\, and make new friends during these exclusive morning sessions — only at Bounce Zone Tampa! 💜
URL:https://funhomeschoolflorida.com/event/tampa-bounce-zone-homeschool-days/2030-10-23/
LOCATION:BOUNCE ZONE\, 5208 West Linebaugh Ave\, Tampa\, FL\, 33624\, United States
CATEGORIES:Tampa Bay
ATTACH;FMTTYPE=image/png:https://funhomeschoolflorida.com/wp-content/uploads/2026/03/ToddlerTime.png
END:VEVENT
BEGIN:VEVENT
DTSTART;TZID=America/New_York:20301030T100000
DTEND;TZID=America/New_York:20301030T120000
DTSTAMP:20260420T111858
CREATED:20260301T153318Z
LAST-MODIFIED:20260418T210725Z
UID:10002623-1919584800-1919592000@funhomeschoolflorida.com
SUMMARY:[Tampa] BOUNCE ZONE Homeschool Days
DESCRIPTION:Homeschool Day is every Wednesday from 10 AM – 12 PM\, created for homeschool kids to enjoy active play\, socialize\, and have a blast together! \nEach session is just $15.99 per child (ages 12 and under). \nCome bounce\, laugh\, and make new friends during these exclusive morning sessions — only at Bounce Zone Tampa! 💜
URL:https://funhomeschoolflorida.com/event/tampa-bounce-zone-homeschool-days/2030-10-30/
LOCATION:BOUNCE ZONE\, 5208 West Linebaugh Ave\, Tampa\, FL\, 33624\, United States
CATEGORIES:Tampa Bay
ATTACH;FMTTYPE=image/png:https://funhomeschoolflorida.com/wp-content/uploads/2026/03/ToddlerTime.png
END:VEVENT
BEGIN:VEVENT
DTSTART;TZID=America/New_York:20301106T100000
DTEND;TZID=America/New_York:20301106T120000
DTSTAMP:20260420T111858
CREATED:20260301T153318Z
LAST-MODIFIED:20260418T210725Z
UID:10002624-1920189600-1920196800@funhomeschoolflorida.com
SUMMARY:[Tampa] BOUNCE ZONE Homeschool Days
DESCRIPTION:Homeschool Day is every Wednesday from 10 AM – 12 PM\, created for homeschool kids to enjoy active play\, socialize\, and have a blast together! \nEach session is just $15.99 per child (ages 12 and under). \nCome bounce\, laugh\, and make new friends during these exclusive morning sessions — only at Bounce Zone Tampa! 💜
URL:https://funhomeschoolflorida.com/event/tampa-bounce-zone-homeschool-days/2030-11-06/
LOCATION:BOUNCE ZONE\, 5208 West Linebaugh Ave\, Tampa\, FL\, 33624\, United States
CATEGORIES:Tampa Bay
ATTACH;FMTTYPE=image/png:https://funhomeschoolflorida.com/wp-content/uploads/2026/03/ToddlerTime.png
END:VEVENT
BEGIN:VEVENT
DTSTART;TZID=America/New_York:20301113T100000
DTEND;TZID=America/New_York:20301113T120000
DTSTAMP:20260420T111858
CREATED:20260301T153318Z
LAST-MODIFIED:20260418T210725Z
UID:10002625-1920794400-1920801600@funhomeschoolflorida.com
SUMMARY:[Tampa] BOUNCE ZONE Homeschool Days
DESCRIPTION:Homeschool Day is every Wednesday from 10 AM – 12 PM\, created for homeschool kids to enjoy active play\, socialize\, and have a blast together! \nEach session is just $15.99 per child (ages 12 and under). \nCome bounce\, laugh\, and make new friends during these exclusive morning sessions — only at Bounce Zone Tampa! 💜
URL:https://funhomeschoolflorida.com/event/tampa-bounce-zone-homeschool-days/2030-11-13/
LOCATION:BOUNCE ZONE\, 5208 West Linebaugh Ave\, Tampa\, FL\, 33624\, United States
CATEGORIES:Tampa Bay
ATTACH;FMTTYPE=image/png:https://funhomeschoolflorida.com/wp-content/uploads/2026/03/ToddlerTime.png
END:VEVENT
BEGIN:VEVENT
DTSTART;TZID=America/New_York:20301120T100000
DTEND;TZID=America/New_York:20301120T120000
DTSTAMP:20260420T111858
CREATED:20260301T153318Z
LAST-MODIFIED:20260418T210725Z
UID:10002626-1921399200-1921406400@funhomeschoolflorida.com
SUMMARY:[Tampa] BOUNCE ZONE Homeschool Days
DESCRIPTION:Homeschool Day is every Wednesday from 10 AM – 12 PM\, created for homeschool kids to enjoy active play\, socialize\, and have a blast together! \nEach session is just $15.99 per child (ages 12 and under). \nCome bounce\, laugh\, and make new friends during these exclusive morning sessions — only at Bounce Zone Tampa! 💜
URL:https://funhomeschoolflorida.com/event/tampa-bounce-zone-homeschool-days/2030-11-20/
LOCATION:BOUNCE ZONE\, 5208 West Linebaugh Ave\, Tampa\, FL\, 33624\, United States
CATEGORIES:Tampa Bay
ATTACH;FMTTYPE=image/png:https://funhomeschoolflorida.com/wp-content/uploads/2026/03/ToddlerTime.png
END:VEVENT
BEGIN:VEVENT
DTSTART;TZID=America/New_York:20301127T100000
DTEND;TZID=America/New_York:20301127T120000
DTSTAMP:20260420T111858
CREATED:20260301T153318Z
LAST-MODIFIED:20260418T210725Z
UID:10002627-1922004000-1922011200@funhomeschoolflorida.com
SUMMARY:[Tampa] BOUNCE ZONE Homeschool Days
DESCRIPTION:Homeschool Day is every Wednesday from 10 AM – 12 PM\, created for homeschool kids to enjoy active play\, socialize\, and have a blast together! \nEach session is just $15.99 per child (ages 12 and under). \nCome bounce\, laugh\, and make new friends during these exclusive morning sessions — only at Bounce Zone Tampa! 💜
URL:https://funhomeschoolflorida.com/event/tampa-bounce-zone-homeschool-days/2030-11-27/
LOCATION:BOUNCE ZONE\, 5208 West Linebaugh Ave\, Tampa\, FL\, 33624\, United States
CATEGORIES:Tampa Bay
ATTACH;FMTTYPE=image/png:https://funhomeschoolflorida.com/wp-content/uploads/2026/03/ToddlerTime.png
END:VEVENT
BEGIN:VEVENT
DTSTART;TZID=America/New_York:20301204T100000
DTEND;TZID=America/New_York:20301204T120000
DTSTAMP:20260420T111858
CREATED:20260301T153318Z
LAST-MODIFIED:20260418T210725Z
UID:10002628-1922608800-1922616000@funhomeschoolflorida.com
SUMMARY:[Tampa] BOUNCE ZONE Homeschool Days
DESCRIPTION:Homeschool Day is every Wednesday from 10 AM – 12 PM\, created for homeschool kids to enjoy active play\, socialize\, and have a blast together! \nEach session is just $15.99 per child (ages 12 and under). \nCome bounce\, laugh\, and make new friends during these exclusive morning sessions — only at Bounce Zone Tampa! 💜
URL:https://funhomeschoolflorida.com/event/tampa-bounce-zone-homeschool-days/2030-12-04/
LOCATION:BOUNCE ZONE\, 5208 West Linebaugh Ave\, Tampa\, FL\, 33624\, United States
CATEGORIES:Tampa Bay
ATTACH;FMTTYPE=image/png:https://funhomeschoolflorida.com/wp-content/uploads/2026/03/ToddlerTime.png
END:VEVENT
BEGIN:VEVENT
DTSTART;TZID=America/New_York:20301211T100000
DTEND;TZID=America/New_York:20301211T120000
DTSTAMP:20260420T111858
CREATED:20260301T153318Z
LAST-MODIFIED:20260418T210725Z
UID:10002629-1923213600-1923220800@funhomeschoolflorida.com
SUMMARY:[Tampa] BOUNCE ZONE Homeschool Days
DESCRIPTION:Homeschool Day is every Wednesday from 10 AM – 12 PM\, created for homeschool kids to enjoy active play\, socialize\, and have a blast together! \nEach session is just $15.99 per child (ages 12 and under). \nCome bounce\, laugh\, and make new friends during these exclusive morning sessions — only at Bounce Zone Tampa! 💜
URL:https://funhomeschoolflorida.com/event/tampa-bounce-zone-homeschool-days/2030-12-11/
LOCATION:BOUNCE ZONE\, 5208 West Linebaugh Ave\, Tampa\, FL\, 33624\, United States
CATEGORIES:Tampa Bay
ATTACH;FMTTYPE=image/png:https://funhomeschoolflorida.com/wp-content/uploads/2026/03/ToddlerTime.png
END:VEVENT
BEGIN:VEVENT
DTSTART;TZID=America/New_York:20301218T100000
DTEND;TZID=America/New_York:20301218T120000
DTSTAMP:20260420T111858
CREATED:20260301T153318Z
LAST-MODIFIED:20260418T210725Z
UID:10002630-1923818400-1923825600@funhomeschoolflorida.com
SUMMARY:[Tampa] BOUNCE ZONE Homeschool Days
DESCRIPTION:Homeschool Day is every Wednesday from 10 AM – 12 PM\, created for homeschool kids to enjoy active play\, socialize\, and have a blast together! \nEach session is just $15.99 per child (ages 12 and under). \nCome bounce\, laugh\, and make new friends during these exclusive morning sessions — only at Bounce Zone Tampa! 💜
URL:https://funhomeschoolflorida.com/event/tampa-bounce-zone-homeschool-days/2030-12-18/
LOCATION:BOUNCE ZONE\, 5208 West Linebaugh Ave\, Tampa\, FL\, 33624\, United States
CATEGORIES:Tampa Bay
ATTACH;FMTTYPE=image/png:https://funhomeschoolflorida.com/wp-content/uploads/2026/03/ToddlerTime.png
END:VEVENT
BEGIN:VEVENT
DTSTART;TZID=America/New_York:20301225T100000
DTEND;TZID=America/New_York:20301225T120000
DTSTAMP:20260420T111858
CREATED:20260301T153318Z
LAST-MODIFIED:20260418T210725Z
UID:10002631-1924423200-1924430400@funhomeschoolflorida.com
SUMMARY:[Tampa] BOUNCE ZONE Homeschool Days
DESCRIPTION:Homeschool Day is every Wednesday from 10 AM – 12 PM\, created for homeschool kids to enjoy active play\, socialize\, and have a blast together! \nEach session is just $15.99 per child (ages 12 and under). \nCome bounce\, laugh\, and make new friends during these exclusive morning sessions — only at Bounce Zone Tampa! 💜
URL:https://funhomeschoolflorida.com/event/tampa-bounce-zone-homeschool-days/2030-12-25/
LOCATION:BOUNCE ZONE\, 5208 West Linebaugh Ave\, Tampa\, FL\, 33624\, United States
CATEGORIES:Tampa Bay
ATTACH;FMTTYPE=image/png:https://funhomeschoolflorida.com/wp-content/uploads/2026/03/ToddlerTime.png
END:VEVENT
BEGIN:VEVENT
DTSTART;TZID=America/New_York:20310101T100000
DTEND;TZID=America/New_York:20310101T120000
DTSTAMP:20260420T111858
CREATED:20260301T153318Z
LAST-MODIFIED:20260418T210725Z
UID:10002632-1925028000-1925035200@funhomeschoolflorida.com
SUMMARY:[Tampa] BOUNCE ZONE Homeschool Days
DESCRIPTION:Homeschool Day is every Wednesday from 10 AM – 12 PM\, created for homeschool kids to enjoy active play\, socialize\, and have a blast together! \nEach session is just $15.99 per child (ages 12 and under). \nCome bounce\, laugh\, and make new friends during these exclusive morning sessions — only at Bounce Zone Tampa! 💜
URL:https://funhomeschoolflorida.com/event/tampa-bounce-zone-homeschool-days/2031-01-01/
LOCATION:BOUNCE ZONE\, 5208 West Linebaugh Ave\, Tampa\, FL\, 33624\, United States
CATEGORIES:Tampa Bay
ATTACH;FMTTYPE=image/png:https://funhomeschoolflorida.com/wp-content/uploads/2026/03/ToddlerTime.png
END:VEVENT
END:VCALENDAR