BEGIN:VCALENDAR
VERSION:2.0
PRODID:-// - ECPv6.15.20//NONSGML v1.0//EN
CALSCALE:GREGORIAN
METHOD:PUBLISH
X-ORIGINAL-URL:https://funhomeschoolflorida.com
X-WR-CALDESC:Events for 
REFRESH-INTERVAL;VALUE=DURATION:PT1H
X-Robots-Tag:noindex
X-PUBLISHED-TTL:PT1H
BEGIN:VTIMEZONE
TZID:America/New_York
BEGIN:DAYLIGHT
TZOFFSETFROM:-0500
TZOFFSETTO:-0400
TZNAME:EDT
DTSTART:20280312T070000
END:DAYLIGHT
BEGIN:STANDARD
TZOFFSETFROM:-0400
TZOFFSETTO:-0500
TZNAME:EST
DTSTART:20281105T060000
END:STANDARD
BEGIN:DAYLIGHT
TZOFFSETFROM:-0500
TZOFFSETTO:-0400
TZNAME:EDT
DTSTART:20290311T070000
END:DAYLIGHT
BEGIN:STANDARD
TZOFFSETFROM:-0400
TZOFFSETTO:-0500
TZNAME:EST
DTSTART:20291104T060000
END:STANDARD
BEGIN:DAYLIGHT
TZOFFSETFROM:-0500
TZOFFSETTO:-0400
TZNAME:EDT
DTSTART:20300310T070000
END:DAYLIGHT
BEGIN:STANDARD
TZOFFSETFROM:-0400
TZOFFSETTO:-0500
TZNAME:EST
DTSTART:20301103T060000
END:STANDARD
END:VTIMEZONE
BEGIN:VEVENT
DTSTART;TZID=America/New_York:20290418T100000
DTEND;TZID=America/New_York:20290418T120000
DTSTAMP:20260420T013429
CREATED:20260301T153318Z
LAST-MODIFIED:20260418T210725Z
UID:10002543-1871200800-1871208000@funhomeschoolflorida.com
SUMMARY:[Tampa] BOUNCE ZONE Homeschool Days
DESCRIPTION:Homeschool Day is every Wednesday from 10 AM – 12 PM\, created for homeschool kids to enjoy active play\, socialize\, and have a blast together! \nEach session is just $15.99 per child (ages 12 and under). \nCome bounce\, laugh\, and make new friends during these exclusive morning sessions — only at Bounce Zone Tampa! 💜
URL:https://funhomeschoolflorida.com/event/tampa-bounce-zone-homeschool-days/2029-04-18/
LOCATION:BOUNCE ZONE\, 5208 West Linebaugh Ave\, Tampa\, FL\, 33624\, United States
CATEGORIES:Tampa Bay
ATTACH;FMTTYPE=image/png:https://funhomeschoolflorida.com/wp-content/uploads/2026/03/ToddlerTime.png
END:VEVENT
BEGIN:VEVENT
DTSTART;TZID=America/New_York:20290425T100000
DTEND;TZID=America/New_York:20290425T120000
DTSTAMP:20260420T013429
CREATED:20260301T153318Z
LAST-MODIFIED:20260418T210725Z
UID:10002544-1871805600-1871812800@funhomeschoolflorida.com
SUMMARY:[Tampa] BOUNCE ZONE Homeschool Days
DESCRIPTION:Homeschool Day is every Wednesday from 10 AM – 12 PM\, created for homeschool kids to enjoy active play\, socialize\, and have a blast together! \nEach session is just $15.99 per child (ages 12 and under). \nCome bounce\, laugh\, and make new friends during these exclusive morning sessions — only at Bounce Zone Tampa! 💜
URL:https://funhomeschoolflorida.com/event/tampa-bounce-zone-homeschool-days/2029-04-25/
LOCATION:BOUNCE ZONE\, 5208 West Linebaugh Ave\, Tampa\, FL\, 33624\, United States
CATEGORIES:Tampa Bay
ATTACH;FMTTYPE=image/png:https://funhomeschoolflorida.com/wp-content/uploads/2026/03/ToddlerTime.png
END:VEVENT
BEGIN:VEVENT
DTSTART;TZID=America/New_York:20290502T100000
DTEND;TZID=America/New_York:20290502T120000
DTSTAMP:20260420T013429
CREATED:20260301T153318Z
LAST-MODIFIED:20260418T210725Z
UID:10002545-1872410400-1872417600@funhomeschoolflorida.com
SUMMARY:[Tampa] BOUNCE ZONE Homeschool Days
DESCRIPTION:Homeschool Day is every Wednesday from 10 AM – 12 PM\, created for homeschool kids to enjoy active play\, socialize\, and have a blast together! \nEach session is just $15.99 per child (ages 12 and under). \nCome bounce\, laugh\, and make new friends during these exclusive morning sessions — only at Bounce Zone Tampa! 💜
URL:https://funhomeschoolflorida.com/event/tampa-bounce-zone-homeschool-days/2029-05-02/
LOCATION:BOUNCE ZONE\, 5208 West Linebaugh Ave\, Tampa\, FL\, 33624\, United States
CATEGORIES:Tampa Bay
ATTACH;FMTTYPE=image/png:https://funhomeschoolflorida.com/wp-content/uploads/2026/03/ToddlerTime.png
END:VEVENT
BEGIN:VEVENT
DTSTART;TZID=America/New_York:20290509T100000
DTEND;TZID=America/New_York:20290509T120000
DTSTAMP:20260420T013429
CREATED:20260301T153318Z
LAST-MODIFIED:20260418T210725Z
UID:10002546-1873015200-1873022400@funhomeschoolflorida.com
SUMMARY:[Tampa] BOUNCE ZONE Homeschool Days
DESCRIPTION:Homeschool Day is every Wednesday from 10 AM – 12 PM\, created for homeschool kids to enjoy active play\, socialize\, and have a blast together! \nEach session is just $15.99 per child (ages 12 and under). \nCome bounce\, laugh\, and make new friends during these exclusive morning sessions — only at Bounce Zone Tampa! 💜
URL:https://funhomeschoolflorida.com/event/tampa-bounce-zone-homeschool-days/2029-05-09/
LOCATION:BOUNCE ZONE\, 5208 West Linebaugh Ave\, Tampa\, FL\, 33624\, United States
CATEGORIES:Tampa Bay
ATTACH;FMTTYPE=image/png:https://funhomeschoolflorida.com/wp-content/uploads/2026/03/ToddlerTime.png
END:VEVENT
BEGIN:VEVENT
DTSTART;TZID=America/New_York:20290516T100000
DTEND;TZID=America/New_York:20290516T120000
DTSTAMP:20260420T013429
CREATED:20260301T153318Z
LAST-MODIFIED:20260418T210725Z
UID:10002547-1873620000-1873627200@funhomeschoolflorida.com
SUMMARY:[Tampa] BOUNCE ZONE Homeschool Days
DESCRIPTION:Homeschool Day is every Wednesday from 10 AM – 12 PM\, created for homeschool kids to enjoy active play\, socialize\, and have a blast together! \nEach session is just $15.99 per child (ages 12 and under). \nCome bounce\, laugh\, and make new friends during these exclusive morning sessions — only at Bounce Zone Tampa! 💜
URL:https://funhomeschoolflorida.com/event/tampa-bounce-zone-homeschool-days/2029-05-16/
LOCATION:BOUNCE ZONE\, 5208 West Linebaugh Ave\, Tampa\, FL\, 33624\, United States
CATEGORIES:Tampa Bay
ATTACH;FMTTYPE=image/png:https://funhomeschoolflorida.com/wp-content/uploads/2026/03/ToddlerTime.png
END:VEVENT
BEGIN:VEVENT
DTSTART;TZID=America/New_York:20290523T100000
DTEND;TZID=America/New_York:20290523T120000
DTSTAMP:20260420T013429
CREATED:20260301T153318Z
LAST-MODIFIED:20260418T210725Z
UID:10002548-1874224800-1874232000@funhomeschoolflorida.com
SUMMARY:[Tampa] BOUNCE ZONE Homeschool Days
DESCRIPTION:Homeschool Day is every Wednesday from 10 AM – 12 PM\, created for homeschool kids to enjoy active play\, socialize\, and have a blast together! \nEach session is just $15.99 per child (ages 12 and under). \nCome bounce\, laugh\, and make new friends during these exclusive morning sessions — only at Bounce Zone Tampa! 💜
URL:https://funhomeschoolflorida.com/event/tampa-bounce-zone-homeschool-days/2029-05-23/
LOCATION:BOUNCE ZONE\, 5208 West Linebaugh Ave\, Tampa\, FL\, 33624\, United States
CATEGORIES:Tampa Bay
ATTACH;FMTTYPE=image/png:https://funhomeschoolflorida.com/wp-content/uploads/2026/03/ToddlerTime.png
END:VEVENT
BEGIN:VEVENT
DTSTART;TZID=America/New_York:20290530T100000
DTEND;TZID=America/New_York:20290530T120000
DTSTAMP:20260420T013429
CREATED:20260301T153318Z
LAST-MODIFIED:20260418T210725Z
UID:10002549-1874829600-1874836800@funhomeschoolflorida.com
SUMMARY:[Tampa] BOUNCE ZONE Homeschool Days
DESCRIPTION:Homeschool Day is every Wednesday from 10 AM – 12 PM\, created for homeschool kids to enjoy active play\, socialize\, and have a blast together! \nEach session is just $15.99 per child (ages 12 and under). \nCome bounce\, laugh\, and make new friends during these exclusive morning sessions — only at Bounce Zone Tampa! 💜
URL:https://funhomeschoolflorida.com/event/tampa-bounce-zone-homeschool-days/2029-05-30/
LOCATION:BOUNCE ZONE\, 5208 West Linebaugh Ave\, Tampa\, FL\, 33624\, United States
CATEGORIES:Tampa Bay
ATTACH;FMTTYPE=image/png:https://funhomeschoolflorida.com/wp-content/uploads/2026/03/ToddlerTime.png
END:VEVENT
BEGIN:VEVENT
DTSTART;TZID=America/New_York:20290606T100000
DTEND;TZID=America/New_York:20290606T120000
DTSTAMP:20260420T013429
CREATED:20260301T153318Z
LAST-MODIFIED:20260418T210725Z
UID:10002550-1875434400-1875441600@funhomeschoolflorida.com
SUMMARY:[Tampa] BOUNCE ZONE Homeschool Days
DESCRIPTION:Homeschool Day is every Wednesday from 10 AM – 12 PM\, created for homeschool kids to enjoy active play\, socialize\, and have a blast together! \nEach session is just $15.99 per child (ages 12 and under). \nCome bounce\, laugh\, and make new friends during these exclusive morning sessions — only at Bounce Zone Tampa! 💜
URL:https://funhomeschoolflorida.com/event/tampa-bounce-zone-homeschool-days/2029-06-06/
LOCATION:BOUNCE ZONE\, 5208 West Linebaugh Ave\, Tampa\, FL\, 33624\, United States
CATEGORIES:Tampa Bay
ATTACH;FMTTYPE=image/png:https://funhomeschoolflorida.com/wp-content/uploads/2026/03/ToddlerTime.png
END:VEVENT
BEGIN:VEVENT
DTSTART;TZID=America/New_York:20290613T100000
DTEND;TZID=America/New_York:20290613T120000
DTSTAMP:20260420T013429
CREATED:20260301T153318Z
LAST-MODIFIED:20260418T210725Z
UID:10002551-1876039200-1876046400@funhomeschoolflorida.com
SUMMARY:[Tampa] BOUNCE ZONE Homeschool Days
DESCRIPTION:Homeschool Day is every Wednesday from 10 AM – 12 PM\, created for homeschool kids to enjoy active play\, socialize\, and have a blast together! \nEach session is just $15.99 per child (ages 12 and under). \nCome bounce\, laugh\, and make new friends during these exclusive morning sessions — only at Bounce Zone Tampa! 💜
URL:https://funhomeschoolflorida.com/event/tampa-bounce-zone-homeschool-days/2029-06-13/
LOCATION:BOUNCE ZONE\, 5208 West Linebaugh Ave\, Tampa\, FL\, 33624\, United States
CATEGORIES:Tampa Bay
ATTACH;FMTTYPE=image/png:https://funhomeschoolflorida.com/wp-content/uploads/2026/03/ToddlerTime.png
END:VEVENT
BEGIN:VEVENT
DTSTART;TZID=America/New_York:20290620T100000
DTEND;TZID=America/New_York:20290620T120000
DTSTAMP:20260420T013429
CREATED:20260301T153318Z
LAST-MODIFIED:20260418T210725Z
UID:10002552-1876644000-1876651200@funhomeschoolflorida.com
SUMMARY:[Tampa] BOUNCE ZONE Homeschool Days
DESCRIPTION:Homeschool Day is every Wednesday from 10 AM – 12 PM\, created for homeschool kids to enjoy active play\, socialize\, and have a blast together! \nEach session is just $15.99 per child (ages 12 and under). \nCome bounce\, laugh\, and make new friends during these exclusive morning sessions — only at Bounce Zone Tampa! 💜
URL:https://funhomeschoolflorida.com/event/tampa-bounce-zone-homeschool-days/2029-06-20/
LOCATION:BOUNCE ZONE\, 5208 West Linebaugh Ave\, Tampa\, FL\, 33624\, United States
CATEGORIES:Tampa Bay
ATTACH;FMTTYPE=image/png:https://funhomeschoolflorida.com/wp-content/uploads/2026/03/ToddlerTime.png
END:VEVENT
BEGIN:VEVENT
DTSTART;TZID=America/New_York:20290627T100000
DTEND;TZID=America/New_York:20290627T120000
DTSTAMP:20260420T013429
CREATED:20260301T153318Z
LAST-MODIFIED:20260418T210725Z
UID:10002553-1877248800-1877256000@funhomeschoolflorida.com
SUMMARY:[Tampa] BOUNCE ZONE Homeschool Days
DESCRIPTION:Homeschool Day is every Wednesday from 10 AM – 12 PM\, created for homeschool kids to enjoy active play\, socialize\, and have a blast together! \nEach session is just $15.99 per child (ages 12 and under). \nCome bounce\, laugh\, and make new friends during these exclusive morning sessions — only at Bounce Zone Tampa! 💜
URL:https://funhomeschoolflorida.com/event/tampa-bounce-zone-homeschool-days/2029-06-27/
LOCATION:BOUNCE ZONE\, 5208 West Linebaugh Ave\, Tampa\, FL\, 33624\, United States
CATEGORIES:Tampa Bay
ATTACH;FMTTYPE=image/png:https://funhomeschoolflorida.com/wp-content/uploads/2026/03/ToddlerTime.png
END:VEVENT
BEGIN:VEVENT
DTSTART;TZID=America/New_York:20290704T100000
DTEND;TZID=America/New_York:20290704T120000
DTSTAMP:20260420T013429
CREATED:20260301T153318Z
LAST-MODIFIED:20260418T210725Z
UID:10002554-1877853600-1877860800@funhomeschoolflorida.com
SUMMARY:[Tampa] BOUNCE ZONE Homeschool Days
DESCRIPTION:Homeschool Day is every Wednesday from 10 AM – 12 PM\, created for homeschool kids to enjoy active play\, socialize\, and have a blast together! \nEach session is just $15.99 per child (ages 12 and under). \nCome bounce\, laugh\, and make new friends during these exclusive morning sessions — only at Bounce Zone Tampa! 💜
URL:https://funhomeschoolflorida.com/event/tampa-bounce-zone-homeschool-days/2029-07-04/
LOCATION:BOUNCE ZONE\, 5208 West Linebaugh Ave\, Tampa\, FL\, 33624\, United States
CATEGORIES:Tampa Bay
ATTACH;FMTTYPE=image/png:https://funhomeschoolflorida.com/wp-content/uploads/2026/03/ToddlerTime.png
END:VEVENT
BEGIN:VEVENT
DTSTART;TZID=America/New_York:20290711T100000
DTEND;TZID=America/New_York:20290711T120000
DTSTAMP:20260420T013429
CREATED:20260301T153318Z
LAST-MODIFIED:20260418T210725Z
UID:10002555-1878458400-1878465600@funhomeschoolflorida.com
SUMMARY:[Tampa] BOUNCE ZONE Homeschool Days
DESCRIPTION:Homeschool Day is every Wednesday from 10 AM – 12 PM\, created for homeschool kids to enjoy active play\, socialize\, and have a blast together! \nEach session is just $15.99 per child (ages 12 and under). \nCome bounce\, laugh\, and make new friends during these exclusive morning sessions — only at Bounce Zone Tampa! 💜
URL:https://funhomeschoolflorida.com/event/tampa-bounce-zone-homeschool-days/2029-07-11/
LOCATION:BOUNCE ZONE\, 5208 West Linebaugh Ave\, Tampa\, FL\, 33624\, United States
CATEGORIES:Tampa Bay
ATTACH;FMTTYPE=image/png:https://funhomeschoolflorida.com/wp-content/uploads/2026/03/ToddlerTime.png
END:VEVENT
BEGIN:VEVENT
DTSTART;TZID=America/New_York:20290718T100000
DTEND;TZID=America/New_York:20290718T120000
DTSTAMP:20260420T013429
CREATED:20260301T153318Z
LAST-MODIFIED:20260418T210725Z
UID:10002556-1879063200-1879070400@funhomeschoolflorida.com
SUMMARY:[Tampa] BOUNCE ZONE Homeschool Days
DESCRIPTION:Homeschool Day is every Wednesday from 10 AM – 12 PM\, created for homeschool kids to enjoy active play\, socialize\, and have a blast together! \nEach session is just $15.99 per child (ages 12 and under). \nCome bounce\, laugh\, and make new friends during these exclusive morning sessions — only at Bounce Zone Tampa! 💜
URL:https://funhomeschoolflorida.com/event/tampa-bounce-zone-homeschool-days/2029-07-18/
LOCATION:BOUNCE ZONE\, 5208 West Linebaugh Ave\, Tampa\, FL\, 33624\, United States
CATEGORIES:Tampa Bay
ATTACH;FMTTYPE=image/png:https://funhomeschoolflorida.com/wp-content/uploads/2026/03/ToddlerTime.png
END:VEVENT
BEGIN:VEVENT
DTSTART;TZID=America/New_York:20290725T100000
DTEND;TZID=America/New_York:20290725T120000
DTSTAMP:20260420T013429
CREATED:20260301T153318Z
LAST-MODIFIED:20260418T210725Z
UID:10002557-1879668000-1879675200@funhomeschoolflorida.com
SUMMARY:[Tampa] BOUNCE ZONE Homeschool Days
DESCRIPTION:Homeschool Day is every Wednesday from 10 AM – 12 PM\, created for homeschool kids to enjoy active play\, socialize\, and have a blast together! \nEach session is just $15.99 per child (ages 12 and under). \nCome bounce\, laugh\, and make new friends during these exclusive morning sessions — only at Bounce Zone Tampa! 💜
URL:https://funhomeschoolflorida.com/event/tampa-bounce-zone-homeschool-days/2029-07-25/
LOCATION:BOUNCE ZONE\, 5208 West Linebaugh Ave\, Tampa\, FL\, 33624\, United States
CATEGORIES:Tampa Bay
ATTACH;FMTTYPE=image/png:https://funhomeschoolflorida.com/wp-content/uploads/2026/03/ToddlerTime.png
END:VEVENT
BEGIN:VEVENT
DTSTART;TZID=America/New_York:20290801T100000
DTEND;TZID=America/New_York:20290801T120000
DTSTAMP:20260420T013429
CREATED:20260301T153318Z
LAST-MODIFIED:20260418T210725Z
UID:10002558-1880272800-1880280000@funhomeschoolflorida.com
SUMMARY:[Tampa] BOUNCE ZONE Homeschool Days
DESCRIPTION:Homeschool Day is every Wednesday from 10 AM – 12 PM\, created for homeschool kids to enjoy active play\, socialize\, and have a blast together! \nEach session is just $15.99 per child (ages 12 and under). \nCome bounce\, laugh\, and make new friends during these exclusive morning sessions — only at Bounce Zone Tampa! 💜
URL:https://funhomeschoolflorida.com/event/tampa-bounce-zone-homeschool-days/2029-08-01/
LOCATION:BOUNCE ZONE\, 5208 West Linebaugh Ave\, Tampa\, FL\, 33624\, United States
CATEGORIES:Tampa Bay
ATTACH;FMTTYPE=image/png:https://funhomeschoolflorida.com/wp-content/uploads/2026/03/ToddlerTime.png
END:VEVENT
BEGIN:VEVENT
DTSTART;TZID=America/New_York:20290808T100000
DTEND;TZID=America/New_York:20290808T120000
DTSTAMP:20260420T013429
CREATED:20260301T153318Z
LAST-MODIFIED:20260418T210725Z
UID:10002559-1880877600-1880884800@funhomeschoolflorida.com
SUMMARY:[Tampa] BOUNCE ZONE Homeschool Days
DESCRIPTION:Homeschool Day is every Wednesday from 10 AM – 12 PM\, created for homeschool kids to enjoy active play\, socialize\, and have a blast together! \nEach session is just $15.99 per child (ages 12 and under). \nCome bounce\, laugh\, and make new friends during these exclusive morning sessions — only at Bounce Zone Tampa! 💜
URL:https://funhomeschoolflorida.com/event/tampa-bounce-zone-homeschool-days/2029-08-08/
LOCATION:BOUNCE ZONE\, 5208 West Linebaugh Ave\, Tampa\, FL\, 33624\, United States
CATEGORIES:Tampa Bay
ATTACH;FMTTYPE=image/png:https://funhomeschoolflorida.com/wp-content/uploads/2026/03/ToddlerTime.png
END:VEVENT
BEGIN:VEVENT
DTSTART;TZID=America/New_York:20290815T100000
DTEND;TZID=America/New_York:20290815T120000
DTSTAMP:20260420T013429
CREATED:20260301T153318Z
LAST-MODIFIED:20260418T210725Z
UID:10002560-1881482400-1881489600@funhomeschoolflorida.com
SUMMARY:[Tampa] BOUNCE ZONE Homeschool Days
DESCRIPTION:Homeschool Day is every Wednesday from 10 AM – 12 PM\, created for homeschool kids to enjoy active play\, socialize\, and have a blast together! \nEach session is just $15.99 per child (ages 12 and under). \nCome bounce\, laugh\, and make new friends during these exclusive morning sessions — only at Bounce Zone Tampa! 💜
URL:https://funhomeschoolflorida.com/event/tampa-bounce-zone-homeschool-days/2029-08-15/
LOCATION:BOUNCE ZONE\, 5208 West Linebaugh Ave\, Tampa\, FL\, 33624\, United States
CATEGORIES:Tampa Bay
ATTACH;FMTTYPE=image/png:https://funhomeschoolflorida.com/wp-content/uploads/2026/03/ToddlerTime.png
END:VEVENT
BEGIN:VEVENT
DTSTART;TZID=America/New_York:20290822T100000
DTEND;TZID=America/New_York:20290822T120000
DTSTAMP:20260420T013429
CREATED:20260301T153318Z
LAST-MODIFIED:20260418T210725Z
UID:10002561-1882087200-1882094400@funhomeschoolflorida.com
SUMMARY:[Tampa] BOUNCE ZONE Homeschool Days
DESCRIPTION:Homeschool Day is every Wednesday from 10 AM – 12 PM\, created for homeschool kids to enjoy active play\, socialize\, and have a blast together! \nEach session is just $15.99 per child (ages 12 and under). \nCome bounce\, laugh\, and make new friends during these exclusive morning sessions — only at Bounce Zone Tampa! 💜
URL:https://funhomeschoolflorida.com/event/tampa-bounce-zone-homeschool-days/2029-08-22/
LOCATION:BOUNCE ZONE\, 5208 West Linebaugh Ave\, Tampa\, FL\, 33624\, United States
CATEGORIES:Tampa Bay
ATTACH;FMTTYPE=image/png:https://funhomeschoolflorida.com/wp-content/uploads/2026/03/ToddlerTime.png
END:VEVENT
BEGIN:VEVENT
DTSTART;TZID=America/New_York:20290829T100000
DTEND;TZID=America/New_York:20290829T120000
DTSTAMP:20260420T013429
CREATED:20260301T153318Z
LAST-MODIFIED:20260418T210725Z
UID:10002562-1882692000-1882699200@funhomeschoolflorida.com
SUMMARY:[Tampa] BOUNCE ZONE Homeschool Days
DESCRIPTION:Homeschool Day is every Wednesday from 10 AM – 12 PM\, created for homeschool kids to enjoy active play\, socialize\, and have a blast together! \nEach session is just $15.99 per child (ages 12 and under). \nCome bounce\, laugh\, and make new friends during these exclusive morning sessions — only at Bounce Zone Tampa! 💜
URL:https://funhomeschoolflorida.com/event/tampa-bounce-zone-homeschool-days/2029-08-29/
LOCATION:BOUNCE ZONE\, 5208 West Linebaugh Ave\, Tampa\, FL\, 33624\, United States
CATEGORIES:Tampa Bay
ATTACH;FMTTYPE=image/png:https://funhomeschoolflorida.com/wp-content/uploads/2026/03/ToddlerTime.png
END:VEVENT
BEGIN:VEVENT
DTSTART;TZID=America/New_York:20290905T100000
DTEND;TZID=America/New_York:20290905T120000
DTSTAMP:20260420T013429
CREATED:20260301T153318Z
LAST-MODIFIED:20260418T210725Z
UID:10002563-1883296800-1883304000@funhomeschoolflorida.com
SUMMARY:[Tampa] BOUNCE ZONE Homeschool Days
DESCRIPTION:Homeschool Day is every Wednesday from 10 AM – 12 PM\, created for homeschool kids to enjoy active play\, socialize\, and have a blast together! \nEach session is just $15.99 per child (ages 12 and under). \nCome bounce\, laugh\, and make new friends during these exclusive morning sessions — only at Bounce Zone Tampa! 💜
URL:https://funhomeschoolflorida.com/event/tampa-bounce-zone-homeschool-days/2029-09-05/
LOCATION:BOUNCE ZONE\, 5208 West Linebaugh Ave\, Tampa\, FL\, 33624\, United States
CATEGORIES:Tampa Bay
ATTACH;FMTTYPE=image/png:https://funhomeschoolflorida.com/wp-content/uploads/2026/03/ToddlerTime.png
END:VEVENT
BEGIN:VEVENT
DTSTART;TZID=America/New_York:20290912T100000
DTEND;TZID=America/New_York:20290912T120000
DTSTAMP:20260420T013429
CREATED:20260301T153318Z
LAST-MODIFIED:20260418T210725Z
UID:10002564-1883901600-1883908800@funhomeschoolflorida.com
SUMMARY:[Tampa] BOUNCE ZONE Homeschool Days
DESCRIPTION:Homeschool Day is every Wednesday from 10 AM – 12 PM\, created for homeschool kids to enjoy active play\, socialize\, and have a blast together! \nEach session is just $15.99 per child (ages 12 and under). \nCome bounce\, laugh\, and make new friends during these exclusive morning sessions — only at Bounce Zone Tampa! 💜
URL:https://funhomeschoolflorida.com/event/tampa-bounce-zone-homeschool-days/2029-09-12/
LOCATION:BOUNCE ZONE\, 5208 West Linebaugh Ave\, Tampa\, FL\, 33624\, United States
CATEGORIES:Tampa Bay
ATTACH;FMTTYPE=image/png:https://funhomeschoolflorida.com/wp-content/uploads/2026/03/ToddlerTime.png
END:VEVENT
BEGIN:VEVENT
DTSTART;TZID=America/New_York:20290919T100000
DTEND;TZID=America/New_York:20290919T120000
DTSTAMP:20260420T013429
CREATED:20260301T153318Z
LAST-MODIFIED:20260418T210725Z
UID:10002565-1884506400-1884513600@funhomeschoolflorida.com
SUMMARY:[Tampa] BOUNCE ZONE Homeschool Days
DESCRIPTION:Homeschool Day is every Wednesday from 10 AM – 12 PM\, created for homeschool kids to enjoy active play\, socialize\, and have a blast together! \nEach session is just $15.99 per child (ages 12 and under). \nCome bounce\, laugh\, and make new friends during these exclusive morning sessions — only at Bounce Zone Tampa! 💜
URL:https://funhomeschoolflorida.com/event/tampa-bounce-zone-homeschool-days/2029-09-19/
LOCATION:BOUNCE ZONE\, 5208 West Linebaugh Ave\, Tampa\, FL\, 33624\, United States
CATEGORIES:Tampa Bay
ATTACH;FMTTYPE=image/png:https://funhomeschoolflorida.com/wp-content/uploads/2026/03/ToddlerTime.png
END:VEVENT
BEGIN:VEVENT
DTSTART;TZID=America/New_York:20290926T100000
DTEND;TZID=America/New_York:20290926T120000
DTSTAMP:20260420T013429
CREATED:20260301T153318Z
LAST-MODIFIED:20260418T210725Z
UID:10002566-1885111200-1885118400@funhomeschoolflorida.com
SUMMARY:[Tampa] BOUNCE ZONE Homeschool Days
DESCRIPTION:Homeschool Day is every Wednesday from 10 AM – 12 PM\, created for homeschool kids to enjoy active play\, socialize\, and have a blast together! \nEach session is just $15.99 per child (ages 12 and under). \nCome bounce\, laugh\, and make new friends during these exclusive morning sessions — only at Bounce Zone Tampa! 💜
URL:https://funhomeschoolflorida.com/event/tampa-bounce-zone-homeschool-days/2029-09-26/
LOCATION:BOUNCE ZONE\, 5208 West Linebaugh Ave\, Tampa\, FL\, 33624\, United States
CATEGORIES:Tampa Bay
ATTACH;FMTTYPE=image/png:https://funhomeschoolflorida.com/wp-content/uploads/2026/03/ToddlerTime.png
END:VEVENT
BEGIN:VEVENT
DTSTART;TZID=America/New_York:20291003T100000
DTEND;TZID=America/New_York:20291003T120000
DTSTAMP:20260420T013429
CREATED:20260301T153318Z
LAST-MODIFIED:20260418T210725Z
UID:10002567-1885716000-1885723200@funhomeschoolflorida.com
SUMMARY:[Tampa] BOUNCE ZONE Homeschool Days
DESCRIPTION:Homeschool Day is every Wednesday from 10 AM – 12 PM\, created for homeschool kids to enjoy active play\, socialize\, and have a blast together! \nEach session is just $15.99 per child (ages 12 and under). \nCome bounce\, laugh\, and make new friends during these exclusive morning sessions — only at Bounce Zone Tampa! 💜
URL:https://funhomeschoolflorida.com/event/tampa-bounce-zone-homeschool-days/2029-10-03/
LOCATION:BOUNCE ZONE\, 5208 West Linebaugh Ave\, Tampa\, FL\, 33624\, United States
CATEGORIES:Tampa Bay
ATTACH;FMTTYPE=image/png:https://funhomeschoolflorida.com/wp-content/uploads/2026/03/ToddlerTime.png
END:VEVENT
BEGIN:VEVENT
DTSTART;TZID=America/New_York:20291010T100000
DTEND;TZID=America/New_York:20291010T120000
DTSTAMP:20260420T013430
CREATED:20260301T153318Z
LAST-MODIFIED:20260418T210725Z
UID:10002568-1886320800-1886328000@funhomeschoolflorida.com
SUMMARY:[Tampa] BOUNCE ZONE Homeschool Days
DESCRIPTION:Homeschool Day is every Wednesday from 10 AM – 12 PM\, created for homeschool kids to enjoy active play\, socialize\, and have a blast together! \nEach session is just $15.99 per child (ages 12 and under). \nCome bounce\, laugh\, and make new friends during these exclusive morning sessions — only at Bounce Zone Tampa! 💜
URL:https://funhomeschoolflorida.com/event/tampa-bounce-zone-homeschool-days/2029-10-10/
LOCATION:BOUNCE ZONE\, 5208 West Linebaugh Ave\, Tampa\, FL\, 33624\, United States
CATEGORIES:Tampa Bay
ATTACH;FMTTYPE=image/png:https://funhomeschoolflorida.com/wp-content/uploads/2026/03/ToddlerTime.png
END:VEVENT
BEGIN:VEVENT
DTSTART;TZID=America/New_York:20291017T100000
DTEND;TZID=America/New_York:20291017T120000
DTSTAMP:20260420T013430
CREATED:20260301T153318Z
LAST-MODIFIED:20260418T210725Z
UID:10002569-1886925600-1886932800@funhomeschoolflorida.com
SUMMARY:[Tampa] BOUNCE ZONE Homeschool Days
DESCRIPTION:Homeschool Day is every Wednesday from 10 AM – 12 PM\, created for homeschool kids to enjoy active play\, socialize\, and have a blast together! \nEach session is just $15.99 per child (ages 12 and under). \nCome bounce\, laugh\, and make new friends during these exclusive morning sessions — only at Bounce Zone Tampa! 💜
URL:https://funhomeschoolflorida.com/event/tampa-bounce-zone-homeschool-days/2029-10-17/
LOCATION:BOUNCE ZONE\, 5208 West Linebaugh Ave\, Tampa\, FL\, 33624\, United States
CATEGORIES:Tampa Bay
ATTACH;FMTTYPE=image/png:https://funhomeschoolflorida.com/wp-content/uploads/2026/03/ToddlerTime.png
END:VEVENT
BEGIN:VEVENT
DTSTART;TZID=America/New_York:20291024T100000
DTEND;TZID=America/New_York:20291024T120000
DTSTAMP:20260420T013430
CREATED:20260301T153318Z
LAST-MODIFIED:20260418T210725Z
UID:10002570-1887530400-1887537600@funhomeschoolflorida.com
SUMMARY:[Tampa] BOUNCE ZONE Homeschool Days
DESCRIPTION:Homeschool Day is every Wednesday from 10 AM – 12 PM\, created for homeschool kids to enjoy active play\, socialize\, and have a blast together! \nEach session is just $15.99 per child (ages 12 and under). \nCome bounce\, laugh\, and make new friends during these exclusive morning sessions — only at Bounce Zone Tampa! 💜
URL:https://funhomeschoolflorida.com/event/tampa-bounce-zone-homeschool-days/2029-10-24/
LOCATION:BOUNCE ZONE\, 5208 West Linebaugh Ave\, Tampa\, FL\, 33624\, United States
CATEGORIES:Tampa Bay
ATTACH;FMTTYPE=image/png:https://funhomeschoolflorida.com/wp-content/uploads/2026/03/ToddlerTime.png
END:VEVENT
BEGIN:VEVENT
DTSTART;TZID=America/New_York:20291031T100000
DTEND;TZID=America/New_York:20291031T120000
DTSTAMP:20260420T013430
CREATED:20260301T153318Z
LAST-MODIFIED:20260418T210725Z
UID:10002571-1888135200-1888142400@funhomeschoolflorida.com
SUMMARY:[Tampa] BOUNCE ZONE Homeschool Days
DESCRIPTION:Homeschool Day is every Wednesday from 10 AM – 12 PM\, created for homeschool kids to enjoy active play\, socialize\, and have a blast together! \nEach session is just $15.99 per child (ages 12 and under). \nCome bounce\, laugh\, and make new friends during these exclusive morning sessions — only at Bounce Zone Tampa! 💜
URL:https://funhomeschoolflorida.com/event/tampa-bounce-zone-homeschool-days/2029-10-31/
LOCATION:BOUNCE ZONE\, 5208 West Linebaugh Ave\, Tampa\, FL\, 33624\, United States
CATEGORIES:Tampa Bay
ATTACH;FMTTYPE=image/png:https://funhomeschoolflorida.com/wp-content/uploads/2026/03/ToddlerTime.png
END:VEVENT
BEGIN:VEVENT
DTSTART;TZID=America/New_York:20291107T100000
DTEND;TZID=America/New_York:20291107T120000
DTSTAMP:20260420T013430
CREATED:20260301T153318Z
LAST-MODIFIED:20260418T210725Z
UID:10002572-1888740000-1888747200@funhomeschoolflorida.com
SUMMARY:[Tampa] BOUNCE ZONE Homeschool Days
DESCRIPTION:Homeschool Day is every Wednesday from 10 AM – 12 PM\, created for homeschool kids to enjoy active play\, socialize\, and have a blast together! \nEach session is just $15.99 per child (ages 12 and under). \nCome bounce\, laugh\, and make new friends during these exclusive morning sessions — only at Bounce Zone Tampa! 💜
URL:https://funhomeschoolflorida.com/event/tampa-bounce-zone-homeschool-days/2029-11-07/
LOCATION:BOUNCE ZONE\, 5208 West Linebaugh Ave\, Tampa\, FL\, 33624\, United States
CATEGORIES:Tampa Bay
ATTACH;FMTTYPE=image/png:https://funhomeschoolflorida.com/wp-content/uploads/2026/03/ToddlerTime.png
END:VEVENT
END:VCALENDAR