BEGIN:VCALENDAR
VERSION:2.0
PRODID:-// - ECPv6.15.20//NONSGML v1.0//EN
CALSCALE:GREGORIAN
METHOD:PUBLISH
X-ORIGINAL-URL:https://funhomeschoolflorida.com
X-WR-CALDESC:Events for 
REFRESH-INTERVAL;VALUE=DURATION:PT1H
X-Robots-Tag:noindex
X-PUBLISHED-TTL:PT1H
BEGIN:VTIMEZONE
TZID:America/New_York
BEGIN:DAYLIGHT
TZOFFSETFROM:-0500
TZOFFSETTO:-0400
TZNAME:EDT
DTSTART:20250309T070000
END:DAYLIGHT
BEGIN:STANDARD
TZOFFSETFROM:-0400
TZOFFSETTO:-0500
TZNAME:EST
DTSTART:20251102T060000
END:STANDARD
BEGIN:DAYLIGHT
TZOFFSETFROM:-0500
TZOFFSETTO:-0400
TZNAME:EDT
DTSTART:20260308T070000
END:DAYLIGHT
BEGIN:STANDARD
TZOFFSETFROM:-0400
TZOFFSETTO:-0500
TZNAME:EST
DTSTART:20261101T060000
END:STANDARD
BEGIN:DAYLIGHT
TZOFFSETFROM:-0500
TZOFFSETTO:-0400
TZNAME:EDT
DTSTART:20270314T070000
END:DAYLIGHT
BEGIN:STANDARD
TZOFFSETFROM:-0400
TZOFFSETTO:-0500
TZNAME:EST
DTSTART:20271107T060000
END:STANDARD
END:VTIMEZONE
BEGIN:VEVENT
DTSTART;TZID=America/New_York:20260325T130000
DTEND;TZID=America/New_York:20260325T130000
DTSTAMP:20260421T080757
CREATED:20260228T112750Z
LAST-MODIFIED:20260418T210115Z
UID:10003581-1774443600-1774443600@funhomeschoolflorida.com
SUMMARY:[Holmes Beach] Kids Club Beach Day
DESCRIPTION:Address: 4000 State Road 64 and Gulf Drive\, Holmes Beach\, FL 34217 \n  \nWe will wait for everyone at the playground. 🛝 \nBEACH DAY! 🏖️ \ncome join us for some sunshine and sand! \nManatee Beach is a little drive\, \nHowever it provides free parking\, a playground\, a snack bar\, and clean restrooms. \n  \nThis is a FREE Homeschool social group! \nBoys and Girls clubs ages 5-9 (or around that) \nOf course siblings can tag along🙃👍 \nThis week‘s theme is Beach Day! 🌴 \nFeel free to bring some sand toys or any snacks you would like.🫶 \nSee ya there!!
URL:https://funhomeschoolflorida.com/event/kids-club-beach-day/
LOCATION:Manatee Public Beach\, 4000 State Road 64 and Gulf Drive\, Holmes Beach\, FL\, 34217\, United States
CATEGORIES:Tampa Bay
ATTACH;FMTTYPE=image/jpeg:https://funhomeschoolflorida.com/wp-content/uploads/2026/02/FB_IMG_1772277585215.jpg
END:VEVENT
END:VCALENDAR