BEGIN:VCALENDAR
VERSION:2.0
PRODID:-// - ECPv6.15.20//NONSGML v1.0//EN
CALSCALE:GREGORIAN
METHOD:PUBLISH
X-ORIGINAL-URL:https://funhomeschoolflorida.com
X-WR-CALDESC:Events for 
REFRESH-INTERVAL;VALUE=DURATION:PT1H
X-Robots-Tag:noindex
X-PUBLISHED-TTL:PT1H
BEGIN:VTIMEZONE
TZID:America/New_York
BEGIN:DAYLIGHT
TZOFFSETFROM:-0500
TZOFFSETTO:-0400
TZNAME:EDT
DTSTART:20250309T070000
END:DAYLIGHT
BEGIN:STANDARD
TZOFFSETFROM:-0400
TZOFFSETTO:-0500
TZNAME:EST
DTSTART:20251102T060000
END:STANDARD
BEGIN:DAYLIGHT
TZOFFSETFROM:-0500
TZOFFSETTO:-0400
TZNAME:EDT
DTSTART:20260308T070000
END:DAYLIGHT
BEGIN:STANDARD
TZOFFSETFROM:-0400
TZOFFSETTO:-0500
TZNAME:EST
DTSTART:20261101T060000
END:STANDARD
BEGIN:DAYLIGHT
TZOFFSETFROM:-0500
TZOFFSETTO:-0400
TZNAME:EDT
DTSTART:20270314T070000
END:DAYLIGHT
BEGIN:STANDARD
TZOFFSETFROM:-0400
TZOFFSETTO:-0500
TZNAME:EST
DTSTART:20271107T060000
END:STANDARD
END:VTIMEZONE
BEGIN:VEVENT
DTSTART;TZID=America/New_York:20260414T133000
DTEND;TZID=America/New_York:20260414T143000
DTSTAMP:20260419T100934
CREATED:20260325T183800Z
LAST-MODIFIED:20260417T224627Z
UID:10003792-1776173400-1776177000@funhomeschoolflorida.com
SUMMARY:Kids Homeschool Art Club-ART PAPER SCISSORS ​PLANTATION
DESCRIPTION:ART PAPER SCISSORS PLANTATION \nKids Homeschool Art Club \nIn this 1 hour class for ages 5 to 10\, step into a world of creativity\, culture\, and color in our fun and engaging homeschool art classes! Our Art Around the World program takes students on a global journey\, exploring famous artists\, unique styles\, and cultural traditions from every corner of the map. Each class introduces a new country or region through a bite-sized lesson\, a featured artist or art style\, and a hands-on project that brings the learning to life. \nSeries appointment times: \nApril 7th\, 2026 at 1:30 PM \nApril 14th\, 2026 at 1:30 PM \nApril 21st\, 2026 at 1:30 PM \nApril 28th\, 2026 at 1:30 PM \nPlease register and pay through their website\, link below.
URL:https://funhomeschoolflorida.com/event/kids-homeschool-art-club-art-paper-scissors-plantation-2/2026-04-14/
LOCATION:ART PAPER SCISSORS ​PLANTATION\, 821 N Nob Hill Road\, Plantation\, FL\, 33324\, United States
CATEGORIES:Broward County
ATTACH;FMTTYPE=image/jpeg:https://funhomeschoolflorida.com/wp-content/uploads/2026/01/appointmentType-thumb-50733713.jpg
END:VEVENT
BEGIN:VEVENT
DTSTART;TZID=America/New_York:20260413T130000
DTEND;TZID=America/New_York:20260413T140000
DTSTAMP:20260419T100934
CREATED:20260117T114139Z
LAST-MODIFIED:20260415T032715Z
UID:10001075-1776085200-1776088800@funhomeschoolflorida.com
SUMMARY:Kids Homeschool Art Club-ART PAPER SCISSORS ​PARKLAND
DESCRIPTION:Homeschool Art Club – February\, Mondays 1pm with Art Paper Scissors \nIn this 1 hour class\, step into a world of creativity\, culture\, and color! Our Art Around the World program takes students on a global journey\, exploring famous artists\, unique styles\, and cultural traditions from every corner of the map. Each class introduces a new country or region through a bite-sized lesson\, a featured artist or art style\, and a hands-on project that brings the learning to life.Series appointment times \nFebruary 2nd\, 2026 at 1:00 PM \nFebruary 9th\, 2026 at 1:00 PM \nFebruary 23rd\, 2026 at 1:00 PM \n$60.00 \nPlease register and pay through their website\, link below.
URL:https://funhomeschoolflorida.com/event/kids-homeschool-art-club-art-paper-scissors-parkland/2026-04-13/
LOCATION:ART PAPER SCISSORS ​PARKLAND\, 6654 Parkside Drive\, Parkland\, 33067\, United States
CATEGORIES:Broward County
ATTACH;FMTTYPE=image/jpeg:https://funhomeschoolflorida.com/wp-content/uploads/2026/01/appointmentType-thumb-50733713.jpg
END:VEVENT
BEGIN:VEVENT
DTSTART;TZID=America/New_York:20260407T133000
DTEND;TZID=America/New_York:20260407T143000
DTSTAMP:20260419T100934
CREATED:20260325T183800Z
LAST-MODIFIED:20260417T224627Z
UID:10003791-1775568600-1775572200@funhomeschoolflorida.com
SUMMARY:Kids Homeschool Art Club-ART PAPER SCISSORS ​PLANTATION
DESCRIPTION:ART PAPER SCISSORS PLANTATION \nKids Homeschool Art Club \nIn this 1 hour class for ages 5 to 10\, step into a world of creativity\, culture\, and color in our fun and engaging homeschool art classes! Our Art Around the World program takes students on a global journey\, exploring famous artists\, unique styles\, and cultural traditions from every corner of the map. Each class introduces a new country or region through a bite-sized lesson\, a featured artist or art style\, and a hands-on project that brings the learning to life. \nSeries appointment times: \nApril 7th\, 2026 at 1:30 PM \nApril 14th\, 2026 at 1:30 PM \nApril 21st\, 2026 at 1:30 PM \nApril 28th\, 2026 at 1:30 PM \nPlease register and pay through their website\, link below.
URL:https://funhomeschoolflorida.com/event/kids-homeschool-art-club-art-paper-scissors-plantation-2/2026-04-07/
LOCATION:ART PAPER SCISSORS ​PLANTATION\, 821 N Nob Hill Road\, Plantation\, FL\, 33324\, United States
CATEGORIES:Broward County
ATTACH;FMTTYPE=image/jpeg:https://funhomeschoolflorida.com/wp-content/uploads/2026/01/appointmentType-thumb-50733713.jpg
END:VEVENT
BEGIN:VEVENT
DTSTART;TZID=America/New_York:20260406T130000
DTEND;TZID=America/New_York:20260406T140000
DTSTAMP:20260419T100934
CREATED:20260117T114139Z
LAST-MODIFIED:20260415T032715Z
UID:10001074-1775480400-1775484000@funhomeschoolflorida.com
SUMMARY:Kids Homeschool Art Club-ART PAPER SCISSORS ​PARKLAND
DESCRIPTION:Homeschool Art Club – February\, Mondays 1pm with Art Paper Scissors \nIn this 1 hour class\, step into a world of creativity\, culture\, and color! Our Art Around the World program takes students on a global journey\, exploring famous artists\, unique styles\, and cultural traditions from every corner of the map. Each class introduces a new country or region through a bite-sized lesson\, a featured artist or art style\, and a hands-on project that brings the learning to life.Series appointment times \nFebruary 2nd\, 2026 at 1:00 PM \nFebruary 9th\, 2026 at 1:00 PM \nFebruary 23rd\, 2026 at 1:00 PM \n$60.00 \nPlease register and pay through their website\, link below.
URL:https://funhomeschoolflorida.com/event/kids-homeschool-art-club-art-paper-scissors-parkland/2026-04-06/
LOCATION:ART PAPER SCISSORS ​PARKLAND\, 6654 Parkside Drive\, Parkland\, 33067\, United States
CATEGORIES:Broward County
ATTACH;FMTTYPE=image/jpeg:https://funhomeschoolflorida.com/wp-content/uploads/2026/01/appointmentType-thumb-50733713.jpg
END:VEVENT
BEGIN:VEVENT
DTSTART;TZID=America/New_York:20260330T130000
DTEND;TZID=America/New_York:20260330T140000
DTSTAMP:20260419T100934
CREATED:20260117T114139Z
LAST-MODIFIED:20260415T032715Z
UID:10001073-1774875600-1774879200@funhomeschoolflorida.com
SUMMARY:Kids Homeschool Art Club-ART PAPER SCISSORS ​PARKLAND
DESCRIPTION:Homeschool Art Club – February\, Mondays 1pm with Art Paper Scissors \nIn this 1 hour class\, step into a world of creativity\, culture\, and color! Our Art Around the World program takes students on a global journey\, exploring famous artists\, unique styles\, and cultural traditions from every corner of the map. Each class introduces a new country or region through a bite-sized lesson\, a featured artist or art style\, and a hands-on project that brings the learning to life.Series appointment times \nFebruary 2nd\, 2026 at 1:00 PM \nFebruary 9th\, 2026 at 1:00 PM \nFebruary 23rd\, 2026 at 1:00 PM \n$60.00 \nPlease register and pay through their website\, link below.
URL:https://funhomeschoolflorida.com/event/kids-homeschool-art-club-art-paper-scissors-parkland/2026-03-30/
LOCATION:ART PAPER SCISSORS ​PARKLAND\, 6654 Parkside Drive\, Parkland\, 33067\, United States
CATEGORIES:Broward County
ATTACH;FMTTYPE=image/jpeg:https://funhomeschoolflorida.com/wp-content/uploads/2026/01/appointmentType-thumb-50733713.jpg
END:VEVENT
BEGIN:VEVENT
DTSTART;TZID=America/New_York:20260323T130000
DTEND;TZID=America/New_York:20260323T140000
DTSTAMP:20260419T100934
CREATED:20260117T114139Z
LAST-MODIFIED:20260415T032715Z
UID:10001072-1774270800-1774274400@funhomeschoolflorida.com
SUMMARY:Kids Homeschool Art Club-ART PAPER SCISSORS ​PARKLAND
DESCRIPTION:Homeschool Art Club – February\, Mondays 1pm with Art Paper Scissors \nIn this 1 hour class\, step into a world of creativity\, culture\, and color! Our Art Around the World program takes students on a global journey\, exploring famous artists\, unique styles\, and cultural traditions from every corner of the map. Each class introduces a new country or region through a bite-sized lesson\, a featured artist or art style\, and a hands-on project that brings the learning to life.Series appointment times \nFebruary 2nd\, 2026 at 1:00 PM \nFebruary 9th\, 2026 at 1:00 PM \nFebruary 23rd\, 2026 at 1:00 PM \n$60.00 \nPlease register and pay through their website\, link below.
URL:https://funhomeschoolflorida.com/event/kids-homeschool-art-club-art-paper-scissors-parkland/2026-03-23/
LOCATION:ART PAPER SCISSORS ​PARKLAND\, 6654 Parkside Drive\, Parkland\, 33067\, United States
CATEGORIES:Broward County
ATTACH;FMTTYPE=image/jpeg:https://funhomeschoolflorida.com/wp-content/uploads/2026/01/appointmentType-thumb-50733713.jpg
END:VEVENT
BEGIN:VEVENT
DTSTART;TZID=America/New_York:20260316T130000
DTEND;TZID=America/New_York:20260316T140000
DTSTAMP:20260419T100934
CREATED:20260117T114139Z
LAST-MODIFIED:20260415T032715Z
UID:10001071-1773666000-1773669600@funhomeschoolflorida.com
SUMMARY:Kids Homeschool Art Club-ART PAPER SCISSORS ​PARKLAND
DESCRIPTION:Homeschool Art Club – February\, Mondays 1pm with Art Paper Scissors \nIn this 1 hour class\, step into a world of creativity\, culture\, and color! Our Art Around the World program takes students on a global journey\, exploring famous artists\, unique styles\, and cultural traditions from every corner of the map. Each class introduces a new country or region through a bite-sized lesson\, a featured artist or art style\, and a hands-on project that brings the learning to life.Series appointment times \nFebruary 2nd\, 2026 at 1:00 PM \nFebruary 9th\, 2026 at 1:00 PM \nFebruary 23rd\, 2026 at 1:00 PM \n$60.00 \nPlease register and pay through their website\, link below.
URL:https://funhomeschoolflorida.com/event/kids-homeschool-art-club-art-paper-scissors-parkland/2026-03-16/
LOCATION:ART PAPER SCISSORS ​PARKLAND\, 6654 Parkside Drive\, Parkland\, 33067\, United States
CATEGORIES:Broward County
ATTACH;FMTTYPE=image/jpeg:https://funhomeschoolflorida.com/wp-content/uploads/2026/01/appointmentType-thumb-50733713.jpg
END:VEVENT
BEGIN:VEVENT
DTSTART;TZID=America/New_York:20260309T130000
DTEND;TZID=America/New_York:20260309T140000
DTSTAMP:20260419T100934
CREATED:20260117T114139Z
LAST-MODIFIED:20260415T032715Z
UID:10001070-1773061200-1773064800@funhomeschoolflorida.com
SUMMARY:Kids Homeschool Art Club-ART PAPER SCISSORS ​PARKLAND
DESCRIPTION:Homeschool Art Club – February\, Mondays 1pm with Art Paper Scissors \nIn this 1 hour class\, step into a world of creativity\, culture\, and color! Our Art Around the World program takes students on a global journey\, exploring famous artists\, unique styles\, and cultural traditions from every corner of the map. Each class introduces a new country or region through a bite-sized lesson\, a featured artist or art style\, and a hands-on project that brings the learning to life.Series appointment times \nFebruary 2nd\, 2026 at 1:00 PM \nFebruary 9th\, 2026 at 1:00 PM \nFebruary 23rd\, 2026 at 1:00 PM \n$60.00 \nPlease register and pay through their website\, link below.
URL:https://funhomeschoolflorida.com/event/kids-homeschool-art-club-art-paper-scissors-parkland/2026-03-09/
LOCATION:ART PAPER SCISSORS ​PARKLAND\, 6654 Parkside Drive\, Parkland\, 33067\, United States
CATEGORIES:Broward County
ATTACH;FMTTYPE=image/jpeg:https://funhomeschoolflorida.com/wp-content/uploads/2026/01/appointmentType-thumb-50733713.jpg
END:VEVENT
BEGIN:VEVENT
DTSTART;TZID=America/New_York:20260302T130000
DTEND;TZID=America/New_York:20260302T140000
DTSTAMP:20260419T100934
CREATED:20260117T114139Z
LAST-MODIFIED:20260415T032715Z
UID:10001069-1772456400-1772460000@funhomeschoolflorida.com
SUMMARY:Kids Homeschool Art Club-ART PAPER SCISSORS ​PARKLAND
DESCRIPTION:Homeschool Art Club – February\, Mondays 1pm with Art Paper Scissors \nIn this 1 hour class\, step into a world of creativity\, culture\, and color! Our Art Around the World program takes students on a global journey\, exploring famous artists\, unique styles\, and cultural traditions from every corner of the map. Each class introduces a new country or region through a bite-sized lesson\, a featured artist or art style\, and a hands-on project that brings the learning to life.Series appointment times \nFebruary 2nd\, 2026 at 1:00 PM \nFebruary 9th\, 2026 at 1:00 PM \nFebruary 23rd\, 2026 at 1:00 PM \n$60.00 \nPlease register and pay through their website\, link below.
URL:https://funhomeschoolflorida.com/event/kids-homeschool-art-club-art-paper-scissors-parkland/2026-03-02/
LOCATION:ART PAPER SCISSORS ​PARKLAND\, 6654 Parkside Drive\, Parkland\, 33067\, United States
CATEGORIES:Broward County
ATTACH;FMTTYPE=image/jpeg:https://funhomeschoolflorida.com/wp-content/uploads/2026/01/appointmentType-thumb-50733713.jpg
END:VEVENT
BEGIN:VEVENT
DTSTART;TZID=America/New_York:20260224T130000
DTEND;TZID=America/New_York:20260224T143000
DTSTAMP:20260419T100934
CREATED:20260117T042453Z
LAST-MODIFIED:20260415T032715Z
UID:10001124-1771938000-1771943400@funhomeschoolflorida.com
SUMMARY:Kids Homeschool Art Club-ART PAPER SCISSORS ​PLANTATION
DESCRIPTION:ART PAPER SCISSORS PLANTATION \nKids Homeschool Art Club \nIn this 1 hour class for ages 5 to 10\, step into a world of creativity\, culture\, and color in our fun and engaging homeschool art classes! Our Art Around the World program takes students on a global journey\, exploring famous artists\, unique styles\, and cultural traditions from every corner of the map. Each class introduces a new country or region through a bite-sized lesson\, a featured artist or art style\, and a hands-on project that brings the learning to life. \nSeries appointment times: \nFebruary 3rd\, 2026 at 1:30 PM \nFebruary 10th\, 2026 at 1:30 PM \nFebruary 17th\, 2026 at 1:30 PM \nFebruary 24th\, 2026 at 1:30 PM \nPlease register and pay through their website\, link below.
URL:https://funhomeschoolflorida.com/event/kids-homeschool-art-club-art-paper-scissors-plantation/2026-02-24/
LOCATION:ART PAPER SCISSORS ​PLANTATION\, 821 N Nob Hill Road\, Plantation\, FL\, 33324\, United States
CATEGORIES:Broward County
ATTACH;FMTTYPE=image/jpeg:https://funhomeschoolflorida.com/wp-content/uploads/2026/01/appointmentType-thumb-50733713.jpg
END:VEVENT
BEGIN:VEVENT
DTSTART;TZID=America/New_York:20260223T130000
DTEND;TZID=America/New_York:20260223T140000
DTSTAMP:20260419T100934
CREATED:20260117T114139Z
LAST-MODIFIED:20260415T032715Z
UID:10001068-1771851600-1771855200@funhomeschoolflorida.com
SUMMARY:Kids Homeschool Art Club-ART PAPER SCISSORS ​PARKLAND
DESCRIPTION:Homeschool Art Club – February\, Mondays 1pm with Art Paper Scissors \nIn this 1 hour class\, step into a world of creativity\, culture\, and color! Our Art Around the World program takes students on a global journey\, exploring famous artists\, unique styles\, and cultural traditions from every corner of the map. Each class introduces a new country or region through a bite-sized lesson\, a featured artist or art style\, and a hands-on project that brings the learning to life.Series appointment times \nFebruary 2nd\, 2026 at 1:00 PM \nFebruary 9th\, 2026 at 1:00 PM \nFebruary 23rd\, 2026 at 1:00 PM \n$60.00 \nPlease register and pay through their website\, link below.
URL:https://funhomeschoolflorida.com/event/kids-homeschool-art-club-art-paper-scissors-parkland/2026-02-23/
LOCATION:ART PAPER SCISSORS ​PARKLAND\, 6654 Parkside Drive\, Parkland\, 33067\, United States
CATEGORIES:Broward County
ATTACH;FMTTYPE=image/jpeg:https://funhomeschoolflorida.com/wp-content/uploads/2026/01/appointmentType-thumb-50733713.jpg
END:VEVENT
BEGIN:VEVENT
DTSTART;TZID=America/New_York:20260217T130000
DTEND;TZID=America/New_York:20260217T143000
DTSTAMP:20260419T100934
CREATED:20260117T042453Z
LAST-MODIFIED:20260415T032715Z
UID:10001123-1771333200-1771338600@funhomeschoolflorida.com
SUMMARY:Kids Homeschool Art Club-ART PAPER SCISSORS ​PLANTATION
DESCRIPTION:ART PAPER SCISSORS PLANTATION \nKids Homeschool Art Club \nIn this 1 hour class for ages 5 to 10\, step into a world of creativity\, culture\, and color in our fun and engaging homeschool art classes! Our Art Around the World program takes students on a global journey\, exploring famous artists\, unique styles\, and cultural traditions from every corner of the map. Each class introduces a new country or region through a bite-sized lesson\, a featured artist or art style\, and a hands-on project that brings the learning to life. \nSeries appointment times: \nFebruary 3rd\, 2026 at 1:30 PM \nFebruary 10th\, 2026 at 1:30 PM \nFebruary 17th\, 2026 at 1:30 PM \nFebruary 24th\, 2026 at 1:30 PM \nPlease register and pay through their website\, link below.
URL:https://funhomeschoolflorida.com/event/kids-homeschool-art-club-art-paper-scissors-plantation/2026-02-17/
LOCATION:ART PAPER SCISSORS ​PLANTATION\, 821 N Nob Hill Road\, Plantation\, FL\, 33324\, United States
CATEGORIES:Broward County
ATTACH;FMTTYPE=image/jpeg:https://funhomeschoolflorida.com/wp-content/uploads/2026/01/appointmentType-thumb-50733713.jpg
END:VEVENT
BEGIN:VEVENT
DTSTART;TZID=America/New_York:20260210T130000
DTEND;TZID=America/New_York:20260210T143000
DTSTAMP:20260419T100934
CREATED:20260117T042453Z
LAST-MODIFIED:20260415T032715Z
UID:10001122-1770728400-1770733800@funhomeschoolflorida.com
SUMMARY:Kids Homeschool Art Club-ART PAPER SCISSORS ​PLANTATION
DESCRIPTION:ART PAPER SCISSORS PLANTATION \nKids Homeschool Art Club \nIn this 1 hour class for ages 5 to 10\, step into a world of creativity\, culture\, and color in our fun and engaging homeschool art classes! Our Art Around the World program takes students on a global journey\, exploring famous artists\, unique styles\, and cultural traditions from every corner of the map. Each class introduces a new country or region through a bite-sized lesson\, a featured artist or art style\, and a hands-on project that brings the learning to life. \nSeries appointment times: \nFebruary 3rd\, 2026 at 1:30 PM \nFebruary 10th\, 2026 at 1:30 PM \nFebruary 17th\, 2026 at 1:30 PM \nFebruary 24th\, 2026 at 1:30 PM \nPlease register and pay through their website\, link below.
URL:https://funhomeschoolflorida.com/event/kids-homeschool-art-club-art-paper-scissors-plantation/2026-02-10/
LOCATION:ART PAPER SCISSORS ​PLANTATION\, 821 N Nob Hill Road\, Plantation\, FL\, 33324\, United States
CATEGORIES:Broward County
ATTACH;FMTTYPE=image/jpeg:https://funhomeschoolflorida.com/wp-content/uploads/2026/01/appointmentType-thumb-50733713.jpg
END:VEVENT
BEGIN:VEVENT
DTSTART;TZID=America/New_York:20260209T130000
DTEND;TZID=America/New_York:20260209T140000
DTSTAMP:20260419T100934
CREATED:20260117T114139Z
LAST-MODIFIED:20260415T032715Z
UID:10001067-1770642000-1770645600@funhomeschoolflorida.com
SUMMARY:Kids Homeschool Art Club-ART PAPER SCISSORS ​PARKLAND
DESCRIPTION:Homeschool Art Club – February\, Mondays 1pm with Art Paper Scissors \nIn this 1 hour class\, step into a world of creativity\, culture\, and color! Our Art Around the World program takes students on a global journey\, exploring famous artists\, unique styles\, and cultural traditions from every corner of the map. Each class introduces a new country or region through a bite-sized lesson\, a featured artist or art style\, and a hands-on project that brings the learning to life.Series appointment times \nFebruary 2nd\, 2026 at 1:00 PM \nFebruary 9th\, 2026 at 1:00 PM \nFebruary 23rd\, 2026 at 1:00 PM \n$60.00 \nPlease register and pay through their website\, link below.
URL:https://funhomeschoolflorida.com/event/kids-homeschool-art-club-art-paper-scissors-parkland/2026-02-09/
LOCATION:ART PAPER SCISSORS ​PARKLAND\, 6654 Parkside Drive\, Parkland\, 33067\, United States
CATEGORIES:Broward County
ATTACH;FMTTYPE=image/jpeg:https://funhomeschoolflorida.com/wp-content/uploads/2026/01/appointmentType-thumb-50733713.jpg
END:VEVENT
BEGIN:VEVENT
DTSTART;TZID=America/New_York:20260203T130000
DTEND;TZID=America/New_York:20260203T143000
DTSTAMP:20260419T100934
CREATED:20260117T042453Z
LAST-MODIFIED:20260415T032715Z
UID:10001121-1770123600-1770129000@funhomeschoolflorida.com
SUMMARY:Kids Homeschool Art Club-ART PAPER SCISSORS ​PLANTATION
DESCRIPTION:ART PAPER SCISSORS PLANTATION \nKids Homeschool Art Club \nIn this 1 hour class for ages 5 to 10\, step into a world of creativity\, culture\, and color in our fun and engaging homeschool art classes! Our Art Around the World program takes students on a global journey\, exploring famous artists\, unique styles\, and cultural traditions from every corner of the map. Each class introduces a new country or region through a bite-sized lesson\, a featured artist or art style\, and a hands-on project that brings the learning to life. \nSeries appointment times: \nFebruary 3rd\, 2026 at 1:30 PM \nFebruary 10th\, 2026 at 1:30 PM \nFebruary 17th\, 2026 at 1:30 PM \nFebruary 24th\, 2026 at 1:30 PM \nPlease register and pay through their website\, link below.
URL:https://funhomeschoolflorida.com/event/kids-homeschool-art-club-art-paper-scissors-plantation/2026-02-03/
LOCATION:ART PAPER SCISSORS ​PLANTATION\, 821 N Nob Hill Road\, Plantation\, FL\, 33324\, United States
CATEGORIES:Broward County
ATTACH;FMTTYPE=image/jpeg:https://funhomeschoolflorida.com/wp-content/uploads/2026/01/appointmentType-thumb-50733713.jpg
END:VEVENT
BEGIN:VEVENT
DTSTART;TZID=America/New_York:20260202T130000
DTEND;TZID=America/New_York:20260202T140000
DTSTAMP:20260419T100934
CREATED:20260117T114139Z
LAST-MODIFIED:20260415T032715Z
UID:10001066-1770037200-1770040800@funhomeschoolflorida.com
SUMMARY:Kids Homeschool Art Club-ART PAPER SCISSORS ​PARKLAND
DESCRIPTION:Homeschool Art Club – February\, Mondays 1pm with Art Paper Scissors \nIn this 1 hour class\, step into a world of creativity\, culture\, and color! Our Art Around the World program takes students on a global journey\, exploring famous artists\, unique styles\, and cultural traditions from every corner of the map. Each class introduces a new country or region through a bite-sized lesson\, a featured artist or art style\, and a hands-on project that brings the learning to life.Series appointment times \nFebruary 2nd\, 2026 at 1:00 PM \nFebruary 9th\, 2026 at 1:00 PM \nFebruary 23rd\, 2026 at 1:00 PM \n$60.00 \nPlease register and pay through their website\, link below.
URL:https://funhomeschoolflorida.com/event/kids-homeschool-art-club-art-paper-scissors-parkland/2026-02-02/
LOCATION:ART PAPER SCISSORS ​PARKLAND\, 6654 Parkside Drive\, Parkland\, 33067\, United States
CATEGORIES:Broward County
ATTACH;FMTTYPE=image/jpeg:https://funhomeschoolflorida.com/wp-content/uploads/2026/01/appointmentType-thumb-50733713.jpg
END:VEVENT
END:VCALENDAR