BEGIN:VCALENDAR
VERSION:2.0
PRODID:-// - ECPv6.15.20//NONSGML v1.0//EN
CALSCALE:GREGORIAN
METHOD:PUBLISH
X-ORIGINAL-URL:https://funhomeschoolflorida.com
X-WR-CALDESC:Events for 
REFRESH-INTERVAL;VALUE=DURATION:PT1H
X-Robots-Tag:noindex
X-PUBLISHED-TTL:PT1H
BEGIN:VTIMEZONE
TZID:America/New_York
BEGIN:DAYLIGHT
TZOFFSETFROM:-0500
TZOFFSETTO:-0400
TZNAME:EDT
DTSTART:20250309T070000
END:DAYLIGHT
BEGIN:STANDARD
TZOFFSETFROM:-0400
TZOFFSETTO:-0500
TZNAME:EST
DTSTART:20251102T060000
END:STANDARD
BEGIN:DAYLIGHT
TZOFFSETFROM:-0500
TZOFFSETTO:-0400
TZNAME:EDT
DTSTART:20260308T070000
END:DAYLIGHT
BEGIN:STANDARD
TZOFFSETFROM:-0400
TZOFFSETTO:-0500
TZNAME:EST
DTSTART:20261101T060000
END:STANDARD
BEGIN:DAYLIGHT
TZOFFSETFROM:-0500
TZOFFSETTO:-0400
TZNAME:EDT
DTSTART:20270314T070000
END:DAYLIGHT
BEGIN:STANDARD
TZOFFSETFROM:-0400
TZOFFSETTO:-0500
TZNAME:EST
DTSTART:20271107T060000
END:STANDARD
END:VTIMEZONE
BEGIN:VEVENT
DTSTART;TZID=America/New_York:20260421T153000
DTEND;TZID=America/New_York:20260421T163000
DTSTAMP:20260420T225436
CREATED:20260321T203507Z
LAST-MODIFIED:20260418T033019Z
UID:10003771-1776785400-1776789000@funhomeschoolflorida.com
SUMMARY:FREE STEAM Time: Upcycle Art @ Brandon Regional Library
DESCRIPTION:Brandon Regional Library \nSTEAM Time: Upcycle Art \nTuesday\, April 21 \n3:30pm – 4:30pm \nEngage in a hands-on STEAM activity. Today’s focus is recognition of Earth Day. Bring in a  clean\, used container you’ve stashed away and upcycle it into an attractive\, usable piece of art. \nRecommended for children ages 6-12. \nRegistration opens: March 22nd\, 2026 \nBrandon Regional Library \n619 Vonderburg Drive\, Brandon\, FL\, 33511
URL:https://funhomeschoolflorida.com/event/free-steam-time-upcycle-art-brandon-regional-library/
LOCATION:Brandon Regional Library\, 619 Vonderburg Drive\, Brandon\, FL\, 33511\, United States
CATEGORIES:Tampa Bay
ATTACH;FMTTYPE=image/jpeg:https://funhomeschoolflorida.com/wp-content/uploads/2026/03/HCPL_Continuing_Ed_Approved-1.jpg
END:VEVENT
BEGIN:VEVENT
DTSTART;TZID=America/New_York:20260422T150000
DTEND;TZID=America/New_York:20260422T160000
DTSTAMP:20260420T225436
CREATED:20260322T021418Z
LAST-MODIFIED:20260418T033019Z
UID:10003780-1776870000-1776873600@funhomeschoolflorida.com
SUMMARY:[Ruskin] FREE Hero Quest @ SouthShore Regional Library
DESCRIPTION:SouthShore Regional Library \nHero Quest \nWednesday\, April 22 \n3:00pm – 4:00pm \nAttendees will have fun creating their very own hero using art supplies and simple writing techniques for character creation. \nRecommended for kids\, ages 6-12. Registration recommended. \nRegistration opens: \nMarch 23rd\, 2026
URL:https://funhomeschoolflorida.com/event/86747/
LOCATION:SouthShore Regional Library\, 15816 Beth Shields Way\, Ruskin\, FL\, 33474\, United States
CATEGORIES:Tampa Bay
END:VEVENT
BEGIN:VEVENT
DTSTART;TZID=America/New_York:20260424T153000
DTEND;TZID=America/New_York:20260424T161500
DTSTAMP:20260420T225436
CREATED:20260322T014327Z
LAST-MODIFIED:20260418T033019Z
UID:10003777-1777044600-1777047300@funhomeschoolflorida.com
SUMMARY:Adventure Awaits with Gigi and Friends Entertainment
DESCRIPTION:Jan Kaminis Platt Regional Library \nAdventure Awaits with Gigi and Friends Entertainment \nFriday\, April 24.  3:30pm – 4:15pm \nGigi with puppet dog; Super Zeus\, celebrate a love of comedy\, sing-alongs- and circus\, in this performance packed with fun for all. This show includes magic\, comedy\, dance\, juggling\, and sing-along. \nRecommended for children ages 6-12. Tickets will be available at the marked service point 15 minutes prior to the event on a first-come\, first-served basis. \nFunded by the Friends of the Jan Platt Library.
URL:https://funhomeschoolflorida.com/event/adventure-awaits-with-gigi-and-friends-entertainment/
LOCATION:Jan Kaminis Platt Regional Library\, 3910 South Manhattan Avenue\, Tampa\, FL\, 33611\, United States
CATEGORIES:Tampa Bay
ATTACH;FMTTYPE=image/jpeg:https://funhomeschoolflorida.com/wp-content/uploads/2026/03/HCPL_Continuing_Ed_Approved-1.jpg
END:VEVENT
BEGIN:VEVENT
DTSTART;TZID=America/New_York:20260424T160000
DTEND;TZID=America/New_York:20260424T170000
DTSTAMP:20260420T225436
CREATED:20260322T004805Z
LAST-MODIFIED:20260418T033019Z
UID:10003776-1777046400-1777050000@funhomeschoolflorida.com
SUMMARY:[Riverview] FREE Fun with Florida Flowers @ Riverview Public Library
DESCRIPTION:Riverview Public Library \nFun with Florida Flowers \nFriday\, April 24 \n4:00pm – 5:00pm \nLearn about the amazing native wildflowers found in your own Floridian backyard! Afterwards\, make seed balls and pressed flower bookmarks to take home. \nRegistration opens: March 25th\, 2026
URL:https://funhomeschoolflorida.com/event/riverview-free-fun-with-florida-flowers-riverview-public-library/
LOCATION:Riverview Public Library\, 9951 Balm Riverview Road\, Riverview\, FL\, 33569\, United States
CATEGORIES:Tampa Bay
ATTACH;FMTTYPE=image/jpeg:https://funhomeschoolflorida.com/wp-content/uploads/2026/03/HCPL_Continuing_Ed_Approved-1.jpg
END:VEVENT
BEGIN:VEVENT
DTSTART;TZID=America/New_York:20260512T163000
DTEND;TZID=America/New_York:20260512T173000
DTSTAMP:20260420T225436
CREATED:20260321T211925Z
LAST-MODIFIED:20260418T033019Z
UID:10003774-1778603400-1778607000@funhomeschoolflorida.com
SUMMARY:FREE History of Decoupage with a Confetti Coaster @ Jan Kaminis Platt Regional Library
DESCRIPTION:Jan Kaminis Platt Regional Library \nHistory of Decoupage with a Confetti Coaster \nTuesday\, May 12 \n4:30pm – 5:30pm \nJoin us as we learn about the history of decoupage art and apply these skills to create a custom confetti coaster. \nRecommended for teens ages 13 – 17. Registration recommended. \nRegistration opens: April 12th\, 2026
URL:https://funhomeschoolflorida.com/event/free-history-of-decoupage-with-a-confetti-coaster-jan-kaminis-platt-regional-library/
LOCATION:Jan Kaminis Platt Regional Library\, 3910 South Manhattan Avenue\, Tampa\, FL\, 33611\, United States
CATEGORIES:Tampa Bay
ATTACH;FMTTYPE=image/jpeg:https://funhomeschoolflorida.com/wp-content/uploads/2026/03/HCPL_Makerspace_Approved.jpg
END:VEVENT
BEGIN:VEVENT
DTSTART;TZID=America/New_York:20260512T163000
DTEND;TZID=America/New_York:20260512T173000
DTSTAMP:20260420T225436
CREATED:20260321T223549Z
LAST-MODIFIED:20260418T033019Z
UID:10003775-1778603400-1778607000@funhomeschoolflorida.com
SUMMARY:FREE TEEN EVENT History of Decoupage with a Confetti Coaster @ Jan Kaminis Platt Regional Library
DESCRIPTION:Jan Kaminis Platt Regional Library \nHistory of Decoupage with a Confetti Coaster \nTuesday\, May 12 \n4:30pm – 5:30pm \nJoin us as we learn about the history of decoupage art and apply these skills to create a custom confetti coaster. \nRecommended for teens ages 13 – 17. Registration recommended.
URL:https://funhomeschoolflorida.com/event/free-teen-event-history-of-decoupage-with-a-confetti-coaster-jan-kaminis-platt-regional-library/
LOCATION:Jan Kaminis Platt Regional Library\, 3910 South Manhattan Avenue\, Tampa\, FL\, 33611\, United States
CATEGORIES:Tampa Bay
ATTACH;FMTTYPE=image/jpeg:https://funhomeschoolflorida.com/wp-content/uploads/2026/03/HCPL_Makerspace_Approved.jpg
END:VEVENT
BEGIN:VEVENT
DTSTART;TZID=America/New_York:20260514T180000
DTEND;TZID=America/New_York:20260514T200000
DTSTAMP:20260420T225436
CREATED:20260306T091348Z
LAST-MODIFIED:20260418T210812Z
UID:10003287-1778781600-1778788800@funhomeschoolflorida.com
SUMMARY:[BROOKSVILLE] TEEN Monthly Meet Up @ Ivory & Sage Homeschool
DESCRIPTION:Teen Meet Up: FREE EVENT \nJoin us for our monthly social gathering designed specifically for homeschool teens! This is a time to connect with peers\, share experiences\, and build lasting friendships in a supportive environment. \nMarch Meet Up: Mar 12\, 2026 • 6:00 PM – 8:00PM \nApril Meet Up: Apr 9\, 2026 • 6:00 PM – 8:00 PM \nMay Meet Up: May 14\, 2026 • 6:00 PM – 8:00 PM \nSpring is here\, and it’s time to let things bloom! 🌼 Join us for a fun teen meetup where we’ll paint flower pots\, get creative\, and hang out together. No art skills needed—just come ready to relax\, create\, and have fun. All supplies provided. \n 
URL:https://funhomeschoolflorida.com/event/brooksville-teen-monthly-meet-up-ivory-sage-homeschool/2026-05-14/
LOCATION:Ivory & Sage Homeschool\, 624 Erin Way\,\, Brooksville\, FL\, 34601\, United States
CATEGORIES:Tampa Bay
ATTACH;FMTTYPE=image/webp:https://funhomeschoolflorida.com/wp-content/uploads/2026/03/1757805242128-wa9w5yweu1.webp
END:VEVENT
BEGIN:VEVENT
DTSTART;TZID=America/New_York:20260522T160000
DTEND;TZID=America/New_York:20260522T170000
DTSTAMP:20260420T225436
CREATED:20260321T211458Z
LAST-MODIFIED:20260418T033019Z
UID:10003773-1779465600-1779469200@funhomeschoolflorida.com
SUMMARY:FREE Build Your Own Board Game @ North Tampa Branch Library
DESCRIPTION:North Tampa Branch Library \nBuild Your Own Board Game \nFriday\, May 22.  4:00pm – 5:00pm \nAttendees will learn about different board game mechanics\, the process of inventing and developing a prototype\, and prototype technology such as 3D printing. \nAttendees will get hands on experience creating their own board game. Recommended for children ages 6-12. Registration recommended. \n  \nRegistration opens:  April 22nd\, 2026 \n  \nNorth Tampa Branch Library \n8916 North Boulevard\,   Tampa\, FL\, 33604
URL:https://funhomeschoolflorida.com/event/free-build-your-own-board-game-north-tampa-branch-library/
LOCATION:North Tampa Branch Library\, 8916 North Boulevard\, Tampa\, FL\, 33604\, United States
CATEGORIES:Tampa Bay
ATTACH;FMTTYPE=image/jpeg:https://funhomeschoolflorida.com/wp-content/uploads/2026/03/HCPL_Makerspace_Approved.jpg
END:VEVENT
END:VCALENDAR