BEGIN:VCALENDAR
VERSION:2.0
PRODID:-// - ECPv6.15.20//NONSGML v1.0//EN
CALSCALE:GREGORIAN
METHOD:PUBLISH
X-ORIGINAL-URL:https://funhomeschoolflorida.com
X-WR-CALDESC:Events for 
REFRESH-INTERVAL;VALUE=DURATION:PT1H
X-Robots-Tag:noindex
X-PUBLISHED-TTL:PT1H
BEGIN:VTIMEZONE
TZID:America/New_York
BEGIN:DAYLIGHT
TZOFFSETFROM:-0500
TZOFFSETTO:-0400
TZNAME:EDT
DTSTART:20250309T070000
END:DAYLIGHT
BEGIN:STANDARD
TZOFFSETFROM:-0400
TZOFFSETTO:-0500
TZNAME:EST
DTSTART:20251102T060000
END:STANDARD
BEGIN:DAYLIGHT
TZOFFSETFROM:-0500
TZOFFSETTO:-0400
TZNAME:EDT
DTSTART:20260308T070000
END:DAYLIGHT
BEGIN:STANDARD
TZOFFSETFROM:-0400
TZOFFSETTO:-0500
TZNAME:EST
DTSTART:20261101T060000
END:STANDARD
BEGIN:DAYLIGHT
TZOFFSETFROM:-0500
TZOFFSETTO:-0400
TZNAME:EDT
DTSTART:20270314T070000
END:DAYLIGHT
BEGIN:STANDARD
TZOFFSETFROM:-0400
TZOFFSETTO:-0500
TZNAME:EST
DTSTART:20271107T060000
END:STANDARD
END:VTIMEZONE
BEGIN:VEVENT
DTSTART;TZID=America/New_York:20260512T163000
DTEND;TZID=America/New_York:20260512T173000
DTSTAMP:20260421T044010
CREATED:20260321T211925Z
LAST-MODIFIED:20260418T033019Z
UID:10003774-1778603400-1778607000@funhomeschoolflorida.com
SUMMARY:FREE History of Decoupage with a Confetti Coaster @ Jan Kaminis Platt Regional Library
DESCRIPTION:Jan Kaminis Platt Regional Library \nHistory of Decoupage with a Confetti Coaster \nTuesday\, May 12 \n4:30pm – 5:30pm \nJoin us as we learn about the history of decoupage art and apply these skills to create a custom confetti coaster. \nRecommended for teens ages 13 – 17. Registration recommended. \nRegistration opens: April 12th\, 2026
URL:https://funhomeschoolflorida.com/event/free-history-of-decoupage-with-a-confetti-coaster-jan-kaminis-platt-regional-library/
LOCATION:Jan Kaminis Platt Regional Library\, 3910 South Manhattan Avenue\, Tampa\, FL\, 33611\, United States
CATEGORIES:Tampa Bay
ATTACH;FMTTYPE=image/jpeg:https://funhomeschoolflorida.com/wp-content/uploads/2026/03/HCPL_Makerspace_Approved.jpg
END:VEVENT
BEGIN:VEVENT
DTSTART;TZID=America/New_York:20260512T163000
DTEND;TZID=America/New_York:20260512T173000
DTSTAMP:20260421T044010
CREATED:20260321T223549Z
LAST-MODIFIED:20260418T033019Z
UID:10003775-1778603400-1778607000@funhomeschoolflorida.com
SUMMARY:FREE TEEN EVENT History of Decoupage with a Confetti Coaster @ Jan Kaminis Platt Regional Library
DESCRIPTION:Jan Kaminis Platt Regional Library \nHistory of Decoupage with a Confetti Coaster \nTuesday\, May 12 \n4:30pm – 5:30pm \nJoin us as we learn about the history of decoupage art and apply these skills to create a custom confetti coaster. \nRecommended for teens ages 13 – 17. Registration recommended.
URL:https://funhomeschoolflorida.com/event/free-teen-event-history-of-decoupage-with-a-confetti-coaster-jan-kaminis-platt-regional-library/
LOCATION:Jan Kaminis Platt Regional Library\, 3910 South Manhattan Avenue\, Tampa\, FL\, 33611\, United States
CATEGORIES:Tampa Bay
ATTACH;FMTTYPE=image/jpeg:https://funhomeschoolflorida.com/wp-content/uploads/2026/03/HCPL_Makerspace_Approved.jpg
END:VEVENT
END:VCALENDAR