BEGIN:VCALENDAR
VERSION:2.0
PRODID:-// - ECPv6.15.20//NONSGML v1.0//EN
CALSCALE:GREGORIAN
METHOD:PUBLISH
X-ORIGINAL-URL:https://funhomeschoolflorida.com
X-WR-CALDESC:Events for 
REFRESH-INTERVAL;VALUE=DURATION:PT1H
X-Robots-Tag:noindex
X-PUBLISHED-TTL:PT1H
BEGIN:VTIMEZONE
TZID:America/New_York
BEGIN:DAYLIGHT
TZOFFSETFROM:-0500
TZOFFSETTO:-0400
TZNAME:EDT
DTSTART:20250309T070000
END:DAYLIGHT
BEGIN:STANDARD
TZOFFSETFROM:-0400
TZOFFSETTO:-0500
TZNAME:EST
DTSTART:20251102T060000
END:STANDARD
BEGIN:DAYLIGHT
TZOFFSETFROM:-0500
TZOFFSETTO:-0400
TZNAME:EDT
DTSTART:20260308T070000
END:DAYLIGHT
BEGIN:STANDARD
TZOFFSETFROM:-0400
TZOFFSETTO:-0500
TZNAME:EST
DTSTART:20261101T060000
END:STANDARD
BEGIN:DAYLIGHT
TZOFFSETFROM:-0500
TZOFFSETTO:-0400
TZNAME:EDT
DTSTART:20270314T070000
END:DAYLIGHT
BEGIN:STANDARD
TZOFFSETFROM:-0400
TZOFFSETTO:-0500
TZNAME:EST
DTSTART:20271107T060000
END:STANDARD
END:VTIMEZONE
BEGIN:VEVENT
DTSTART;TZID=America/New_York:20260415T160000
DTEND;TZID=America/New_York:20260415T170000
DTSTAMP:20260421T023940
CREATED:20260321T210612Z
LAST-MODIFIED:20260418T033020Z
UID:10003772-1776268800-1776272400@funhomeschoolflorida.com
SUMMARY:FREE Art Shop @ Arthenia L. Joyner University Area Community Library
DESCRIPTION:Arthenia L. Joyner University Area Community Library \nArt Shop \nWednesday\, April 15 \n4:00pm – 5:00pm \nStudents will shop for art supplies with their play money and challenged to make a masterpiece while working within a budget. This program promotes financial literacy\, decision-making and creativity. \nRecommended for children ages 6-12. Registration recommended. \nArthenia L. Joyner University Area Community Library \n13619 North 22nd Street\, Tampa\, FL\, 33613
URL:https://funhomeschoolflorida.com/event/free-art-shop-arthenia-l-joyner-university-area-community-library/
LOCATION:Arthenia L. Joyner University Area Community Library\, 13619 North 22nd Street\, Tampa\, FL\, 33613\, United States
CATEGORIES:Tampa Bay
ATTACH;FMTTYPE=image/jpeg:https://funhomeschoolflorida.com/wp-content/uploads/2026/03/HCPL_Continuing_Ed_Approved-1.jpg
END:VEVENT
BEGIN:VEVENT
DTSTART;TZID=America/New_York:20260415T160000
DTEND;TZID=America/New_York:20260415T170000
DTSTAMP:20260421T023940
CREATED:20260322T020812Z
LAST-MODIFIED:20260418T033020Z
UID:10003779-1776268800-1776272400@funhomeschoolflorida.com
SUMMARY:FREE Art Shop @ Arthenia L. Joyner University Area Community Library
DESCRIPTION:Arthenia L. Joyner University Area Community Library \nArt Shop \nWednesday\, April 15 \n4:00pm – 5:00pm \nStudents will shop for art supplies with their play money and challenged to make a masterpiece while working within a budget. This program promotes financial literacy\, decision-making and creativity. \nRecommended for children ages 6-12. Registration recommended. \n 
URL:https://funhomeschoolflorida.com/event/86742/
LOCATION:Arthenia L. Joyner University Area Community Library\, 13619 North 22nd Street\, Tampa\, FL\, 33613\, United States
CATEGORIES:Tampa Bay
ATTACH;FMTTYPE=image/jpeg:https://funhomeschoolflorida.com/wp-content/uploads/2026/03/HCPL_Business_Entrep_Approved.jpg
END:VEVENT
END:VCALENDAR