BEGIN:VCALENDAR
VERSION:2.0
PRODID:-// - ECPv6.15.20//NONSGML v1.0//EN
CALSCALE:GREGORIAN
METHOD:PUBLISH
X-ORIGINAL-URL:https://funhomeschoolflorida.com
X-WR-CALDESC:Events for 
REFRESH-INTERVAL;VALUE=DURATION:PT1H
X-Robots-Tag:noindex
X-PUBLISHED-TTL:PT1H
BEGIN:VTIMEZONE
TZID:America/New_York
BEGIN:DAYLIGHT
TZOFFSETFROM:-0500
TZOFFSETTO:-0400
TZNAME:EDT
DTSTART:20250309T070000
END:DAYLIGHT
BEGIN:STANDARD
TZOFFSETFROM:-0400
TZOFFSETTO:-0500
TZNAME:EST
DTSTART:20251102T060000
END:STANDARD
BEGIN:DAYLIGHT
TZOFFSETFROM:-0500
TZOFFSETTO:-0400
TZNAME:EDT
DTSTART:20260308T070000
END:DAYLIGHT
BEGIN:STANDARD
TZOFFSETFROM:-0400
TZOFFSETTO:-0500
TZNAME:EST
DTSTART:20261101T060000
END:STANDARD
BEGIN:DAYLIGHT
TZOFFSETFROM:-0500
TZOFFSETTO:-0400
TZNAME:EDT
DTSTART:20270314T070000
END:DAYLIGHT
BEGIN:STANDARD
TZOFFSETFROM:-0400
TZOFFSETTO:-0500
TZNAME:EST
DTSTART:20271107T060000
END:STANDARD
END:VTIMEZONE
BEGIN:VEVENT
DTSTART;TZID=America/New_York:20260422T143000
DTEND;TZID=America/New_York:20260422T160000
DTSTAMP:20260419T081928
CREATED:20260309T064020Z
LAST-MODIFIED:20260418T033202Z
UID:10003351-1776868200-1776873600@funhomeschoolflorida.com
SUMMARY:[Largo] Homeschool Tumble Class
DESCRIPTION:Homeschool Tumble \nTuesdays 2:30-4:00 p.m. \nStarts April 22nd \nTOP DOG LAKEWOOD RANCH \n3135 Lakewood Ranch Blvd. Suite 110 Bradenton\, FL 34211 \n\n(941) 755-3547 \nHomeschool Tumble: 50 minutes of tumbling instruction which includes dynamic warm-up\, tumble shapes\, stations and skill building with a focus on correct form and technique. 40 minutes of open gym will conclude this class for a total of 1.5 hours of gym time. \nAges 5 and up. Cost is $75 per month with $5 sibling discounts. Registration is $50 per child. Families with more than 2 children will receive the homeschool family registration price of $75. This discount is given for families who attend the homeschool tumbling program. \nRegister through their website\, link below.
URL:https://funhomeschoolflorida.com/event/largo-homeschool-tumble-class/2026-04-22/
LOCATION:Top Dog Largo\, TOP DOG LARGO 1200 Starkey Road. Suite 210 Largo\, FL 33771\, Largo\, FL\, 33771\, United States
CATEGORIES:Tampa Bay
ATTACH;FMTTYPE=image/png:https://funhomeschoolflorida.com/wp-content/uploads/2026/03/1712763526.739bfb0503961c7cca7fe8dfc291b093dc855e74.png
END:VEVENT
BEGIN:VEVENT
DTSTART;TZID=America/New_York:20260429T130000
DTEND;TZID=America/New_York:20260429T150000
DTSTAMP:20260419T081928
CREATED:20260301T183503Z
LAST-MODIFIED:20260418T033325Z
UID:10002644-1777467600-1777474800@funhomeschoolflorida.com
SUMMARY:[Tampa]The Florida Aquarium Homeschool Fieldtrip: Photography at the Florida Botanical Gardens
DESCRIPTION:April 29\, 2026 \nField Experience: Photography at the Florida Botanical Gardens \nAges 6–14 \nBring your camera\, any camera\, and join us as we learn about techniques to get great photographs of butterflies\, bees\, lizards\, and more. \nFor field experiences\, we ask that each student be accompanied by a parent or chaperone. While registration isn’t required for parents or chaperones\, please note that field experiences start promptly at the listed time\, and we recommend arriving 15 minutes early. To ensure the best experience for all students\, we kindly ask that childcare arrangements be made for siblings and that only one adult accompanies each child. Exceptions can be made for one parent accompanying two registered children within the homeschool age range (e.g.\, twins\, multiple children ages 6–14). \nCost \n$30 per child
URL:https://funhomeschoolflorida.com/event/tampathe-florida-aquarium-homeschool-fieldtrip-photography-at-the-florida-botanical-gardens/
LOCATION:Florida Botanical Gardens\, 12520 Ulmerton Rd\, Largo\, 33774\, United States
CATEGORIES:Tampa Bay
ATTACH;FMTTYPE=image/jpeg:https://funhomeschoolflorida.com/wp-content/uploads/2026/03/900x900_iStock-925690808_O.jpg
ORGANIZER;CN="The Florida Aquarium":MAILTO:moreinfo@flaquarium.org
END:VEVENT
BEGIN:VEVENT
DTSTART;TZID=America/New_York:20260429T143000
DTEND;TZID=America/New_York:20260429T160000
DTSTAMP:20260419T081928
CREATED:20260309T064020Z
LAST-MODIFIED:20260418T033202Z
UID:10003364-1777473000-1777478400@funhomeschoolflorida.com
SUMMARY:[Largo] Homeschool Tumble Class
DESCRIPTION:Homeschool Tumble \nTuesdays 2:30-4:00 p.m. \nStarts April 22nd \nTOP DOG LAKEWOOD RANCH \n3135 Lakewood Ranch Blvd. Suite 110 Bradenton\, FL 34211 \n\n(941) 755-3547 \nHomeschool Tumble: 50 minutes of tumbling instruction which includes dynamic warm-up\, tumble shapes\, stations and skill building with a focus on correct form and technique. 40 minutes of open gym will conclude this class for a total of 1.5 hours of gym time. \nAges 5 and up. Cost is $75 per month with $5 sibling discounts. Registration is $50 per child. Families with more than 2 children will receive the homeschool family registration price of $75. This discount is given for families who attend the homeschool tumbling program. \nRegister through their website\, link below.
URL:https://funhomeschoolflorida.com/event/largo-homeschool-tumble-class/2026-04-29/
LOCATION:Top Dog Largo\, TOP DOG LARGO 1200 Starkey Road. Suite 210 Largo\, FL 33771\, Largo\, FL\, 33771\, United States
CATEGORIES:Tampa Bay
ATTACH;FMTTYPE=image/png:https://funhomeschoolflorida.com/wp-content/uploads/2026/03/1712763526.739bfb0503961c7cca7fe8dfc291b093dc855e74.png
END:VEVENT
END:VCALENDAR