BEGIN:VCALENDAR
VERSION:2.0
PRODID:-// - ECPv6.15.20//NONSGML v1.0//EN
CALSCALE:GREGORIAN
METHOD:PUBLISH
X-ORIGINAL-URL:https://funhomeschoolflorida.com
X-WR-CALDESC:Events for 
REFRESH-INTERVAL;VALUE=DURATION:PT1H
X-Robots-Tag:noindex
X-PUBLISHED-TTL:PT1H
BEGIN:VTIMEZONE
TZID:America/New_York
BEGIN:DAYLIGHT
TZOFFSETFROM:-0500
TZOFFSETTO:-0400
TZNAME:EDT
DTSTART:20250309T070000
END:DAYLIGHT
BEGIN:STANDARD
TZOFFSETFROM:-0400
TZOFFSETTO:-0500
TZNAME:EST
DTSTART:20251102T060000
END:STANDARD
BEGIN:DAYLIGHT
TZOFFSETFROM:-0500
TZOFFSETTO:-0400
TZNAME:EDT
DTSTART:20260308T070000
END:DAYLIGHT
BEGIN:STANDARD
TZOFFSETFROM:-0400
TZOFFSETTO:-0500
TZNAME:EST
DTSTART:20261101T060000
END:STANDARD
BEGIN:DAYLIGHT
TZOFFSETFROM:-0500
TZOFFSETTO:-0400
TZNAME:EDT
DTSTART:20270314T070000
END:DAYLIGHT
BEGIN:STANDARD
TZOFFSETFROM:-0400
TZOFFSETTO:-0500
TZNAME:EST
DTSTART:20271107T060000
END:STANDARD
END:VTIMEZONE
BEGIN:VEVENT
DTSTART;TZID=America/New_York:20260420T090000
DTEND;TZID=America/New_York:20260420T140000
DTSTAMP:20260419T115922
CREATED:20260119T121308Z
LAST-MODIFIED:20260417T034540Z
UID:10001163-1776675600-1776693600@funhomeschoolflorida.com
SUMMARY:Selah Dance Classes for Homeschoolers [ Ballet\, Tap\, Modern\, Jazz\, Pointe*] Monday
DESCRIPTION:CLASSES FOR AGES 3-18 YEARS OLD \n*Additional class levels offered on their website* \nPrimary Ballet B: Ballet for ages 6 and older\, or according to ability. Monday 9:00 AM – 10:00 AM \nBallet I: Ballet for ages 8 and older\, or according to ability. Monday 10:00 AM to 11:00 AM \nBallet II: Ballet for ages 10 and older\, or according to ability. Monday 11:30 AM – 12:30 PM \nContemporary III: Contemporary for ages 12 and older\, or according to ability. Two ballet classes a week are required for dancers in this level. Evaluation required for this level. Monday 11:00 AM to 12:00 PM \nBallet III; Ballet for ages 12 and older\, or according to ability. Two ballet classes a week are required for dancers in this level. Evaluation required for this level. Monday 12:30 PM to 2:00 PM \nPointe III: Pointe for ages 12 and older\, or according to ability. Two ballet classes a week are required in addition to pointe. Evaluation required for this level. Monday 2:00 PM to 2:45 PM \n*Additional class days available* \n  \nSelah Academy is a dance school for homeschoolers directed by former homeschool and New World School of the Arts graduate\, Brittany Kernohan. Selah Academy hopes to build each student’s dance technique as well as character. We believe as strongly in the power of a great dance education as we do about creating beautiful\, loving and strong students. Selah teaches students the fundamentals of dance\, body alignment and terminology\, with focus on ballet and modern dance education. Classes harbor a fun and encouraging atmosphere to help build confidence\, learn teamwork\, grace and develop dance technique. We offer ballet\, modern\, jazz\, tap and pointe classes all during the day\, specifically gearing these classes to homeschooled students. \nSelah Academy is proud to include the AMERICAN BALLET THEATRE® National Training Curriculum\, a breakthrough 9-level program that combines high quality artistic training with the basics of dancer health and child development. The ABT® National Training Curriculum consists of a comprehensive set of age-appropriate\, outcome-based guidelines to provide the highest quality ballet training to dance students of all ages and skill levels. \nWe offer classes Monday-Friday. We are at our West Davie location Monday through Wednesday\, and our East Davie location on Thursday and Friday. \nSelah West 12900 W State Rd 84\, Davie FL \nSelah East 6878 Stirling Road\, Davie\, Fl 33024 \n** We rent space from existing studios in the mornings/afternoons. You can not drop by when we are not there for information regarding Selah classes.  ** \nPlease register and pay through their website\, the link is below.
URL:https://funhomeschoolflorida.com/event/selah-dance-classes-for-homeschoolers-ballet-tap-modern-jazz-pointe-2/2026-04-20/
LOCATION:Selah West\, 12900 W State Rd 84\, Davie\, FL\, United States
CATEGORIES:Broward County
ATTACH;FMTTYPE=image/jpeg:https://funhomeschoolflorida.com/wp-content/uploads/2026/01/Selah5.jpg
ORGANIZER;CN="Selah Dance Academy":MAILTO:ally@selahacademy.com
END:VEVENT
END:VCALENDAR