BEGIN:VCALENDAR
VERSION:2.0
PRODID:-// - ECPv6.15.20//NONSGML v1.0//EN
CALSCALE:GREGORIAN
METHOD:PUBLISH
X-ORIGINAL-URL:https://funhomeschoolflorida.com
X-WR-CALDESC:Events for 
REFRESH-INTERVAL;VALUE=DURATION:PT1H
X-Robots-Tag:noindex
X-PUBLISHED-TTL:PT1H
BEGIN:VTIMEZONE
TZID:America/New_York
BEGIN:DAYLIGHT
TZOFFSETFROM:-0500
TZOFFSETTO:-0400
TZNAME:EDT
DTSTART:20250309T070000
END:DAYLIGHT
BEGIN:STANDARD
TZOFFSETFROM:-0400
TZOFFSETTO:-0500
TZNAME:EST
DTSTART:20251102T060000
END:STANDARD
BEGIN:DAYLIGHT
TZOFFSETFROM:-0500
TZOFFSETTO:-0400
TZNAME:EDT
DTSTART:20260308T070000
END:DAYLIGHT
BEGIN:STANDARD
TZOFFSETFROM:-0400
TZOFFSETTO:-0500
TZNAME:EST
DTSTART:20261101T060000
END:STANDARD
BEGIN:DAYLIGHT
TZOFFSETFROM:-0500
TZOFFSETTO:-0400
TZNAME:EDT
DTSTART:20270314T070000
END:DAYLIGHT
BEGIN:STANDARD
TZOFFSETFROM:-0400
TZOFFSETTO:-0500
TZNAME:EST
DTSTART:20271107T060000
END:STANDARD
END:VTIMEZONE
BEGIN:VEVENT
DTSTART;TZID=America/New_York:20260204T110000
DTEND;TZID=America/New_York:20260204T130000
DTSTAMP:20260419T153050
CREATED:20260117T200626Z
LAST-MODIFIED:20260417T035134Z
UID:10001135-1770202800-1770210000@funhomeschoolflorida.com
SUMMARY:Fresh Pasta Cooking Class for Homeschoolers
DESCRIPTION:A weekday class designed especially for homeschooled children ages 5 – 17 years old. \nIn this hands-on homeschool cooking class\, students will dive into the art of traditional Italian pasta making. Participants will learn how to prepare fresh semolina dough and hand-shape classic cavatelli pasta using simple tools and techniques. \nThe class also includes making a rich and comforting butter Parmesan sauce to pair with the freshly made pasta. To complete the experience\, students will enjoy a live demonstration of tiramisu\, learning about its layers\, ingredients\, and Italian origins. \nThis class is fully interactive and focused on skill-building. Students will mix\, shape\, and cook their own pasta while gaining confidence in the fundamentals of fresh pasta making. \nAt the end of the class\, the pasta they prepared will be cooked and served for everyone to enjoy. \nPerfect for homeschoolers who love to cook\, create\, and learn through hands-on experiences in the kitchen. \nWhat does the workshop include? \nThe workshop includes all the tools\, materials\, and ingredients required to prepare the pasta and souce. \nHow long does it take? \nThe workshop lasts approximately 2 hours.. \nWho can enroll in this class? \nThis class is for homeschooled children (or in that age range) \nChildren 5-8 must be accompanied by an adult. \nREGISTER ONLINE AND RESERVE YOUR SEAT TODAY! Their link is below. \n$70.00
URL:https://funhomeschoolflorida.com/event/fresh-pasta-cooking-class-for-homeschoolers/
LOCATION:Mia Cake House – DEERFIELD\, 3788 W. Hillsboro Blvd\, Deerfield Beach\, FL\, 33442\, United States
CATEGORIES:Broward County
ATTACH;FMTTYPE=image/webp:https://funhomeschoolflorida.com/wp-content/uploads/2026/01/fresh-pasta-jan-26.webp
ORGANIZER;CN="Mia Cake House":MAILTO:info@miacakehouse.com
END:VEVENT
END:VCALENDAR