BEGIN:VCALENDAR
VERSION:2.0
PRODID:-// - ECPv6.15.20//NONSGML v1.0//EN
CALSCALE:GREGORIAN
METHOD:PUBLISH
X-ORIGINAL-URL:https://funhomeschoolflorida.com
X-WR-CALDESC:Events for 
REFRESH-INTERVAL;VALUE=DURATION:PT1H
X-Robots-Tag:noindex
X-PUBLISHED-TTL:PT1H
BEGIN:VTIMEZONE
TZID:America/New_York
BEGIN:DAYLIGHT
TZOFFSETFROM:-0500
TZOFFSETTO:-0400
TZNAME:EDT
DTSTART:20250309T070000
END:DAYLIGHT
BEGIN:STANDARD
TZOFFSETFROM:-0400
TZOFFSETTO:-0500
TZNAME:EST
DTSTART:20251102T060000
END:STANDARD
BEGIN:DAYLIGHT
TZOFFSETFROM:-0500
TZOFFSETTO:-0400
TZNAME:EDT
DTSTART:20260308T070000
END:DAYLIGHT
BEGIN:STANDARD
TZOFFSETFROM:-0400
TZOFFSETTO:-0500
TZNAME:EST
DTSTART:20261101T060000
END:STANDARD
BEGIN:DAYLIGHT
TZOFFSETFROM:-0500
TZOFFSETTO:-0400
TZNAME:EDT
DTSTART:20270314T070000
END:DAYLIGHT
BEGIN:STANDARD
TZOFFSETFROM:-0400
TZOFFSETTO:-0500
TZNAME:EST
DTSTART:20271107T060000
END:STANDARD
END:VTIMEZONE
BEGIN:VEVENT
DTSTART;TZID=America/New_York:20260119T090000
DTEND;TZID=America/New_York:20260119T140000
DTSTAMP:20260419T152626
CREATED:20260119T121308Z
LAST-MODIFIED:20260417T034540Z
UID:10001150-1768813200-1768831200@funhomeschoolflorida.com
SUMMARY:Selah Dance Classes for Homeschoolers [ Ballet\, Tap\, Modern\, Jazz\, Pointe*] Monday
DESCRIPTION:CLASSES FOR AGES 3-18 YEARS OLD \n*Additional class levels offered on their website* \nPrimary Ballet B: Ballet for ages 6 and older\, or according to ability. Monday 9:00 AM – 10:00 AM \nBallet I: Ballet for ages 8 and older\, or according to ability. Monday 10:00 AM to 11:00 AM \nBallet II: Ballet for ages 10 and older\, or according to ability. Monday 11:30 AM – 12:30 PM \nContemporary III: Contemporary for ages 12 and older\, or according to ability. Two ballet classes a week are required for dancers in this level. Evaluation required for this level. Monday 11:00 AM to 12:00 PM \nBallet III; Ballet for ages 12 and older\, or according to ability. Two ballet classes a week are required for dancers in this level. Evaluation required for this level. Monday 12:30 PM to 2:00 PM \nPointe III: Pointe for ages 12 and older\, or according to ability. Two ballet classes a week are required in addition to pointe. Evaluation required for this level. Monday 2:00 PM to 2:45 PM \n*Additional class days available* \n  \nSelah Academy is a dance school for homeschoolers directed by former homeschool and New World School of the Arts graduate\, Brittany Kernohan. Selah Academy hopes to build each student’s dance technique as well as character. We believe as strongly in the power of a great dance education as we do about creating beautiful\, loving and strong students. Selah teaches students the fundamentals of dance\, body alignment and terminology\, with focus on ballet and modern dance education. Classes harbor a fun and encouraging atmosphere to help build confidence\, learn teamwork\, grace and develop dance technique. We offer ballet\, modern\, jazz\, tap and pointe classes all during the day\, specifically gearing these classes to homeschooled students. \nSelah Academy is proud to include the AMERICAN BALLET THEATRE® National Training Curriculum\, a breakthrough 9-level program that combines high quality artistic training with the basics of dancer health and child development. The ABT® National Training Curriculum consists of a comprehensive set of age-appropriate\, outcome-based guidelines to provide the highest quality ballet training to dance students of all ages and skill levels. \nWe offer classes Monday-Friday. We are at our West Davie location Monday through Wednesday\, and our East Davie location on Thursday and Friday. \nSelah West 12900 W State Rd 84\, Davie FL \nSelah East 6878 Stirling Road\, Davie\, Fl 33024 \n** We rent space from existing studios in the mornings/afternoons. You can not drop by when we are not there for information regarding Selah classes.  ** \nPlease register and pay through their website\, the link is below.
URL:https://funhomeschoolflorida.com/event/selah-dance-classes-for-homeschoolers-ballet-tap-modern-jazz-pointe-2/2026-01-19/
LOCATION:Selah West\, 12900 W State Rd 84\, Davie\, FL\, United States
CATEGORIES:Broward County
ATTACH;FMTTYPE=image/jpeg:https://funhomeschoolflorida.com/wp-content/uploads/2026/01/Selah5.jpg
ORGANIZER;CN="Selah Dance Academy":MAILTO:ally@selahacademy.com
END:VEVENT
BEGIN:VEVENT
DTSTART;TZID=America/New_York:20260120T103000
DTEND;TZID=America/New_York:20260120T130000
DTSTAMP:20260419T152626
CREATED:20260115T114629Z
LAST-MODIFIED:20260417T034540Z
UID:10001032-1768905000-1768914000@funhomeschoolflorida.com
SUMMARY:Culinary Casita Living Arts Class W/ Project Flourish
DESCRIPTION:For ages 7 – 14 yrs \n10:30am – 1:00pm \nJoin Team Flourish for a delicious deep dive into plant-forward eating and living! We’ll explore home economics and food literacy principles through a lens of fresh local ingredients\, food stories\, life skills and everyday cooking techniques\, while creating recipes that truly celebrate the season. \nProject Flourish Community is a direct billing participant with Step Up for Students. Payments can be allocated directly through your ESA. \n**Registration closes 2 days prior to class \nNotes \nFood labs feature Vegetarian friendly recipes \nWhat you’ll learn: \nTues. 1/20 – Spice Market \nTues. 2/3 – Cocoa Confections \nTues. 2/17 – Liberation’s Table\, Black History Culinary Showcase \nTues. 3/10 – Citrus Celebrations \nTues. 3/24 – Taste The Rainbow \nTues. 4/7 – Garden-To-Table Grazing \nTues. 4/21 – Edible Earth\, zero waste cooking \nTues. 5/5 – Blooms & Brew Tea Party \nTues. 5/ 19 – Farmers Market Finds \nPlease register and pay through their website. \nDrop-In $42/day [Self-Pay or Step Up Direct Bill] \nSibling Discounts: Second Child (10%)\, Third Child (10%)\, Any Additional Child (10%)
URL:https://funhomeschoolflorida.com/event/home-economics-culinary-casita-living-arts-class-w-project-flourish/2026-01-20/
LOCATION:Deerfield Beach Historical Society\, 84 SE 4th Ave\, Deerfield beach\, FL\, 33441\, United States
CATEGORIES:Broward County
ATTACH;FMTTYPE=image/webp:https://funhomeschoolflorida.com/wp-content/uploads/2026/01/FINALPFSchoolhouseheader.webp
ORGANIZER;CN="Project Flourish":MAILTO:alicia@projectflourishcommunity.com
END:VEVENT
BEGIN:VEVENT
DTSTART;TZID=America/New_York:20260122T090000
DTEND;TZID=America/New_York:20260122T150000
DTSTAMP:20260419T152626
CREATED:20260119T153118Z
LAST-MODIFIED:20260417T034540Z
UID:10001846-1769072400-1769094000@funhomeschoolflorida.com
SUMMARY:Selah Dance Classes for Homeschoolers [ Ballet\, Tap\, Modern\, Jazz\, Pointe*] Thursday
DESCRIPTION:CLASSES FOR AGES 3-18 YEARS OLD \n*Additional class levels offered on their website* \nTeen Ballet: Ballet for pre-teens and teens\, who may be beginners or experienced dancers that want to be challenged and learn the art of dance\, however can not commit to a rigorous dance schedule. Dancers in this level are welcome to attend one to two days a week. Thursday 9:00 AM to 10:00 AM \nJazz IV & V: Jazz for ages 14 and older\, or according to ability. Thursday 9:15 -10:00 AM \nBallet II: Ballet for ages 10 and older\, or according to ability. Thursday 10:00- 11:00 AM \nJazz I: Jazz for ages 8 and older\, or according to ability. Thursday 10:00 AM to 10:45 AM \nBeginner Pointe: Beginner Pointe for level II. Two ballet classes a week are required in addition to pointe. Thursday 10:00 AM to 11:00 AM \nTap I & II: Tap for ages 8-11 or according to ability. Thursday 11:00 AM to 11:45 AM \nTeen Jazz: Jazz for pre-teens and teens\, who may be beginners or experienced dancers that want to be challenged and learn the art of dance\, however can not commit to a rigorous dance schedule. Dancers in this level are welcome to attend one to two days a week. Thursday 11:00 AM to 11:45 AM \nBallet V: Ballet for ages 14 and older or according to ability. Two ballet classes a week are required for dancers in this level. Evaluation required for this level. Thursday 11:30 to 1:00 PM \nModern II: Modern for ages 10 and older\, or according to ability. Thursday 12:00- 12:45 PM \nModern III: Modern for ages 12 and older\, or according to ability. Two ballet classes a week are required in this level. Evaluation required for this level. Thursday 1:00 PM to 2:00 PM \nModern IV & V: Modern for ages 14 and older\, or according to ability. Two ballet classes in addition to modern are required for this level. Evaluation required for this level. Thursday 2:00 PM to 3:00 PM \nPointe\, Level IV/V: Pointe for ages 14 and older or according to ability. Two ballet classes a week are required in addition to pointe. Evaluation required for this level. Thursday 1:00- 2:00 PM \nPointe III: Pointe for ages 12 and older or according to ability. Two ballet classes a week are required in addition to pointe. Evaluation required for this level. Thursday 2:15 PM to 3:00 PM \n*Additional class days available* \n  \nSelah Academy is a dance school for homeschoolers directed by former homeschool and New World School of the Arts graduate\, Brittany Kernohan. Selah Academy hopes to build each student’s dance technique as well as character. We believe as strongly in the power of a great dance education as we do about creating beautiful\, loving and strong students. Selah teaches students the fundamentals of dance\, body alignment and terminology\, with focus on ballet and modern dance education. Classes harbor a fun and encouraging atmosphere to help build confidence\, learn teamwork\, grace and develop dance technique. We offer ballet\, modern\, jazz\, tap and pointe classes all during the day\, specifically gearing these classes to homeschooled students. \nSelah Academy is proud to include the AMERICAN BALLET THEATRE® National Training Curriculum\, a breakthrough 9-level program that combines high quality artistic training with the basics of dancer health and child development. The ABT® National Training Curriculum consists of a comprehensive set of age-appropriate\, outcome-based guidelines to provide the highest quality ballet training to dance students of all ages and skill levels. \nWe offer classes Monday-Friday. We are at our West Davie location Monday through Wednesday\, and our East Davie location on Thursday and Friday. \nSelah West 12900 W State Rd 84\, Davie FL \nSelah East 6878 Stirling Road\, Davie\, Fl 33024 \n** We rent space from existing studios in the mornings/afternoons. You can not drop by when we are not there for information regarding Selah classes.  ** \nPlease register and pay through their website\, the link is below.
URL:https://funhomeschoolflorida.com/event/selah-dance-classes-for-homeschoolers-ballet-tap-modern-jazz-pointe-thursday/2026-01-22/
LOCATION:Selah East\, 6878 Stirling Road\, Davie\, 33024\, United States
CATEGORIES:Broward County
ATTACH;FMTTYPE=image/jpeg:https://funhomeschoolflorida.com/wp-content/uploads/2026/01/MES8330.jpeg
ORGANIZER;CN="Selah Dance Academy":MAILTO:ally@selahacademy.com
END:VEVENT
BEGIN:VEVENT
DTSTART;TZID=America/New_York:20260123T103000
DTEND;TZID=America/New_York:20260123T130000
DTSTAMP:20260419T152626
CREATED:20260116T085150Z
LAST-MODIFIED:20260417T034540Z
UID:10001048-1769164200-1769173200@funhomeschoolflorida.com
SUMMARY:Flourish Atelier- A Nature Inspired Makerspace W/ Project Flourish
DESCRIPTION:4 – 12 yrs \n10:30am – 1:00pm \nWhat’s an Atelier you ask? Just a fancy way to say “workshop” or “design studio” in French\, and ours celebrates the most creative / energetic of spaces… Nature! \nEach month we gather to explore different wonders of the natural world and turn our discoveries into beautiful artistic expressions. \nFlourish Atelier offers playful pursuits for nature-based learning through: \n1) Edible Earth- plant-forward cooking provocations \n2) Handwork- a seasonal craft\, honoring our nature theme \n3) Natural Apothecary- plant powered intentional practices of self-care \nNotes \nPlease bring a water bottle and dress for play. \nFood labs feature Vegetarian friendly recipes \n  \nFri\, Jan 20\, 2025 – May 15\, 2026 \nWhat you’ll learn \nJanuary – Colors of Nature \nFebruary – Water Ways \nMarch – Songbird Studios \nApril – Flower Powered \nMay – Bee The Maker \nProject Flourish Community is a direct billing participant with Step Up for Students. Payments can be allocated directly through your ESA. \n**Registration closes 2 days prior to class.Please register through their website\, link below. \nDrop-In $38/day [ Self-Pay or Step Up Direct Bill]
URL:https://funhomeschoolflorida.com/event/flourish-atelier-a-nature-inspired-makerspace-w-project-flourish/2026-01-23/
LOCATION:Deerfield Beach Historical Society\, 84 SE 4th Ave\, Deerfield beach\, FL\, 33441\, United States
CATEGORIES:Broward County
ATTACH;FMTTYPE=image/webp:https://funhomeschoolflorida.com/wp-content/uploads/2026/01/projectflourish_final-02.webp
ORGANIZER;CN="Project Flourish":MAILTO:alicia@projectflourishcommunity.com
END:VEVENT
BEGIN:VEVENT
DTSTART;TZID=America/New_York:20260126T090000
DTEND;TZID=America/New_York:20260126T140000
DTSTAMP:20260419T152626
CREATED:20260119T121308Z
LAST-MODIFIED:20260417T034540Z
UID:10001151-1769418000-1769436000@funhomeschoolflorida.com
SUMMARY:Selah Dance Classes for Homeschoolers [ Ballet\, Tap\, Modern\, Jazz\, Pointe*] Monday
DESCRIPTION:CLASSES FOR AGES 3-18 YEARS OLD \n*Additional class levels offered on their website* \nPrimary Ballet B: Ballet for ages 6 and older\, or according to ability. Monday 9:00 AM – 10:00 AM \nBallet I: Ballet for ages 8 and older\, or according to ability. Monday 10:00 AM to 11:00 AM \nBallet II: Ballet for ages 10 and older\, or according to ability. Monday 11:30 AM – 12:30 PM \nContemporary III: Contemporary for ages 12 and older\, or according to ability. Two ballet classes a week are required for dancers in this level. Evaluation required for this level. Monday 11:00 AM to 12:00 PM \nBallet III; Ballet for ages 12 and older\, or according to ability. Two ballet classes a week are required for dancers in this level. Evaluation required for this level. Monday 12:30 PM to 2:00 PM \nPointe III: Pointe for ages 12 and older\, or according to ability. Two ballet classes a week are required in addition to pointe. Evaluation required for this level. Monday 2:00 PM to 2:45 PM \n*Additional class days available* \n  \nSelah Academy is a dance school for homeschoolers directed by former homeschool and New World School of the Arts graduate\, Brittany Kernohan. Selah Academy hopes to build each student’s dance technique as well as character. We believe as strongly in the power of a great dance education as we do about creating beautiful\, loving and strong students. Selah teaches students the fundamentals of dance\, body alignment and terminology\, with focus on ballet and modern dance education. Classes harbor a fun and encouraging atmosphere to help build confidence\, learn teamwork\, grace and develop dance technique. We offer ballet\, modern\, jazz\, tap and pointe classes all during the day\, specifically gearing these classes to homeschooled students. \nSelah Academy is proud to include the AMERICAN BALLET THEATRE® National Training Curriculum\, a breakthrough 9-level program that combines high quality artistic training with the basics of dancer health and child development. The ABT® National Training Curriculum consists of a comprehensive set of age-appropriate\, outcome-based guidelines to provide the highest quality ballet training to dance students of all ages and skill levels. \nWe offer classes Monday-Friday. We are at our West Davie location Monday through Wednesday\, and our East Davie location on Thursday and Friday. \nSelah West 12900 W State Rd 84\, Davie FL \nSelah East 6878 Stirling Road\, Davie\, Fl 33024 \n** We rent space from existing studios in the mornings/afternoons. You can not drop by when we are not there for information regarding Selah classes.  ** \nPlease register and pay through their website\, the link is below.
URL:https://funhomeschoolflorida.com/event/selah-dance-classes-for-homeschoolers-ballet-tap-modern-jazz-pointe-2/2026-01-26/
LOCATION:Selah West\, 12900 W State Rd 84\, Davie\, FL\, United States
CATEGORIES:Broward County
ATTACH;FMTTYPE=image/jpeg:https://funhomeschoolflorida.com/wp-content/uploads/2026/01/Selah5.jpg
ORGANIZER;CN="Selah Dance Academy":MAILTO:ally@selahacademy.com
END:VEVENT
BEGIN:VEVENT
DTSTART;TZID=America/New_York:20260127T110000
DTEND;TZID=America/New_York:20260127T130000
DTSTAMP:20260419T152626
CREATED:20260117T232358Z
LAST-MODIFIED:20260417T034539Z
UID:10001136-1769511600-1769518800@funhomeschoolflorida.com
SUMMARY:Fresh Pasta Cooking Class for Homeschoolers
DESCRIPTION:A weekday class designed especially for homeschooled children ages 5 – 17 years old. \nIn this hands-on homeschool cooking class\, students will dive into the art of traditional Italian pasta making. Participants will learn how to prepare fresh semolina dough and hand-shape classic cavatelli pasta using simple tools and techniques. \nThe class also includes making a rich and comforting butter Parmesan sauce to pair with the freshly made pasta. To complete the experience\, students will enjoy a live demonstration of tiramisu\, learning about its layers\, ingredients\, and Italian origins. \nThis class is fully interactive and focused on skill-building. Students will mix\, shape\, and cook their own pasta while gaining confidence in the fundamentals of fresh pasta making. \nAt the end of the class\, the pasta they prepared will be cooked and served for everyone to enjoy. \nPerfect for homeschoolers who love to cook\, create\, and learn through hands-on experiences in the kitchen. \nWhat does the workshop include? \nThe workshop includes all the tools\, materials\, and ingredients required to prepare the pasta and souce. \nHow long does it take? \nThe workshop lasts approximately 2 hours.. \nWho can enroll in this class? \nThis class is for homeschooled children (or in that age range) \nChildren 5-8 must be accompanied by an adult. \nREGISTER ONLINE AND RESERVE YOUR SEAT TODAY! Their link is below. \n$70.00
URL:https://funhomeschoolflorida.com/event/fresh-pasta-cooking-class-for-homeschoolers-2/
LOCATION:Mia Cake House- Plantation\, 1765 North University Drive\, Plantation\, United States
CATEGORIES:Broward County
ATTACH;FMTTYPE=image/webp:https://funhomeschoolflorida.com/wp-content/uploads/2026/01/fresh-pasta-jan-26.webp
ORGANIZER;CN="Mia Cake House- Plantation":MAILTO:info@miacakehouse.com
END:VEVENT
BEGIN:VEVENT
DTSTART;TZID=America/New_York:20260128T100000
DTEND;TZID=America/New_York:20260128T123000
DTSTAMP:20260419T152626
CREATED:20260118T012423Z
LAST-MODIFIED:20260417T034539Z
UID:10001137-1769594400-1769603400@funhomeschoolflorida.com
SUMMARY:JellyCat Cake Decorating Class for Homeschoolers
DESCRIPTION:A weekday class designed especially for homeschooled children. Students will learn how to decorate a personal cake using buttercream and fondant decorations in a fun\, hands-on environment led by our instructors.\n\nOpen to children ages 5 and up. \nChildren 9 and older may participate independently. \nChildren 8 and under must have an adult supervising (no ticket required for the supervising adult). \nEach ticket is for one participant\, and every child will decorate their own personal cake. \nBecause young participants (under 9) require the full attention of their supervising adult\, we kindly ask that babies or toddlers not attend. This ensures the guardian can fully support their child and helps maintain a focused\, safe\, and enjoyable environment for all students. \nWhat Does the Workshop Include? \nAll tools\, materials\, and ingredients needed to create and decorate a personal cake. \nDuration: Approximately 3 hours. \nWho Can Enroll? \nOpen to homeschool students ages 5 and up. \nSuitable for beginners with little to no experience. \nThis class offers a creative outlet and practical skills for homeschooled students while encouraging independence\, teamwork\, and fun in a structured environment. \nIf you have a voucher please use it at checkout. \nREGISTER ONLINE AND RESERVE YOUR SEAT TODAY! Link below \nEMA Funds can be used for this class. \n$85
URL:https://funhomeschoolflorida.com/event/jellycat-cake-decorating-class-for-homeschoolers/
LOCATION:Mia Cake House – DEERFIELD\, 3788 W. Hillsboro Blvd\, Deerfield Beach\, FL\, 33442\, United States
CATEGORIES:Broward County
ATTACH;FMTTYPE=image/webp:https://funhomeschoolflorida.com/wp-content/uploads/2026/01/jelly-cat-cake-hs-26-o.webp
ORGANIZER;CN="Mia Cake House":MAILTO:info@miacakehouse.com
END:VEVENT
BEGIN:VEVENT
DTSTART;TZID=America/New_York:20260129T090000
DTEND;TZID=America/New_York:20260129T150000
DTSTAMP:20260419T152626
CREATED:20260119T153118Z
LAST-MODIFIED:20260417T034540Z
UID:10001847-1769677200-1769698800@funhomeschoolflorida.com
SUMMARY:Selah Dance Classes for Homeschoolers [ Ballet\, Tap\, Modern\, Jazz\, Pointe*] Thursday
DESCRIPTION:CLASSES FOR AGES 3-18 YEARS OLD \n*Additional class levels offered on their website* \nTeen Ballet: Ballet for pre-teens and teens\, who may be beginners or experienced dancers that want to be challenged and learn the art of dance\, however can not commit to a rigorous dance schedule. Dancers in this level are welcome to attend one to two days a week. Thursday 9:00 AM to 10:00 AM \nJazz IV & V: Jazz for ages 14 and older\, or according to ability. Thursday 9:15 -10:00 AM \nBallet II: Ballet for ages 10 and older\, or according to ability. Thursday 10:00- 11:00 AM \nJazz I: Jazz for ages 8 and older\, or according to ability. Thursday 10:00 AM to 10:45 AM \nBeginner Pointe: Beginner Pointe for level II. Two ballet classes a week are required in addition to pointe. Thursday 10:00 AM to 11:00 AM \nTap I & II: Tap for ages 8-11 or according to ability. Thursday 11:00 AM to 11:45 AM \nTeen Jazz: Jazz for pre-teens and teens\, who may be beginners or experienced dancers that want to be challenged and learn the art of dance\, however can not commit to a rigorous dance schedule. Dancers in this level are welcome to attend one to two days a week. Thursday 11:00 AM to 11:45 AM \nBallet V: Ballet for ages 14 and older or according to ability. Two ballet classes a week are required for dancers in this level. Evaluation required for this level. Thursday 11:30 to 1:00 PM \nModern II: Modern for ages 10 and older\, or according to ability. Thursday 12:00- 12:45 PM \nModern III: Modern for ages 12 and older\, or according to ability. Two ballet classes a week are required in this level. Evaluation required for this level. Thursday 1:00 PM to 2:00 PM \nModern IV & V: Modern for ages 14 and older\, or according to ability. Two ballet classes in addition to modern are required for this level. Evaluation required for this level. Thursday 2:00 PM to 3:00 PM \nPointe\, Level IV/V: Pointe for ages 14 and older or according to ability. Two ballet classes a week are required in addition to pointe. Evaluation required for this level. Thursday 1:00- 2:00 PM \nPointe III: Pointe for ages 12 and older or according to ability. Two ballet classes a week are required in addition to pointe. Evaluation required for this level. Thursday 2:15 PM to 3:00 PM \n*Additional class days available* \n  \nSelah Academy is a dance school for homeschoolers directed by former homeschool and New World School of the Arts graduate\, Brittany Kernohan. Selah Academy hopes to build each student’s dance technique as well as character. We believe as strongly in the power of a great dance education as we do about creating beautiful\, loving and strong students. Selah teaches students the fundamentals of dance\, body alignment and terminology\, with focus on ballet and modern dance education. Classes harbor a fun and encouraging atmosphere to help build confidence\, learn teamwork\, grace and develop dance technique. We offer ballet\, modern\, jazz\, tap and pointe classes all during the day\, specifically gearing these classes to homeschooled students. \nSelah Academy is proud to include the AMERICAN BALLET THEATRE® National Training Curriculum\, a breakthrough 9-level program that combines high quality artistic training with the basics of dancer health and child development. The ABT® National Training Curriculum consists of a comprehensive set of age-appropriate\, outcome-based guidelines to provide the highest quality ballet training to dance students of all ages and skill levels. \nWe offer classes Monday-Friday. We are at our West Davie location Monday through Wednesday\, and our East Davie location on Thursday and Friday. \nSelah West 12900 W State Rd 84\, Davie FL \nSelah East 6878 Stirling Road\, Davie\, Fl 33024 \n** We rent space from existing studios in the mornings/afternoons. You can not drop by when we are not there for information regarding Selah classes.  ** \nPlease register and pay through their website\, the link is below.
URL:https://funhomeschoolflorida.com/event/selah-dance-classes-for-homeschoolers-ballet-tap-modern-jazz-pointe-thursday/2026-01-29/
LOCATION:Selah East\, 6878 Stirling Road\, Davie\, 33024\, United States
CATEGORIES:Broward County
ATTACH;FMTTYPE=image/jpeg:https://funhomeschoolflorida.com/wp-content/uploads/2026/01/MES8330.jpeg
ORGANIZER;CN="Selah Dance Academy":MAILTO:ally@selahacademy.com
END:VEVENT
BEGIN:VEVENT
DTSTART;TZID=America/New_York:20260130T100000
DTEND;TZID=America/New_York:20260130T120000
DTSTAMP:20260419T152626
CREATED:20260118T024956Z
LAST-MODIFIED:20260417T034539Z
UID:10001138-1769767200-1769774400@funhomeschoolflorida.com
SUMMARY:Crumbl-Style Cookie Baking Challenge for Homeschoolers
DESCRIPTION:Designed for homeschoolers\, this weekday baking class gives children the chance to learn\, create\, and have fun in a hands-on environment. Students will bake Crumbl-style cookies with all tools\, ingredients\, and guidance provided by our chef instructors. \nChildren 9 and older may participate independently. \nChildren 8 and under must have an adult supervising (no ticket required for the supervising adult). \nEach ticket is valid for one participant. \nClass Details \nDuration: Approximately 2 hours \nClass size: Limited to 12–16 students \nStudents work in teams of four\, sharing stations and equipment \nActive participation required (standing\, mixing\, decorating) \nSafety: Closed-toe shoes and tied-back hair required \nThis class provides a fun and educational experience where homeschool students gain confidence\, practice teamwork\, and develop new baking skills. \nPromo Price: $45 \nIf you have a voucher please use it at checkout. \nREGISTER ONLINE AND RESERVE YOUR SEAT TODAY! Link Below
URL:https://funhomeschoolflorida.com/event/crumbl-style-cookie-baking-challenge-for-homeschoolers/
LOCATION:Mia Cake House- Plantation\, 1765 North University Drive\, Plantation\, United States
CATEGORIES:Broward County
ATTACH;FMTTYPE=image/webp:https://funhomeschoolflorida.com/wp-content/uploads/2026/01/cc-2026-hs.webp
ORGANIZER;CN="Mia Cake House- Plantation":MAILTO:info@miacakehouse.com
END:VEVENT
END:VCALENDAR