BEGIN:VCALENDAR
VERSION:2.0
PRODID:-// - ECPv6.15.20//NONSGML v1.0//EN
CALSCALE:GREGORIAN
METHOD:PUBLISH
X-ORIGINAL-URL:https://funhomeschoolflorida.com
X-WR-CALDESC:Events for 
REFRESH-INTERVAL;VALUE=DURATION:PT1H
X-Robots-Tag:noindex
X-PUBLISHED-TTL:PT1H
BEGIN:VTIMEZONE
TZID:America/New_York
BEGIN:DAYLIGHT
TZOFFSETFROM:-0500
TZOFFSETTO:-0400
TZNAME:EDT
DTSTART:20250309T070000
END:DAYLIGHT
BEGIN:STANDARD
TZOFFSETFROM:-0400
TZOFFSETTO:-0500
TZNAME:EST
DTSTART:20251102T060000
END:STANDARD
BEGIN:DAYLIGHT
TZOFFSETFROM:-0500
TZOFFSETTO:-0400
TZNAME:EDT
DTSTART:20260308T070000
END:DAYLIGHT
BEGIN:STANDARD
TZOFFSETFROM:-0400
TZOFFSETTO:-0500
TZNAME:EST
DTSTART:20261101T060000
END:STANDARD
BEGIN:DAYLIGHT
TZOFFSETFROM:-0500
TZOFFSETTO:-0400
TZNAME:EDT
DTSTART:20270314T070000
END:DAYLIGHT
BEGIN:STANDARD
TZOFFSETFROM:-0400
TZOFFSETTO:-0500
TZNAME:EST
DTSTART:20271107T060000
END:STANDARD
END:VTIMEZONE
BEGIN:VEVENT
DTSTART;TZID=America/New_York:20260428T073000
DTEND;TZID=America/New_York:20260428T153000
DTSTAMP:20260419T030842
CREATED:20260117T130733Z
LAST-MODIFIED:20260418T031816Z
UID:10001127-1777361400-1777390200@funhomeschoolflorida.com
SUMMARY:SURF SKATE SCIENCE Shark Research Expedition with NSU and Guy Harvey Foundation
DESCRIPTION:Shark Research Expedition with NSU and Guy Harvey Foundation \nDive into Real-World Science! \nJoin us for a one-of-a-kind\, hands-on shark research expedition aboard a working research vessel! In partnership with Nova Southeastern University and the Guy Harvey Foundation\, participants will team up with top marine scientists to study sharks in the wild Atlantic waters just off Port Everglades. \nYou’ll learn how to safely catch\, measure\, tag\, and collect DNA and other scientific data on sharks—helping with real conservation work happening right now. Between research sets\, you’ll even have the chance to snorkel in the open ocean! \nNSU Oceanographic Center \n8000 N Ocean Dr\, Dania Beach\, FL 33004\, USA \nSpring dates: \nFeb 20\, 2026\, 7:30 AM – 3:30 PM \nMar 16\, 2026\, 7:30 AM – 3:30 PM \nApr 28\, 2026\, 7:30 AM – 3:30 PM \nMay 12\, 2026\, 7:30 AM – 3:30 PM \n  \n📌 Ages: Open to parents and students ages 8 and up (Students under 15 must be accompanied by a paid adult participant) \nAdult/Student Self Pay $175.00 \nPlease register and pay through their website\, link below.
URL:https://funhomeschoolflorida.com/event/february-sharksurf-skate-science-research-expedition-with-nsu-and-guy-harvey-foundation/2026-04-28/
LOCATION:FL
CATEGORIES:Broward County
ATTACH;FMTTYPE=image/jpeg:https://funhomeschoolflorida.com/wp-content/uploads/2026/01/2feeae_5c1095af34de443ba8a1e1ce732c0aacmv2.jpg
END:VEVENT
BEGIN:VEVENT
DTSTART;TZID=America/New_York:20260501T123000
DTEND;TZID=America/New_York:20260501T153000
DTSTAMP:20260419T030842
CREATED:20260117T183804Z
LAST-MODIFIED:20260417T223810Z
UID:10001133-1777638600-1777649400@funhomeschoolflorida.com
SUMMARY:SFLHRC Teen Field Trip: Xtreme Teens Takeover! 🎮🏎️
DESCRIPTION:Get ready for an action-packed day of epic fun at Xtreme Action Park! \nFrom bouncing high in the Trampoline Park to testing your skills in Ninja Warrior challenges\, this field trip is all about movement\, laughs\, and unforgettable memories with friends. Battle it out in Jousting\, dive into the Ball Pit\, shoot hoops\, dodge dodgeballs\, and more! (and yes\, the socks are included in the price below) \nThen\, buckle up for a thrilling 10-minute Go Kart race that will get your heart racing! \nFinish the day with a 60-minute all-you-can-play arcade card—because the fun never stops. \nFriends. Fun. Full-on entertainment. \nThis is one field trip they won’t stop talking about! \n📆 Day:Friday\, May 1\, 2026 \n⏰ Time: 12:30 – 3:30 pm \n👧🏻 Ages: 12 – 17 \n💵 Cost: \n$35.00 (for the above) \nYou can bring additional money for food at the snack bar OR to play beyond what is listed above after 3:30 pm. \n📍Location: \n5300 Powerline Rd\, Fort Lauderdale\, FL 33309 \nRegister and pay through their website\, link below.
URL:https://funhomeschoolflorida.com/event/sflhrc-teen-field-trip-xtreme-teens-takeover-%f0%9f%8e%ae%f0%9f%8f%8e%ef%b8%8f/
LOCATION:Xtreme Action Park\, 5300 Powerline Rd\, Fort Lauderdale\, FL\, 33309\, United States
CATEGORIES:Broward County
ATTACH;FMTTYPE=image/png:https://funhomeschoolflorida.com/wp-content/uploads/2026/01/20260117_133726_0000.png
ORGANIZER;CN="SFLHRC - South Florida Homeschool Resource Center":MAILTO:info@sflhrc.com
END:VEVENT
BEGIN:VEVENT
DTSTART;TZID=America/New_York:20260512T073000
DTEND;TZID=America/New_York:20260512T153000
DTSTAMP:20260419T030842
CREATED:20260117T130733Z
LAST-MODIFIED:20260418T031816Z
UID:10001128-1778571000-1778599800@funhomeschoolflorida.com
SUMMARY:SURF SKATE SCIENCE Shark Research Expedition with NSU and Guy Harvey Foundation
DESCRIPTION:Shark Research Expedition with NSU and Guy Harvey Foundation \nDive into Real-World Science! \nJoin us for a one-of-a-kind\, hands-on shark research expedition aboard a working research vessel! In partnership with Nova Southeastern University and the Guy Harvey Foundation\, participants will team up with top marine scientists to study sharks in the wild Atlantic waters just off Port Everglades. \nYou’ll learn how to safely catch\, measure\, tag\, and collect DNA and other scientific data on sharks—helping with real conservation work happening right now. Between research sets\, you’ll even have the chance to snorkel in the open ocean! \nNSU Oceanographic Center \n8000 N Ocean Dr\, Dania Beach\, FL 33004\, USA \nSpring dates: \nFeb 20\, 2026\, 7:30 AM – 3:30 PM \nMar 16\, 2026\, 7:30 AM – 3:30 PM \nApr 28\, 2026\, 7:30 AM – 3:30 PM \nMay 12\, 2026\, 7:30 AM – 3:30 PM \n  \n📌 Ages: Open to parents and students ages 8 and up (Students under 15 must be accompanied by a paid adult participant) \nAdult/Student Self Pay $175.00 \nPlease register and pay through their website\, link below.
URL:https://funhomeschoolflorida.com/event/february-sharksurf-skate-science-research-expedition-with-nsu-and-guy-harvey-foundation/2026-05-12/
LOCATION:FL
CATEGORIES:Broward County
ATTACH;FMTTYPE=image/jpeg:https://funhomeschoolflorida.com/wp-content/uploads/2026/01/2feeae_5c1095af34de443ba8a1e1ce732c0aacmv2.jpg
END:VEVENT
END:VCALENDAR