BEGIN:VCALENDAR
VERSION:2.0
PRODID:-// - ECPv6.15.20//NONSGML v1.0//EN
CALSCALE:GREGORIAN
METHOD:PUBLISH
X-ORIGINAL-URL:https://funhomeschoolflorida.com
X-WR-CALDESC:Events for 
REFRESH-INTERVAL;VALUE=DURATION:PT1H
X-Robots-Tag:noindex
X-PUBLISHED-TTL:PT1H
BEGIN:VTIMEZONE
TZID:America/New_York
BEGIN:DAYLIGHT
TZOFFSETFROM:-0500
TZOFFSETTO:-0400
TZNAME:EDT
DTSTART:20250309T070000
END:DAYLIGHT
BEGIN:STANDARD
TZOFFSETFROM:-0400
TZOFFSETTO:-0500
TZNAME:EST
DTSTART:20251102T060000
END:STANDARD
BEGIN:DAYLIGHT
TZOFFSETFROM:-0500
TZOFFSETTO:-0400
TZNAME:EDT
DTSTART:20260308T070000
END:DAYLIGHT
BEGIN:STANDARD
TZOFFSETFROM:-0400
TZOFFSETTO:-0500
TZNAME:EST
DTSTART:20261101T060000
END:STANDARD
BEGIN:DAYLIGHT
TZOFFSETFROM:-0500
TZOFFSETTO:-0400
TZNAME:EDT
DTSTART:20270314T070000
END:DAYLIGHT
BEGIN:STANDARD
TZOFFSETFROM:-0400
TZOFFSETTO:-0500
TZNAME:EST
DTSTART:20271107T060000
END:STANDARD
END:VTIMEZONE
BEGIN:VEVENT
DTSTART;TZID=America/New_York:20260223T144000
DTEND;TZID=America/New_York:20260223T160000
DTSTAMP:20260419T153233
CREATED:20260214T205353Z
LAST-MODIFIED:20260418T031815Z
UID:10002227-1771857600-1771862400@funhomeschoolflorida.com
SUMMARY:Afterschool Teen hang-out in the Living Room
DESCRIPTION:Monday\, February 23 \n2:40pm – 4:00pm \nVideogames\, entertainment\, and space to chill or engage. \n  \nHang out after school in the Living Room. Select and play a videogame–multiple choices are available daily on multiple screens. Play corn hole or a puzzle. Or\, spend time with friends in a fun\, friendly environment.
URL:https://funhomeschoolflorida.com/event/afterschool-teen-hang-out-in-the-living-room/
LOCATION:Northwest Regional Library\, 3151 North University Drive\, Coral Springs\, FL\, 33065\, United States
CATEGORIES:Broward County
END:VEVENT
BEGIN:VEVENT
DTSTART;TZID=America/New_York:20260223T153000
DTEND;TZID=America/New_York:20260223T170000
DTSTAMP:20260419T153233
CREATED:20260214T205843Z
LAST-MODIFIED:20260418T031942Z
UID:10002228-1771860600-1771866000@funhomeschoolflorida.com
SUMMARY:H.Y.P.E. (Helping Young People Elevate) After School Program Rooted in Food and Culture: A Taste of Heritage
DESCRIPTION:Monday\, February 23 \n3:30pm – 5:00pm \nCreated by the Teen Advisory Board and powered by youth\, this Black History Month program invites participants to celebrate heritage through food\, traditions\, and storytelling. \n  \nH.Y.P.E. (Helping Young People Elevate) After School Program – Black History Month Edition \n  \nJoin us for Taste of Heritage\, a hands-on program that celebrates Black History Month by exploring the powerful connection between food\, culture\, and identity. \n  \nLed by EatWell Exchange\, this interactive experience brings Black culinary traditions to life through engaging stories\, meaningful conversations\, and a fun no-cook food activity featuring familiar flavors. \n  \nThis isn’t just about cooking—it’s about celebrating heritage\, building confidence\, and discovering the stories behind the food we love. \n  \nSponsored by BSO Law Enforcement Trust Fund and Friends of Broward County African American Research Library and Cultural Center. \n  \nAbout EatWell Exchange: Eatwell Exchange works to decrease health disparities in low-socioeconomic communities while keeping culturally relevant foods on the table. \nIn February 2017\, EatWell Exchange was born and since then have provided nutrition education to the populations that need it most\, locally and abroad.
URL:https://funhomeschoolflorida.com/event/h-y-p-e-helping-young-people-elevate-after-school-program-rooted-in-food-and-culture-a-taste-of-heritage/
LOCATION:African American Research Library and Cultural Center\, 2650 Sistrunk Boulevard\, Fort Lauderdale\, FL\, 33311\, United States
CATEGORIES:Broward County
ATTACH;FMTTYPE=image/jpeg:https://funhomeschoolflorida.com/wp-content/uploads/2026/02/GettyImages-1712319072.jpg
END:VEVENT
END:VCALENDAR