BEGIN:VCALENDAR
VERSION:2.0
PRODID:-// - ECPv6.15.20//NONSGML v1.0//EN
CALSCALE:GREGORIAN
METHOD:PUBLISH
X-ORIGINAL-URL:https://funhomeschoolflorida.com
X-WR-CALDESC:Events for 
REFRESH-INTERVAL;VALUE=DURATION:PT1H
X-Robots-Tag:noindex
X-PUBLISHED-TTL:PT1H
BEGIN:VTIMEZONE
TZID:America/New_York
BEGIN:DAYLIGHT
TZOFFSETFROM:-0500
TZOFFSETTO:-0400
TZNAME:EDT
DTSTART:20250309T070000
END:DAYLIGHT
BEGIN:STANDARD
TZOFFSETFROM:-0400
TZOFFSETTO:-0500
TZNAME:EST
DTSTART:20251102T060000
END:STANDARD
BEGIN:DAYLIGHT
TZOFFSETFROM:-0500
TZOFFSETTO:-0400
TZNAME:EDT
DTSTART:20260308T070000
END:DAYLIGHT
BEGIN:STANDARD
TZOFFSETFROM:-0400
TZOFFSETTO:-0500
TZNAME:EST
DTSTART:20261101T060000
END:STANDARD
BEGIN:DAYLIGHT
TZOFFSETFROM:-0500
TZOFFSETTO:-0400
TZNAME:EDT
DTSTART:20270314T070000
END:DAYLIGHT
BEGIN:STANDARD
TZOFFSETFROM:-0400
TZOFFSETTO:-0500
TZNAME:EST
DTSTART:20271107T060000
END:STANDARD
END:VTIMEZONE
BEGIN:VEVENT
DTSTART;TZID=America/New_York:20260423T100000
DTEND;TZID=America/New_York:20260423T110000
DTSTAMP:20260418T184913
CREATED:20260113T065650Z
LAST-MODIFIED:20260417T223904Z
UID:10000988-1776938400-1776942000@funhomeschoolflorida.com
SUMMARY:Elephant & Piggie's "We are in a Play": Smart Stage Matinee Series
DESCRIPTION:Based on the beloved Elephant & Piggie books by Mo Willems\, this fun-filled musical follows the lovable duo\, Elephant Gerald and Piggie\, as they embark on a hilarious adventure on stage! An elephant named Gerald and a pig named Piggie are best\, best\, “bestus” (a word Gerald and Piggie made up that means “very best”) friends. But Gerald worries that something could go wrong that would end their friendship. Piggie is not worried at all. She’s even happier and more excited than usual. That’s because she and Gerald are invited to a party hosted by the Squirrelles\, three singing squirrels who love to have a good time. And so begins a day when anything is possible. Gerald and Piggie will solve problems together\, sing and dance to music played by a band on stage\, make each other laugh\, share their favorite things\, get mad and sad with each other\, and even do a little goofing around with you\, the audience. Wait until you see what they have in mind! \nRecommended grade levels: Pre-K-1st \nLap Tickets are available for purchase for children 12 months and under\, only available at the Broward Center’s AutoNation Box Office. Everyone in the theater must have a ticket. \nStudy guides for all of the Smart Stage Matinees are available for download. HERE \nShowtimes: \nThu\, Apr 23\, 2026 – 10:00 AM \nFri\, Apr 24\, 2026 – 10:00 AM \n$10.01 per ticket \nThis event requires a ticket\, please purchase on their website. Link is below. \nOther shows: https://www.browardcenter.org/smart-stage-matinees
URL:https://funhomeschoolflorida.com/event/elephant-piggies-we-are-in-a-play-smart-stage-matinee-series/
LOCATION:Amaturo Theater at The Broward Center for the Performing Arts\, 201 SW 5th Avenue\, Fort Lauderdale\, FL\, 33312\, United States
CATEGORIES:Broward County
ATTACH;FMTTYPE=image/jpeg:https://funhomeschoolflorida.com/wp-content/uploads/2026/01/edp_ElephantPiggie_955x500-9e75542141.jpg
END:VEVENT
BEGIN:VEVENT
DTSTART;TZID=America/New_York:20260424T100000
DTEND;TZID=America/New_York:20260424T110000
DTSTAMP:20260418T184913
CREATED:20260113T065904Z
LAST-MODIFIED:20260417T223904Z
UID:10000989-1777024800-1777028400@funhomeschoolflorida.com
SUMMARY:Elephant & Piggie's "We are in a Play": Smart Stage Matinee Series
DESCRIPTION:Based on the beloved Elephant & Piggie books by Mo Willems\, this fun-filled musical follows the lovable duo\, Elephant Gerald and Piggie\, as they embark on a hilarious adventure on stage! An elephant named Gerald and a pig named Piggie are best\, best\, “bestus” (a word Gerald and Piggie made up that means “very best”) friends. But Gerald worries that something could go wrong that would end their friendship. Piggie is not worried at all. She’s even happier and more excited than usual. That’s because she and Gerald are invited to a party hosted by the Squirrelles\, three singing squirrels who love to have a good time. And so begins a day when anything is possible. Gerald and Piggie will solve problems together\, sing and dance to music played by a band on stage\, make each other laugh\, share their favorite things\, get mad and sad with each other\, and even do a little goofing around with you\, the audience. Wait until you see what they have in mind! \nRecommended grade levels: Pre-K-1st \nLap Tickets are available for purchase for children 12 months and under\, only available at the Broward Center’s AutoNation Box Office. Everyone in the theater must have a ticket. \nStudy guides for all of the Smart Stage Matinees are available for download. HERE \nShowtimes: \nThu\, Apr 23\, 2026 – 10:00 AM \nFri\, Apr 24\, 2026 – 10:00 AM \n$10.01 per ticket \nThis event requires a ticket\, please purchase on their website. Link is below. \nOther shows: https://www.browardcenter.org/smart-stage-matinees
URL:https://funhomeschoolflorida.com/event/elephant-piggies-we-are-in-a-play-smart-stage-matinee-series-2/
LOCATION:Amaturo Theater at The Broward Center for the Performing Arts\, 201 SW 5th Avenue\, Fort Lauderdale\, FL\, 33312\, United States
CATEGORIES:Broward County
ATTACH;FMTTYPE=image/jpeg:https://funhomeschoolflorida.com/wp-content/uploads/2026/01/edp_ElephantPiggie_955x500-9e75542141.jpg
END:VEVENT
BEGIN:VEVENT
DTSTART;TZID=America/New_York:20260501T123000
DTEND;TZID=America/New_York:20260501T153000
DTSTAMP:20260418T184913
CREATED:20260117T183804Z
LAST-MODIFIED:20260417T223810Z
UID:10001133-1777638600-1777649400@funhomeschoolflorida.com
SUMMARY:SFLHRC Teen Field Trip: Xtreme Teens Takeover! 🎮🏎️
DESCRIPTION:Get ready for an action-packed day of epic fun at Xtreme Action Park! \nFrom bouncing high in the Trampoline Park to testing your skills in Ninja Warrior challenges\, this field trip is all about movement\, laughs\, and unforgettable memories with friends. Battle it out in Jousting\, dive into the Ball Pit\, shoot hoops\, dodge dodgeballs\, and more! (and yes\, the socks are included in the price below) \nThen\, buckle up for a thrilling 10-minute Go Kart race that will get your heart racing! \nFinish the day with a 60-minute all-you-can-play arcade card—because the fun never stops. \nFriends. Fun. Full-on entertainment. \nThis is one field trip they won’t stop talking about! \n📆 Day:Friday\, May 1\, 2026 \n⏰ Time: 12:30 – 3:30 pm \n👧🏻 Ages: 12 – 17 \n💵 Cost: \n$35.00 (for the above) \nYou can bring additional money for food at the snack bar OR to play beyond what is listed above after 3:30 pm. \n📍Location: \n5300 Powerline Rd\, Fort Lauderdale\, FL 33309 \nRegister and pay through their website\, link below.
URL:https://funhomeschoolflorida.com/event/sflhrc-teen-field-trip-xtreme-teens-takeover-%f0%9f%8e%ae%f0%9f%8f%8e%ef%b8%8f/
LOCATION:Xtreme Action Park\, 5300 Powerline Rd\, Fort Lauderdale\, FL\, 33309\, United States
CATEGORIES:Broward County
ATTACH;FMTTYPE=image/png:https://funhomeschoolflorida.com/wp-content/uploads/2026/01/20260117_133726_0000.png
ORGANIZER;CN="SFLHRC - South Florida Homeschool Resource Center":MAILTO:info@sflhrc.com
END:VEVENT
END:VCALENDAR