BEGIN:VCALENDAR
VERSION:2.0
PRODID:-// - ECPv6.15.20//NONSGML v1.0//EN
CALSCALE:GREGORIAN
METHOD:PUBLISH
X-ORIGINAL-URL:https://funhomeschoolflorida.com
X-WR-CALDESC:Events for 
REFRESH-INTERVAL;VALUE=DURATION:PT1H
X-Robots-Tag:noindex
X-PUBLISHED-TTL:PT1H
BEGIN:VTIMEZONE
TZID:America/New_York
BEGIN:DAYLIGHT
TZOFFSETFROM:-0500
TZOFFSETTO:-0400
TZNAME:EDT
DTSTART:20250309T070000
END:DAYLIGHT
BEGIN:STANDARD
TZOFFSETFROM:-0400
TZOFFSETTO:-0500
TZNAME:EST
DTSTART:20251102T060000
END:STANDARD
BEGIN:DAYLIGHT
TZOFFSETFROM:-0500
TZOFFSETTO:-0400
TZNAME:EDT
DTSTART:20260308T070000
END:DAYLIGHT
BEGIN:STANDARD
TZOFFSETFROM:-0400
TZOFFSETTO:-0500
TZNAME:EST
DTSTART:20261101T060000
END:STANDARD
BEGIN:DAYLIGHT
TZOFFSETFROM:-0500
TZOFFSETTO:-0400
TZNAME:EDT
DTSTART:20270314T070000
END:DAYLIGHT
BEGIN:STANDARD
TZOFFSETFROM:-0400
TZOFFSETTO:-0500
TZNAME:EST
DTSTART:20271107T060000
END:STANDARD
END:VTIMEZONE
BEGIN:VEVENT
DTSTART;TZID=America/New_York:20260513T100000
DTEND;TZID=America/New_York:20260513T123000
DTSTAMP:20260418T163139
CREATED:20260115T101550Z
LAST-MODIFIED:20260415T034840Z
UID:10001018-1778666400-1778675400@funhomeschoolflorida.com
SUMMARY:YOUNG SEEDs IN THE PARK- Heal the Planet’s Sustainable Energy EDucation!
DESCRIPTION:  \nYoung SEEDs In The Park for homeschoolers is FREE for children ages 5 to 12 from 10:00 am – 12:30 pm the 2nd Wednesday of every month. \nSessions include gardening\, food demos\, yoga\, breathwork\, mindfulness exercises\, and more. \nSEED Program is a hands-on learning program designed to connect students with nature\, our planet\, and their place in it. The SEED Program takes a holistic approach\, addressing ecological awareness and sustainability\, including topics such as self-identity\, food systems\, biodiversity\, and systems thinking. \n  \nPlease register through their website\, link is below. \n 
URL:https://funhomeschoolflorida.com/event/young-seeds-in-the-park-heal-the-planets-sustainable-energy-education/2026-05-13/
LOCATION:SNYDER PARK\, 3299 Southwest 4th Avenue\, Fort Lauderdale\, FL\, 33315\, United States
CATEGORIES:Broward County
ATTACH;FMTTYPE=image/png:https://funhomeschoolflorida.com/wp-content/uploads/2026/01/HTPLogonobackgroundnopuntocom.png
GEO:26.15118;-80.140832
X-APPLE-STRUCTURED-LOCATION;VALUE=URI;X-ADDRESS=SNYDER PARK 3299 Southwest 4th Avenue Fort Lauderdale FL 33315 United States;X-APPLE-RADIUS=500;X-TITLE=3299 Southwest 4th Avenue:geo:-80.140832,26.15118
END:VEVENT
BEGIN:VEVENT
DTSTART;TZID=America/New_York:20260513T150000
DTEND;TZID=America/New_York:20260513T160000
DTSTAMP:20260418T163139
CREATED:20260328T145807Z
LAST-MODIFIED:20260417T223501Z
UID:10003873-1778684400-1778688000@funhomeschoolflorida.com
SUMMARY:FREE Kitten Care Presented by Broward County Animal Care
DESCRIPTION:Kitten Care \nPresented by Broward County Animal Care \nWednesday\, May 13 \n3:00pm – 4:00pm \nJoin Amanda Butler for this talk about kittens! \nThis program covers the importance of keeping kittens with their mothers\, what children should do if they find kittens\, and how to tell the age of kittens. You can also learn about foster and adoption programs at Animal Care and ways to help animals at the shelter. \nThis event also features live kittens. After the presentation\, audience members can meet the kittens and pet them.
URL:https://funhomeschoolflorida.com/event/free-kitten-care-presented-by-broward-county-animal-care-2/
LOCATION:Dania Beach Paul DeMaio Branch\, 1 Park Avenue East\,\, Dania Beach\, 33004\, United States
CATEGORIES:Broward County
ATTACH;FMTTYPE=image/png:https://funhomeschoolflorida.com/wp-content/uploads/2026/03/SWR_KITTEN_CARE_CC.png
END:VEVENT
END:VCALENDAR