BEGIN:VCALENDAR
VERSION:2.0
PRODID:-// - ECPv6.15.20//NONSGML v1.0//EN
CALSCALE:GREGORIAN
METHOD:PUBLISH
X-ORIGINAL-URL:https://funhomeschoolflorida.com
X-WR-CALDESC:Events for 
REFRESH-INTERVAL;VALUE=DURATION:PT1H
X-Robots-Tag:noindex
X-PUBLISHED-TTL:PT1H
BEGIN:VTIMEZONE
TZID:America/New_York
BEGIN:DAYLIGHT
TZOFFSETFROM:-0500
TZOFFSETTO:-0400
TZNAME:EDT
DTSTART:20250309T070000
END:DAYLIGHT
BEGIN:STANDARD
TZOFFSETFROM:-0400
TZOFFSETTO:-0500
TZNAME:EST
DTSTART:20251102T060000
END:STANDARD
BEGIN:DAYLIGHT
TZOFFSETFROM:-0500
TZOFFSETTO:-0400
TZNAME:EDT
DTSTART:20260308T070000
END:DAYLIGHT
BEGIN:STANDARD
TZOFFSETFROM:-0400
TZOFFSETTO:-0500
TZNAME:EST
DTSTART:20261101T060000
END:STANDARD
BEGIN:DAYLIGHT
TZOFFSETFROM:-0500
TZOFFSETTO:-0400
TZNAME:EDT
DTSTART:20270314T070000
END:DAYLIGHT
BEGIN:STANDARD
TZOFFSETFROM:-0400
TZOFFSETTO:-0500
TZNAME:EST
DTSTART:20271107T060000
END:STANDARD
END:VTIMEZONE
BEGIN:VEVENT
DTSTART;TZID=America/New_York:20260325T150000
DTEND;TZID=America/New_York:20260325T170000
DTSTAMP:20260418T144533
CREATED:20260217T023043Z
LAST-MODIFIED:20260417T144036Z
UID:10002253-1774450800-1774458000@funhomeschoolflorida.com
SUMMARY:Neuroplasticity through Beading Learn Pony Beading Basics
DESCRIPTION:3:00pm – 5:00pm \nOpen to any skill level: Beginning to expert \nPony beading \nJOIN US! \nExpand your brain’s neural bounds and pick up a new hobby! Through learning new skills and techniques\, your brain will become more elastic with each beaded row. Open to any skill level– beginner to expert. Learn beading basics and learn how to follow pony bead patterns. \nWe meet by different age groups on the following dates: \nWednesday\, March 11\, 2026: Tweens \nWednesday March 18\, 2026: Teens \nWednesday\, March 19\, 2026: Kids \nPlease register through their website\,  link is below.
URL:https://funhomeschoolflorida.com/event/neuroplasticity-through-beading-learn-pony-beading-basics/2026-03-25/
LOCATION:FL
CATEGORIES:Broward County
END:VEVENT
END:VCALENDAR