BEGIN:VCALENDAR
VERSION:2.0
PRODID:-// - ECPv6.15.20//NONSGML v1.0//EN
CALSCALE:GREGORIAN
METHOD:PUBLISH
X-ORIGINAL-URL:https://funhomeschoolflorida.com
X-WR-CALDESC:Events for 
REFRESH-INTERVAL;VALUE=DURATION:PT1H
X-Robots-Tag:noindex
X-PUBLISHED-TTL:PT1H
BEGIN:VTIMEZONE
TZID:America/New_York
BEGIN:DAYLIGHT
TZOFFSETFROM:-0500
TZOFFSETTO:-0400
TZNAME:EDT
DTSTART:20250309T070000
END:DAYLIGHT
BEGIN:STANDARD
TZOFFSETFROM:-0400
TZOFFSETTO:-0500
TZNAME:EST
DTSTART:20251102T060000
END:STANDARD
BEGIN:DAYLIGHT
TZOFFSETFROM:-0500
TZOFFSETTO:-0400
TZNAME:EDT
DTSTART:20260308T070000
END:DAYLIGHT
BEGIN:STANDARD
TZOFFSETFROM:-0400
TZOFFSETTO:-0500
TZNAME:EST
DTSTART:20261101T060000
END:STANDARD
BEGIN:DAYLIGHT
TZOFFSETFROM:-0500
TZOFFSETTO:-0400
TZNAME:EDT
DTSTART:20270314T070000
END:DAYLIGHT
BEGIN:STANDARD
TZOFFSETFROM:-0400
TZOFFSETTO:-0500
TZNAME:EST
DTSTART:20271107T060000
END:STANDARD
END:VTIMEZONE
BEGIN:VEVENT
DTSTART;TZID=America/New_York:20260219T150000
DTEND;TZID=America/New_York:20260219T170000
DTSTAMP:20260418T163024
CREATED:20260214T204430Z
LAST-MODIFIED:20260418T031816Z
UID:10002226-1771513200-1771520400@funhomeschoolflorida.com
SUMMARY:Game Time! Afterschool Teen Program
DESCRIPTION:Thursday\, February 19 \n3:00pm – 5:00pm \nGaming for Teens. \nJoin us in the computer lab or the teen room for board games\, card games\, and multiplayer gaming on the Nintendo Switch and PlayStation 4. Ages 12-18.
URL:https://funhomeschoolflorida.com/event/game-time-afterschool-teen-program/
LOCATION:Weston Branch Library\, 4205 Bonaventure Boulevard\, Weston\, FL\, 33332\, United States
CATEGORIES:Broward County
END:VEVENT
END:VCALENDAR