BEGIN:VCALENDAR
VERSION:2.0
PRODID:-// - ECPv6.15.20//NONSGML v1.0//EN
CALSCALE:GREGORIAN
METHOD:PUBLISH
X-ORIGINAL-URL:https://funhomeschoolflorida.com
X-WR-CALDESC:Events for 
REFRESH-INTERVAL;VALUE=DURATION:PT1H
X-Robots-Tag:noindex
X-PUBLISHED-TTL:PT1H
BEGIN:VTIMEZONE
TZID:America/New_York
BEGIN:DAYLIGHT
TZOFFSETFROM:-0500
TZOFFSETTO:-0400
TZNAME:EDT
DTSTART:20250309T070000
END:DAYLIGHT
BEGIN:STANDARD
TZOFFSETFROM:-0400
TZOFFSETTO:-0500
TZNAME:EST
DTSTART:20251102T060000
END:STANDARD
BEGIN:DAYLIGHT
TZOFFSETFROM:-0500
TZOFFSETTO:-0400
TZNAME:EDT
DTSTART:20260308T070000
END:DAYLIGHT
BEGIN:STANDARD
TZOFFSETFROM:-0400
TZOFFSETTO:-0500
TZNAME:EST
DTSTART:20261101T060000
END:STANDARD
BEGIN:DAYLIGHT
TZOFFSETFROM:-0500
TZOFFSETTO:-0400
TZNAME:EDT
DTSTART:20270314T070000
END:DAYLIGHT
BEGIN:STANDARD
TZOFFSETFROM:-0400
TZOFFSETTO:-0500
TZNAME:EST
DTSTART:20271107T060000
END:STANDARD
END:VTIMEZONE
BEGIN:VEVENT
DTSTART;TZID=America/New_York:20260627T160000
DTEND;TZID=America/New_York:20260627T190000
DTSTAMP:20260419T111745
CREATED:20260113T203032Z
LAST-MODIFIED:20260417T223707Z
UID:10001001-1782576000-1782586800@funhomeschoolflorida.com
SUMMARY:Little Bosses Acton Children's Business Fair
DESCRIPTION:Observe the opportunity for children to launch their very own business! \nChildren develop a brand\, create a product or service\, build a marketing strategy\, and then open for customers at our one-day marketplace. \nThis event is sponsored by Acton Academy\, and the generous support of our donors and volunteers. We all believe that principled entrepreneurs are heroes and role models for the next generation. \nWhether an entrepreneur is famous like Steve Jobs or Sara Blakely or they are one of the thousands of unsung business owners across this country\, these are the people who make sacrifices to innovate\, create jobs and serve their communities. \n  \nSign up on their website.
URL:https://funhomeschoolflorida.com/event/little-bosses-acton-childrens-business-fair/
LOCATION:West Regional Library\, 8601 West Broward Boulevard\, Pl\, FL\, 33324\, United States
CATEGORIES:Broward County
ATTACH;FMTTYPE=image/png:https://funhomeschoolflorida.com/wp-content/uploads/2026/01/original_Little_Bosses_Monthly_Events_Flyers_-_6.png
END:VEVENT
END:VCALENDAR