BEGIN:VCALENDAR
VERSION:2.0
PRODID:-// - ECPv6.15.20//NONSGML v1.0//EN
CALSCALE:GREGORIAN
METHOD:PUBLISH
X-ORIGINAL-URL:https://funhomeschoolflorida.com
X-WR-CALDESC:Events for 
REFRESH-INTERVAL;VALUE=DURATION:PT1H
X-Robots-Tag:noindex
X-PUBLISHED-TTL:PT1H
BEGIN:VTIMEZONE
TZID:America/New_York
BEGIN:DAYLIGHT
TZOFFSETFROM:-0500
TZOFFSETTO:-0400
TZNAME:EDT
DTSTART:20260308T070000
END:DAYLIGHT
BEGIN:STANDARD
TZOFFSETFROM:-0400
TZOFFSETTO:-0500
TZNAME:EST
DTSTART:20261101T060000
END:STANDARD
BEGIN:DAYLIGHT
TZOFFSETFROM:-0500
TZOFFSETTO:-0400
TZNAME:EDT
DTSTART:20270314T070000
END:DAYLIGHT
BEGIN:STANDARD
TZOFFSETFROM:-0400
TZOFFSETTO:-0500
TZNAME:EST
DTSTART:20271107T060000
END:STANDARD
BEGIN:DAYLIGHT
TZOFFSETFROM:-0500
TZOFFSETTO:-0400
TZNAME:EDT
DTSTART:20280312T070000
END:DAYLIGHT
BEGIN:STANDARD
TZOFFSETFROM:-0400
TZOFFSETTO:-0500
TZNAME:EST
DTSTART:20281105T060000
END:STANDARD
BEGIN:DAYLIGHT
TZOFFSETFROM:-0500
TZOFFSETTO:-0400
TZNAME:EDT
DTSTART:20290311T070000
END:DAYLIGHT
BEGIN:STANDARD
TZOFFSETFROM:-0400
TZOFFSETTO:-0500
TZNAME:EST
DTSTART:20291104T060000
END:STANDARD
END:VTIMEZONE
BEGIN:VEVENT
DTSTART;TZID=America/New_York:20271103T100000
DTEND;TZID=America/New_York:20271103T120000
DTSTAMP:20260421T003746
CREATED:20260301T153318Z
LAST-MODIFIED:20260418T210725Z
UID:10002467-1825236000-1825243200@funhomeschoolflorida.com
SUMMARY:[Tampa] BOUNCE ZONE Homeschool Days
DESCRIPTION:Homeschool Day is every Wednesday from 10 AM – 12 PM\, created for homeschool kids to enjoy active play\, socialize\, and have a blast together! \nEach session is just $15.99 per child (ages 12 and under). \nCome bounce\, laugh\, and make new friends during these exclusive morning sessions — only at Bounce Zone Tampa! 💜
URL:https://funhomeschoolflorida.com/event/tampa-bounce-zone-homeschool-days/2027-11-03/
LOCATION:BOUNCE ZONE\, 5208 West Linebaugh Ave\, Tampa\, FL\, 33624\, United States
CATEGORIES:Tampa Bay
ATTACH;FMTTYPE=image/png:https://funhomeschoolflorida.com/wp-content/uploads/2026/03/ToddlerTime.png
END:VEVENT
BEGIN:VEVENT
DTSTART;TZID=America/New_York:20271110T100000
DTEND;TZID=America/New_York:20271110T120000
DTSTAMP:20260421T003746
CREATED:20260301T153318Z
LAST-MODIFIED:20260418T210725Z
UID:10002468-1825840800-1825848000@funhomeschoolflorida.com
SUMMARY:[Tampa] BOUNCE ZONE Homeschool Days
DESCRIPTION:Homeschool Day is every Wednesday from 10 AM – 12 PM\, created for homeschool kids to enjoy active play\, socialize\, and have a blast together! \nEach session is just $15.99 per child (ages 12 and under). \nCome bounce\, laugh\, and make new friends during these exclusive morning sessions — only at Bounce Zone Tampa! 💜
URL:https://funhomeschoolflorida.com/event/tampa-bounce-zone-homeschool-days/2027-11-10/
LOCATION:BOUNCE ZONE\, 5208 West Linebaugh Ave\, Tampa\, FL\, 33624\, United States
CATEGORIES:Tampa Bay
ATTACH;FMTTYPE=image/png:https://funhomeschoolflorida.com/wp-content/uploads/2026/03/ToddlerTime.png
END:VEVENT
BEGIN:VEVENT
DTSTART;TZID=America/New_York:20271117T100000
DTEND;TZID=America/New_York:20271117T120000
DTSTAMP:20260421T003746
CREATED:20260301T153318Z
LAST-MODIFIED:20260418T210725Z
UID:10002469-1826445600-1826452800@funhomeschoolflorida.com
SUMMARY:[Tampa] BOUNCE ZONE Homeschool Days
DESCRIPTION:Homeschool Day is every Wednesday from 10 AM – 12 PM\, created for homeschool kids to enjoy active play\, socialize\, and have a blast together! \nEach session is just $15.99 per child (ages 12 and under). \nCome bounce\, laugh\, and make new friends during these exclusive morning sessions — only at Bounce Zone Tampa! 💜
URL:https://funhomeschoolflorida.com/event/tampa-bounce-zone-homeschool-days/2027-11-17/
LOCATION:BOUNCE ZONE\, 5208 West Linebaugh Ave\, Tampa\, FL\, 33624\, United States
CATEGORIES:Tampa Bay
ATTACH;FMTTYPE=image/png:https://funhomeschoolflorida.com/wp-content/uploads/2026/03/ToddlerTime.png
END:VEVENT
BEGIN:VEVENT
DTSTART;TZID=America/New_York:20271124T100000
DTEND;TZID=America/New_York:20271124T120000
DTSTAMP:20260421T003746
CREATED:20260301T153318Z
LAST-MODIFIED:20260418T210725Z
UID:10002470-1827050400-1827057600@funhomeschoolflorida.com
SUMMARY:[Tampa] BOUNCE ZONE Homeschool Days
DESCRIPTION:Homeschool Day is every Wednesday from 10 AM – 12 PM\, created for homeschool kids to enjoy active play\, socialize\, and have a blast together! \nEach session is just $15.99 per child (ages 12 and under). \nCome bounce\, laugh\, and make new friends during these exclusive morning sessions — only at Bounce Zone Tampa! 💜
URL:https://funhomeschoolflorida.com/event/tampa-bounce-zone-homeschool-days/2027-11-24/
LOCATION:BOUNCE ZONE\, 5208 West Linebaugh Ave\, Tampa\, FL\, 33624\, United States
CATEGORIES:Tampa Bay
ATTACH;FMTTYPE=image/png:https://funhomeschoolflorida.com/wp-content/uploads/2026/03/ToddlerTime.png
END:VEVENT
BEGIN:VEVENT
DTSTART;TZID=America/New_York:20271201T100000
DTEND;TZID=America/New_York:20271201T120000
DTSTAMP:20260421T003746
CREATED:20260301T153318Z
LAST-MODIFIED:20260418T210725Z
UID:10002471-1827655200-1827662400@funhomeschoolflorida.com
SUMMARY:[Tampa] BOUNCE ZONE Homeschool Days
DESCRIPTION:Homeschool Day is every Wednesday from 10 AM – 12 PM\, created for homeschool kids to enjoy active play\, socialize\, and have a blast together! \nEach session is just $15.99 per child (ages 12 and under). \nCome bounce\, laugh\, and make new friends during these exclusive morning sessions — only at Bounce Zone Tampa! 💜
URL:https://funhomeschoolflorida.com/event/tampa-bounce-zone-homeschool-days/2027-12-01/
LOCATION:BOUNCE ZONE\, 5208 West Linebaugh Ave\, Tampa\, FL\, 33624\, United States
CATEGORIES:Tampa Bay
ATTACH;FMTTYPE=image/png:https://funhomeschoolflorida.com/wp-content/uploads/2026/03/ToddlerTime.png
END:VEVENT
BEGIN:VEVENT
DTSTART;TZID=America/New_York:20271206T100000
DTEND;TZID=America/New_York:20271206T113000
DTSTAMP:20260421T003746
CREATED:20260228T023124Z
LAST-MODIFIED:20260418T210725Z
UID:10002286-1828087200-1828092600@funhomeschoolflorida.com
SUMMARY:[WESLEY CHAPEL] Adventhealth Center Ice Monthly Meetup
DESCRIPTION:Homeschool ice skating dates are set! \nPlease mark your calendars! \nPlease respond to FB events! Link is below. \nFirst Mondays Monthly except September and April due to holidays. \nSkate Aids are about $7 additional. \nPlease join us! Let’s get moved to the big rink this year! \nCan’t wait to see everyone every month!
URL:https://funhomeschoolflorida.com/event/wesley-chapel-adventhealth-center-ice-monthly-meetup/2027-12-06/
LOCATION:AdventHealth Ice Center\, 3173 Cypress Ridge Blvd\, Wesley Chapel\, FL\, 33544\, United States
CATEGORIES:Tampa Bay
ATTACH;FMTTYPE=image/jpeg:https://funhomeschoolflorida.com/wp-content/uploads/2026/02/Screenshot_20260226_025306_Facebook-1-scaled.jpg
END:VEVENT
BEGIN:VEVENT
DTSTART;TZID=America/New_York:20271208T100000
DTEND;TZID=America/New_York:20271208T120000
DTSTAMP:20260421T003746
CREATED:20260301T153318Z
LAST-MODIFIED:20260418T210725Z
UID:10002472-1828260000-1828267200@funhomeschoolflorida.com
SUMMARY:[Tampa] BOUNCE ZONE Homeschool Days
DESCRIPTION:Homeschool Day is every Wednesday from 10 AM – 12 PM\, created for homeschool kids to enjoy active play\, socialize\, and have a blast together! \nEach session is just $15.99 per child (ages 12 and under). \nCome bounce\, laugh\, and make new friends during these exclusive morning sessions — only at Bounce Zone Tampa! 💜
URL:https://funhomeschoolflorida.com/event/tampa-bounce-zone-homeschool-days/2027-12-08/
LOCATION:BOUNCE ZONE\, 5208 West Linebaugh Ave\, Tampa\, FL\, 33624\, United States
CATEGORIES:Tampa Bay
ATTACH;FMTTYPE=image/png:https://funhomeschoolflorida.com/wp-content/uploads/2026/03/ToddlerTime.png
END:VEVENT
BEGIN:VEVENT
DTSTART;TZID=America/New_York:20271215T100000
DTEND;TZID=America/New_York:20271215T120000
DTSTAMP:20260421T003746
CREATED:20260301T153318Z
LAST-MODIFIED:20260418T210725Z
UID:10002473-1828864800-1828872000@funhomeschoolflorida.com
SUMMARY:[Tampa] BOUNCE ZONE Homeschool Days
DESCRIPTION:Homeschool Day is every Wednesday from 10 AM – 12 PM\, created for homeschool kids to enjoy active play\, socialize\, and have a blast together! \nEach session is just $15.99 per child (ages 12 and under). \nCome bounce\, laugh\, and make new friends during these exclusive morning sessions — only at Bounce Zone Tampa! 💜
URL:https://funhomeschoolflorida.com/event/tampa-bounce-zone-homeschool-days/2027-12-15/
LOCATION:BOUNCE ZONE\, 5208 West Linebaugh Ave\, Tampa\, FL\, 33624\, United States
CATEGORIES:Tampa Bay
ATTACH;FMTTYPE=image/png:https://funhomeschoolflorida.com/wp-content/uploads/2026/03/ToddlerTime.png
END:VEVENT
BEGIN:VEVENT
DTSTART;TZID=America/New_York:20271222T100000
DTEND;TZID=America/New_York:20271222T120000
DTSTAMP:20260421T003746
CREATED:20260301T153318Z
LAST-MODIFIED:20260418T210725Z
UID:10002474-1829469600-1829476800@funhomeschoolflorida.com
SUMMARY:[Tampa] BOUNCE ZONE Homeschool Days
DESCRIPTION:Homeschool Day is every Wednesday from 10 AM – 12 PM\, created for homeschool kids to enjoy active play\, socialize\, and have a blast together! \nEach session is just $15.99 per child (ages 12 and under). \nCome bounce\, laugh\, and make new friends during these exclusive morning sessions — only at Bounce Zone Tampa! 💜
URL:https://funhomeschoolflorida.com/event/tampa-bounce-zone-homeschool-days/2027-12-22/
LOCATION:BOUNCE ZONE\, 5208 West Linebaugh Ave\, Tampa\, FL\, 33624\, United States
CATEGORIES:Tampa Bay
ATTACH;FMTTYPE=image/png:https://funhomeschoolflorida.com/wp-content/uploads/2026/03/ToddlerTime.png
END:VEVENT
BEGIN:VEVENT
DTSTART;TZID=America/New_York:20271229T100000
DTEND;TZID=America/New_York:20271229T120000
DTSTAMP:20260421T003746
CREATED:20260301T153318Z
LAST-MODIFIED:20260418T210725Z
UID:10002475-1830074400-1830081600@funhomeschoolflorida.com
SUMMARY:[Tampa] BOUNCE ZONE Homeschool Days
DESCRIPTION:Homeschool Day is every Wednesday from 10 AM – 12 PM\, created for homeschool kids to enjoy active play\, socialize\, and have a blast together! \nEach session is just $15.99 per child (ages 12 and under). \nCome bounce\, laugh\, and make new friends during these exclusive morning sessions — only at Bounce Zone Tampa! 💜
URL:https://funhomeschoolflorida.com/event/tampa-bounce-zone-homeschool-days/2027-12-29/
LOCATION:BOUNCE ZONE\, 5208 West Linebaugh Ave\, Tampa\, FL\, 33624\, United States
CATEGORIES:Tampa Bay
ATTACH;FMTTYPE=image/png:https://funhomeschoolflorida.com/wp-content/uploads/2026/03/ToddlerTime.png
END:VEVENT
BEGIN:VEVENT
DTSTART;TZID=America/New_York:20280105T100000
DTEND;TZID=America/New_York:20280105T120000
DTSTAMP:20260421T003746
CREATED:20260301T153318Z
LAST-MODIFIED:20260418T210725Z
UID:10002476-1830679200-1830686400@funhomeschoolflorida.com
SUMMARY:[Tampa] BOUNCE ZONE Homeschool Days
DESCRIPTION:Homeschool Day is every Wednesday from 10 AM – 12 PM\, created for homeschool kids to enjoy active play\, socialize\, and have a blast together! \nEach session is just $15.99 per child (ages 12 and under). \nCome bounce\, laugh\, and make new friends during these exclusive morning sessions — only at Bounce Zone Tampa! 💜
URL:https://funhomeschoolflorida.com/event/tampa-bounce-zone-homeschool-days/2028-01-05/
LOCATION:BOUNCE ZONE\, 5208 West Linebaugh Ave\, Tampa\, FL\, 33624\, United States
CATEGORIES:Tampa Bay
ATTACH;FMTTYPE=image/png:https://funhomeschoolflorida.com/wp-content/uploads/2026/03/ToddlerTime.png
END:VEVENT
BEGIN:VEVENT
DTSTART;TZID=America/New_York:20280112T100000
DTEND;TZID=America/New_York:20280112T120000
DTSTAMP:20260421T003746
CREATED:20260301T153318Z
LAST-MODIFIED:20260418T210725Z
UID:10002477-1831284000-1831291200@funhomeschoolflorida.com
SUMMARY:[Tampa] BOUNCE ZONE Homeschool Days
DESCRIPTION:Homeschool Day is every Wednesday from 10 AM – 12 PM\, created for homeschool kids to enjoy active play\, socialize\, and have a blast together! \nEach session is just $15.99 per child (ages 12 and under). \nCome bounce\, laugh\, and make new friends during these exclusive morning sessions — only at Bounce Zone Tampa! 💜
URL:https://funhomeschoolflorida.com/event/tampa-bounce-zone-homeschool-days/2028-01-12/
LOCATION:BOUNCE ZONE\, 5208 West Linebaugh Ave\, Tampa\, FL\, 33624\, United States
CATEGORIES:Tampa Bay
ATTACH;FMTTYPE=image/png:https://funhomeschoolflorida.com/wp-content/uploads/2026/03/ToddlerTime.png
END:VEVENT
BEGIN:VEVENT
DTSTART;TZID=America/New_York:20280119T100000
DTEND;TZID=America/New_York:20280119T120000
DTSTAMP:20260421T003746
CREATED:20260301T153318Z
LAST-MODIFIED:20260418T210725Z
UID:10002478-1831888800-1831896000@funhomeschoolflorida.com
SUMMARY:[Tampa] BOUNCE ZONE Homeschool Days
DESCRIPTION:Homeschool Day is every Wednesday from 10 AM – 12 PM\, created for homeschool kids to enjoy active play\, socialize\, and have a blast together! \nEach session is just $15.99 per child (ages 12 and under). \nCome bounce\, laugh\, and make new friends during these exclusive morning sessions — only at Bounce Zone Tampa! 💜
URL:https://funhomeschoolflorida.com/event/tampa-bounce-zone-homeschool-days/2028-01-19/
LOCATION:BOUNCE ZONE\, 5208 West Linebaugh Ave\, Tampa\, FL\, 33624\, United States
CATEGORIES:Tampa Bay
ATTACH;FMTTYPE=image/png:https://funhomeschoolflorida.com/wp-content/uploads/2026/03/ToddlerTime.png
END:VEVENT
BEGIN:VEVENT
DTSTART;TZID=America/New_York:20280126T100000
DTEND;TZID=America/New_York:20280126T120000
DTSTAMP:20260421T003746
CREATED:20260301T153318Z
LAST-MODIFIED:20260418T210725Z
UID:10002479-1832493600-1832500800@funhomeschoolflorida.com
SUMMARY:[Tampa] BOUNCE ZONE Homeschool Days
DESCRIPTION:Homeschool Day is every Wednesday from 10 AM – 12 PM\, created for homeschool kids to enjoy active play\, socialize\, and have a blast together! \nEach session is just $15.99 per child (ages 12 and under). \nCome bounce\, laugh\, and make new friends during these exclusive morning sessions — only at Bounce Zone Tampa! 💜
URL:https://funhomeschoolflorida.com/event/tampa-bounce-zone-homeschool-days/2028-01-26/
LOCATION:BOUNCE ZONE\, 5208 West Linebaugh Ave\, Tampa\, FL\, 33624\, United States
CATEGORIES:Tampa Bay
ATTACH;FMTTYPE=image/png:https://funhomeschoolflorida.com/wp-content/uploads/2026/03/ToddlerTime.png
END:VEVENT
BEGIN:VEVENT
DTSTART;TZID=America/New_York:20280202T100000
DTEND;TZID=America/New_York:20280202T120000
DTSTAMP:20260421T003746
CREATED:20260301T153318Z
LAST-MODIFIED:20260418T210725Z
UID:10002480-1833098400-1833105600@funhomeschoolflorida.com
SUMMARY:[Tampa] BOUNCE ZONE Homeschool Days
DESCRIPTION:Homeschool Day is every Wednesday from 10 AM – 12 PM\, created for homeschool kids to enjoy active play\, socialize\, and have a blast together! \nEach session is just $15.99 per child (ages 12 and under). \nCome bounce\, laugh\, and make new friends during these exclusive morning sessions — only at Bounce Zone Tampa! 💜
URL:https://funhomeschoolflorida.com/event/tampa-bounce-zone-homeschool-days/2028-02-02/
LOCATION:BOUNCE ZONE\, 5208 West Linebaugh Ave\, Tampa\, FL\, 33624\, United States
CATEGORIES:Tampa Bay
ATTACH;FMTTYPE=image/png:https://funhomeschoolflorida.com/wp-content/uploads/2026/03/ToddlerTime.png
END:VEVENT
BEGIN:VEVENT
DTSTART;TZID=America/New_York:20280209T100000
DTEND;TZID=America/New_York:20280209T120000
DTSTAMP:20260421T003746
CREATED:20260301T153318Z
LAST-MODIFIED:20260418T210725Z
UID:10002481-1833703200-1833710400@funhomeschoolflorida.com
SUMMARY:[Tampa] BOUNCE ZONE Homeschool Days
DESCRIPTION:Homeschool Day is every Wednesday from 10 AM – 12 PM\, created for homeschool kids to enjoy active play\, socialize\, and have a blast together! \nEach session is just $15.99 per child (ages 12 and under). \nCome bounce\, laugh\, and make new friends during these exclusive morning sessions — only at Bounce Zone Tampa! 💜
URL:https://funhomeschoolflorida.com/event/tampa-bounce-zone-homeschool-days/2028-02-09/
LOCATION:BOUNCE ZONE\, 5208 West Linebaugh Ave\, Tampa\, FL\, 33624\, United States
CATEGORIES:Tampa Bay
ATTACH;FMTTYPE=image/png:https://funhomeschoolflorida.com/wp-content/uploads/2026/03/ToddlerTime.png
END:VEVENT
BEGIN:VEVENT
DTSTART;TZID=America/New_York:20280216T100000
DTEND;TZID=America/New_York:20280216T120000
DTSTAMP:20260421T003746
CREATED:20260301T153318Z
LAST-MODIFIED:20260418T210725Z
UID:10002482-1834308000-1834315200@funhomeschoolflorida.com
SUMMARY:[Tampa] BOUNCE ZONE Homeschool Days
DESCRIPTION:Homeschool Day is every Wednesday from 10 AM – 12 PM\, created for homeschool kids to enjoy active play\, socialize\, and have a blast together! \nEach session is just $15.99 per child (ages 12 and under). \nCome bounce\, laugh\, and make new friends during these exclusive morning sessions — only at Bounce Zone Tampa! 💜
URL:https://funhomeschoolflorida.com/event/tampa-bounce-zone-homeschool-days/2028-02-16/
LOCATION:BOUNCE ZONE\, 5208 West Linebaugh Ave\, Tampa\, FL\, 33624\, United States
CATEGORIES:Tampa Bay
ATTACH;FMTTYPE=image/png:https://funhomeschoolflorida.com/wp-content/uploads/2026/03/ToddlerTime.png
END:VEVENT
BEGIN:VEVENT
DTSTART;TZID=America/New_York:20280223T100000
DTEND;TZID=America/New_York:20280223T120000
DTSTAMP:20260421T003746
CREATED:20260301T153318Z
LAST-MODIFIED:20260418T210725Z
UID:10002483-1834912800-1834920000@funhomeschoolflorida.com
SUMMARY:[Tampa] BOUNCE ZONE Homeschool Days
DESCRIPTION:Homeschool Day is every Wednesday from 10 AM – 12 PM\, created for homeschool kids to enjoy active play\, socialize\, and have a blast together! \nEach session is just $15.99 per child (ages 12 and under). \nCome bounce\, laugh\, and make new friends during these exclusive morning sessions — only at Bounce Zone Tampa! 💜
URL:https://funhomeschoolflorida.com/event/tampa-bounce-zone-homeschool-days/2028-02-23/
LOCATION:BOUNCE ZONE\, 5208 West Linebaugh Ave\, Tampa\, FL\, 33624\, United States
CATEGORIES:Tampa Bay
ATTACH;FMTTYPE=image/png:https://funhomeschoolflorida.com/wp-content/uploads/2026/03/ToddlerTime.png
END:VEVENT
BEGIN:VEVENT
DTSTART;TZID=America/New_York:20280301T100000
DTEND;TZID=America/New_York:20280301T120000
DTSTAMP:20260421T003746
CREATED:20260301T153318Z
LAST-MODIFIED:20260418T210725Z
UID:10002484-1835517600-1835524800@funhomeschoolflorida.com
SUMMARY:[Tampa] BOUNCE ZONE Homeschool Days
DESCRIPTION:Homeschool Day is every Wednesday from 10 AM – 12 PM\, created for homeschool kids to enjoy active play\, socialize\, and have a blast together! \nEach session is just $15.99 per child (ages 12 and under). \nCome bounce\, laugh\, and make new friends during these exclusive morning sessions — only at Bounce Zone Tampa! 💜
URL:https://funhomeschoolflorida.com/event/tampa-bounce-zone-homeschool-days/2028-03-01/
LOCATION:BOUNCE ZONE\, 5208 West Linebaugh Ave\, Tampa\, FL\, 33624\, United States
CATEGORIES:Tampa Bay
ATTACH;FMTTYPE=image/png:https://funhomeschoolflorida.com/wp-content/uploads/2026/03/ToddlerTime.png
END:VEVENT
BEGIN:VEVENT
DTSTART;TZID=America/New_York:20280308T100000
DTEND;TZID=America/New_York:20280308T120000
DTSTAMP:20260421T003746
CREATED:20260301T153318Z
LAST-MODIFIED:20260418T210725Z
UID:10002485-1836122400-1836129600@funhomeschoolflorida.com
SUMMARY:[Tampa] BOUNCE ZONE Homeschool Days
DESCRIPTION:Homeschool Day is every Wednesday from 10 AM – 12 PM\, created for homeschool kids to enjoy active play\, socialize\, and have a blast together! \nEach session is just $15.99 per child (ages 12 and under). \nCome bounce\, laugh\, and make new friends during these exclusive morning sessions — only at Bounce Zone Tampa! 💜
URL:https://funhomeschoolflorida.com/event/tampa-bounce-zone-homeschool-days/2028-03-08/
LOCATION:BOUNCE ZONE\, 5208 West Linebaugh Ave\, Tampa\, FL\, 33624\, United States
CATEGORIES:Tampa Bay
ATTACH;FMTTYPE=image/png:https://funhomeschoolflorida.com/wp-content/uploads/2026/03/ToddlerTime.png
END:VEVENT
BEGIN:VEVENT
DTSTART;TZID=America/New_York:20280315T100000
DTEND;TZID=America/New_York:20280315T120000
DTSTAMP:20260421T003746
CREATED:20260301T153318Z
LAST-MODIFIED:20260418T210725Z
UID:10002486-1836727200-1836734400@funhomeschoolflorida.com
SUMMARY:[Tampa] BOUNCE ZONE Homeschool Days
DESCRIPTION:Homeschool Day is every Wednesday from 10 AM – 12 PM\, created for homeschool kids to enjoy active play\, socialize\, and have a blast together! \nEach session is just $15.99 per child (ages 12 and under). \nCome bounce\, laugh\, and make new friends during these exclusive morning sessions — only at Bounce Zone Tampa! 💜
URL:https://funhomeschoolflorida.com/event/tampa-bounce-zone-homeschool-days/2028-03-15/
LOCATION:BOUNCE ZONE\, 5208 West Linebaugh Ave\, Tampa\, FL\, 33624\, United States
CATEGORIES:Tampa Bay
ATTACH;FMTTYPE=image/png:https://funhomeschoolflorida.com/wp-content/uploads/2026/03/ToddlerTime.png
END:VEVENT
BEGIN:VEVENT
DTSTART;TZID=America/New_York:20280322T100000
DTEND;TZID=America/New_York:20280322T120000
DTSTAMP:20260421T003746
CREATED:20260301T153318Z
LAST-MODIFIED:20260418T210725Z
UID:10002487-1837332000-1837339200@funhomeschoolflorida.com
SUMMARY:[Tampa] BOUNCE ZONE Homeschool Days
DESCRIPTION:Homeschool Day is every Wednesday from 10 AM – 12 PM\, created for homeschool kids to enjoy active play\, socialize\, and have a blast together! \nEach session is just $15.99 per child (ages 12 and under). \nCome bounce\, laugh\, and make new friends during these exclusive morning sessions — only at Bounce Zone Tampa! 💜
URL:https://funhomeschoolflorida.com/event/tampa-bounce-zone-homeschool-days/2028-03-22/
LOCATION:BOUNCE ZONE\, 5208 West Linebaugh Ave\, Tampa\, FL\, 33624\, United States
CATEGORIES:Tampa Bay
ATTACH;FMTTYPE=image/png:https://funhomeschoolflorida.com/wp-content/uploads/2026/03/ToddlerTime.png
END:VEVENT
BEGIN:VEVENT
DTSTART;TZID=America/New_York:20280329T100000
DTEND;TZID=America/New_York:20280329T120000
DTSTAMP:20260421T003746
CREATED:20260301T153318Z
LAST-MODIFIED:20260418T210725Z
UID:10002488-1837936800-1837944000@funhomeschoolflorida.com
SUMMARY:[Tampa] BOUNCE ZONE Homeschool Days
DESCRIPTION:Homeschool Day is every Wednesday from 10 AM – 12 PM\, created for homeschool kids to enjoy active play\, socialize\, and have a blast together! \nEach session is just $15.99 per child (ages 12 and under). \nCome bounce\, laugh\, and make new friends during these exclusive morning sessions — only at Bounce Zone Tampa! 💜
URL:https://funhomeschoolflorida.com/event/tampa-bounce-zone-homeschool-days/2028-03-29/
LOCATION:BOUNCE ZONE\, 5208 West Linebaugh Ave\, Tampa\, FL\, 33624\, United States
CATEGORIES:Tampa Bay
ATTACH;FMTTYPE=image/png:https://funhomeschoolflorida.com/wp-content/uploads/2026/03/ToddlerTime.png
END:VEVENT
BEGIN:VEVENT
DTSTART;TZID=America/New_York:20280405T100000
DTEND;TZID=America/New_York:20280405T120000
DTSTAMP:20260421T003746
CREATED:20260301T153318Z
LAST-MODIFIED:20260418T210725Z
UID:10002489-1838541600-1838548800@funhomeschoolflorida.com
SUMMARY:[Tampa] BOUNCE ZONE Homeschool Days
DESCRIPTION:Homeschool Day is every Wednesday from 10 AM – 12 PM\, created for homeschool kids to enjoy active play\, socialize\, and have a blast together! \nEach session is just $15.99 per child (ages 12 and under). \nCome bounce\, laugh\, and make new friends during these exclusive morning sessions — only at Bounce Zone Tampa! 💜
URL:https://funhomeschoolflorida.com/event/tampa-bounce-zone-homeschool-days/2028-04-05/
LOCATION:BOUNCE ZONE\, 5208 West Linebaugh Ave\, Tampa\, FL\, 33624\, United States
CATEGORIES:Tampa Bay
ATTACH;FMTTYPE=image/png:https://funhomeschoolflorida.com/wp-content/uploads/2026/03/ToddlerTime.png
END:VEVENT
BEGIN:VEVENT
DTSTART;TZID=America/New_York:20280412T100000
DTEND;TZID=America/New_York:20280412T120000
DTSTAMP:20260421T003746
CREATED:20260301T153318Z
LAST-MODIFIED:20260418T210725Z
UID:10002490-1839146400-1839153600@funhomeschoolflorida.com
SUMMARY:[Tampa] BOUNCE ZONE Homeschool Days
DESCRIPTION:Homeschool Day is every Wednesday from 10 AM – 12 PM\, created for homeschool kids to enjoy active play\, socialize\, and have a blast together! \nEach session is just $15.99 per child (ages 12 and under). \nCome bounce\, laugh\, and make new friends during these exclusive morning sessions — only at Bounce Zone Tampa! 💜
URL:https://funhomeschoolflorida.com/event/tampa-bounce-zone-homeschool-days/2028-04-12/
LOCATION:BOUNCE ZONE\, 5208 West Linebaugh Ave\, Tampa\, FL\, 33624\, United States
CATEGORIES:Tampa Bay
ATTACH;FMTTYPE=image/png:https://funhomeschoolflorida.com/wp-content/uploads/2026/03/ToddlerTime.png
END:VEVENT
BEGIN:VEVENT
DTSTART;TZID=America/New_York:20280419T100000
DTEND;TZID=America/New_York:20280419T120000
DTSTAMP:20260421T003746
CREATED:20260301T153318Z
LAST-MODIFIED:20260418T210725Z
UID:10002491-1839751200-1839758400@funhomeschoolflorida.com
SUMMARY:[Tampa] BOUNCE ZONE Homeschool Days
DESCRIPTION:Homeschool Day is every Wednesday from 10 AM – 12 PM\, created for homeschool kids to enjoy active play\, socialize\, and have a blast together! \nEach session is just $15.99 per child (ages 12 and under). \nCome bounce\, laugh\, and make new friends during these exclusive morning sessions — only at Bounce Zone Tampa! 💜
URL:https://funhomeschoolflorida.com/event/tampa-bounce-zone-homeschool-days/2028-04-19/
LOCATION:BOUNCE ZONE\, 5208 West Linebaugh Ave\, Tampa\, FL\, 33624\, United States
CATEGORIES:Tampa Bay
ATTACH;FMTTYPE=image/png:https://funhomeschoolflorida.com/wp-content/uploads/2026/03/ToddlerTime.png
END:VEVENT
BEGIN:VEVENT
DTSTART;TZID=America/New_York:20280426T100000
DTEND;TZID=America/New_York:20280426T120000
DTSTAMP:20260421T003746
CREATED:20260301T153318Z
LAST-MODIFIED:20260418T210725Z
UID:10002492-1840356000-1840363200@funhomeschoolflorida.com
SUMMARY:[Tampa] BOUNCE ZONE Homeschool Days
DESCRIPTION:Homeschool Day is every Wednesday from 10 AM – 12 PM\, created for homeschool kids to enjoy active play\, socialize\, and have a blast together! \nEach session is just $15.99 per child (ages 12 and under). \nCome bounce\, laugh\, and make new friends during these exclusive morning sessions — only at Bounce Zone Tampa! 💜
URL:https://funhomeschoolflorida.com/event/tampa-bounce-zone-homeschool-days/2028-04-26/
LOCATION:BOUNCE ZONE\, 5208 West Linebaugh Ave\, Tampa\, FL\, 33624\, United States
CATEGORIES:Tampa Bay
ATTACH;FMTTYPE=image/png:https://funhomeschoolflorida.com/wp-content/uploads/2026/03/ToddlerTime.png
END:VEVENT
BEGIN:VEVENT
DTSTART;TZID=America/New_York:20280503T100000
DTEND;TZID=America/New_York:20280503T120000
DTSTAMP:20260421T003746
CREATED:20260301T153318Z
LAST-MODIFIED:20260418T210725Z
UID:10002493-1840960800-1840968000@funhomeschoolflorida.com
SUMMARY:[Tampa] BOUNCE ZONE Homeschool Days
DESCRIPTION:Homeschool Day is every Wednesday from 10 AM – 12 PM\, created for homeschool kids to enjoy active play\, socialize\, and have a blast together! \nEach session is just $15.99 per child (ages 12 and under). \nCome bounce\, laugh\, and make new friends during these exclusive morning sessions — only at Bounce Zone Tampa! 💜
URL:https://funhomeschoolflorida.com/event/tampa-bounce-zone-homeschool-days/2028-05-03/
LOCATION:BOUNCE ZONE\, 5208 West Linebaugh Ave\, Tampa\, FL\, 33624\, United States
CATEGORIES:Tampa Bay
ATTACH;FMTTYPE=image/png:https://funhomeschoolflorida.com/wp-content/uploads/2026/03/ToddlerTime.png
END:VEVENT
BEGIN:VEVENT
DTSTART;TZID=America/New_York:20280510T100000
DTEND;TZID=America/New_York:20280510T120000
DTSTAMP:20260421T003746
CREATED:20260301T153318Z
LAST-MODIFIED:20260418T210725Z
UID:10002494-1841565600-1841572800@funhomeschoolflorida.com
SUMMARY:[Tampa] BOUNCE ZONE Homeschool Days
DESCRIPTION:Homeschool Day is every Wednesday from 10 AM – 12 PM\, created for homeschool kids to enjoy active play\, socialize\, and have a blast together! \nEach session is just $15.99 per child (ages 12 and under). \nCome bounce\, laugh\, and make new friends during these exclusive morning sessions — only at Bounce Zone Tampa! 💜
URL:https://funhomeschoolflorida.com/event/tampa-bounce-zone-homeschool-days/2028-05-10/
LOCATION:BOUNCE ZONE\, 5208 West Linebaugh Ave\, Tampa\, FL\, 33624\, United States
CATEGORIES:Tampa Bay
ATTACH;FMTTYPE=image/png:https://funhomeschoolflorida.com/wp-content/uploads/2026/03/ToddlerTime.png
END:VEVENT
BEGIN:VEVENT
DTSTART;TZID=America/New_York:20280517T100000
DTEND;TZID=America/New_York:20280517T120000
DTSTAMP:20260421T003746
CREATED:20260301T153318Z
LAST-MODIFIED:20260418T210725Z
UID:10002495-1842170400-1842177600@funhomeschoolflorida.com
SUMMARY:[Tampa] BOUNCE ZONE Homeschool Days
DESCRIPTION:Homeschool Day is every Wednesday from 10 AM – 12 PM\, created for homeschool kids to enjoy active play\, socialize\, and have a blast together! \nEach session is just $15.99 per child (ages 12 and under). \nCome bounce\, laugh\, and make new friends during these exclusive morning sessions — only at Bounce Zone Tampa! 💜
URL:https://funhomeschoolflorida.com/event/tampa-bounce-zone-homeschool-days/2028-05-17/
LOCATION:BOUNCE ZONE\, 5208 West Linebaugh Ave\, Tampa\, FL\, 33624\, United States
CATEGORIES:Tampa Bay
ATTACH;FMTTYPE=image/png:https://funhomeschoolflorida.com/wp-content/uploads/2026/03/ToddlerTime.png
END:VEVENT
END:VCALENDAR