BEGIN:VCALENDAR
VERSION:2.0
PRODID:-// - ECPv6.15.20//NONSGML v1.0//EN
CALSCALE:GREGORIAN
METHOD:PUBLISH
X-ORIGINAL-URL:https://funhomeschoolflorida.com
X-WR-CALDESC:Events for 
REFRESH-INTERVAL;VALUE=DURATION:PT1H
X-Robots-Tag:noindex
X-PUBLISHED-TTL:PT1H
BEGIN:VTIMEZONE
TZID:America/New_York
BEGIN:DAYLIGHT
TZOFFSETFROM:-0500
TZOFFSETTO:-0400
TZNAME:EDT
DTSTART:20250309T070000
END:DAYLIGHT
BEGIN:STANDARD
TZOFFSETFROM:-0400
TZOFFSETTO:-0500
TZNAME:EST
DTSTART:20251102T060000
END:STANDARD
BEGIN:DAYLIGHT
TZOFFSETFROM:-0500
TZOFFSETTO:-0400
TZNAME:EDT
DTSTART:20260308T070000
END:DAYLIGHT
BEGIN:STANDARD
TZOFFSETFROM:-0400
TZOFFSETTO:-0500
TZNAME:EST
DTSTART:20261101T060000
END:STANDARD
BEGIN:DAYLIGHT
TZOFFSETFROM:-0500
TZOFFSETTO:-0400
TZNAME:EDT
DTSTART:20270314T070000
END:DAYLIGHT
BEGIN:STANDARD
TZOFFSETFROM:-0400
TZOFFSETTO:-0500
TZNAME:EST
DTSTART:20271107T060000
END:STANDARD
END:VTIMEZONE
BEGIN:VEVENT
DTSTART;TZID=America/New_York:20260612T093000
DTEND;TZID=America/New_York:20260612T130000
DTSTAMP:20260419T083408
CREATED:20260302T021306Z
LAST-MODIFIED:20260418T033202Z
UID:10002667-1781256600-1781269200@funhomeschoolflorida.com
SUMMARY:[Dunedin] PIANO CAMP @ Creative Keys Music School
DESCRIPTION:Piano Camp \nCome join us for a fun and focused summer camp designed for piano students ages 7-12 who want to grow their skills while having a great time with music. Throughout the week\, students will: \nLearn and perform piano duets \nTry their hand at composing their own music \nPlay engaging games to reinforce note reading and rhythm \nCreate a music-themed craft \nEnjoy plenty of creative\, confidence-building piano activities. \nCamp Days and Times: \nAges 7 to 12: \nJune 8th\, 10th & 12th \nMonday\, Wednesday\, Friday \n9:30am-1:00pm \nTuition: \n$159.00 per week \nFull payment of $159 is required in advance to hold your spot. \nStudents should bring lunch and a water bottle.
URL:https://funhomeschoolflorida.com/event/dunedin-piano-camp-creative-keys-music-school/2026-06-12/
LOCATION:Creative Keys Dunedin\, 1602 Achieva Way Dunedin\, FL 34698\, Dunedin\, FL\, 34698\, United States
CATEGORIES:Tampa Bay
ATTACH;FMTTYPE=image/jpeg:https://funhomeschoolflorida.com/wp-content/uploads/2026/03/Piano-Camp-web-header.jpg
ORGANIZER;CN="Creative Keys Dunedin":MAILTO:info@creativekeysinc.com
END:VEVENT
BEGIN:VEVENT
DTSTART;TZID=America/New_York:20260612T110000
DTEND;TZID=America/New_York:20260612T130000
DTSTAMP:20260419T083408
CREATED:20260301T032149Z
LAST-MODIFIED:20260418T210926Z
UID:10002328-1781262000-1781269200@funhomeschoolflorida.com
SUMMARY:[Zephyrhills] Little Farmers STEAM Class
DESCRIPTION:Every Friday from 11am-1pm \nLittle Farmers STEAM Class uniquely combines science and art with nature and live animals\, in a working farm setting. Every weekly class includes a animal interactions\, nature and farm related activites\, a STEAM craft\, and lots of free play! Our classes are taught by a farmer with over 25 years of professional animal experience. \nClasses are geared towards elementary-age kids (although other ages are always welcome). Parents are required to remain present\, and are encouraged to participate. \nNoe Worries Ranch is now a DIRECT PROVIDER \nRegistration Information \n*Classes will be held at Noe Worries Ranch\, LLC every FRIDAY from 11:00am-1:00pm \n*All classes include educational animal interactions\, craft or activity\, and free play on the farm \n*This is NOT a drop-off class\, parents must remain on-site for the duration of the class\, and are encouraged to participate with their child. \n*Please feel free to bring drinks and snacks\, if desired \nCost $25 per class \nRegistration is required\, and greatly appreciated. Space is limited to ensure a comfortable environment\, classes many times fill up!for the Step-up Scholarship!!!
URL:https://funhomeschoolflorida.com/event/zephyrhills-little-farmers-steam-class/2026-06-12/
LOCATION:Noe Worries Ranch\, 4607 Ryals Road\,\, Zephyrhills\, FL\, United States
CATEGORIES:Tampa Bay
ATTACH;FMTTYPE=image/jpeg:https://funhomeschoolflorida.com/wp-content/uploads/2026/02/rsw_1209h_909cg_true.jpeg
END:VEVENT
END:VCALENDAR