BEGIN:VCALENDAR
VERSION:2.0
PRODID:-// - ECPv6.15.20//NONSGML v1.0//EN
CALSCALE:GREGORIAN
METHOD:PUBLISH
X-ORIGINAL-URL:https://funhomeschoolflorida.com
X-WR-CALDESC:Events for 
REFRESH-INTERVAL;VALUE=DURATION:PT1H
X-Robots-Tag:noindex
X-PUBLISHED-TTL:PT1H
BEGIN:VTIMEZONE
TZID:America/New_York
BEGIN:DAYLIGHT
TZOFFSETFROM:-0500
TZOFFSETTO:-0400
TZNAME:EDT
DTSTART:20250309T070000
END:DAYLIGHT
BEGIN:STANDARD
TZOFFSETFROM:-0400
TZOFFSETTO:-0500
TZNAME:EST
DTSTART:20251102T060000
END:STANDARD
BEGIN:DAYLIGHT
TZOFFSETFROM:-0500
TZOFFSETTO:-0400
TZNAME:EDT
DTSTART:20260308T070000
END:DAYLIGHT
BEGIN:STANDARD
TZOFFSETFROM:-0400
TZOFFSETTO:-0500
TZNAME:EST
DTSTART:20261101T060000
END:STANDARD
BEGIN:DAYLIGHT
TZOFFSETFROM:-0500
TZOFFSETTO:-0400
TZNAME:EDT
DTSTART:20270314T070000
END:DAYLIGHT
BEGIN:STANDARD
TZOFFSETFROM:-0400
TZOFFSETTO:-0500
TZNAME:EST
DTSTART:20271107T060000
END:STANDARD
END:VTIMEZONE
BEGIN:VEVENT
DTSTART;TZID=America/New_York:20260505T100000
DTEND;TZID=America/New_York:20260505T140000
DTSTAMP:20260419T215311
CREATED:20260404T133744Z
LAST-MODIFIED:20260404T134517Z
UID:10003924-1777975200-1777989600@funhomeschoolflorida.com
SUMMARY:Orlando Science Center Homeschool Field Trips
DESCRIPTION:Homeschool Field Trips \nThis Field Trip is designed exclusively for Homeschool co-ops and individual homeschool families\, offering a guided experience that includes a hands-on Lab\, interactive exhibits\, a show and time to enjoy lunch together. \n2025-2026 Homeschool Field Trips \nMay 5 – Survival STEM (tailored to Grades 1-2) \nMay 12 – Roller Coaster (tailored to Grades 3-5) \nMay 18 – Survival STEM (tailored to Grades 3-5) \nMay 21 – Superworm Science (tailored to Grades 1-2)6s)+ \nThe Homeschool Field Trip is for grades K-12\, however the Discovery Lab is built around standards in the specified grade level. Homeschool caregivers with students outside of the specified grade level are welcome to attend and adapt the Discovery Lab content to the individual level of their student. \nHomeschool Field Trips \n$19 per Student \n$19 per Adult \nEach student must be accompanied by an adult. Adults may have custodial care of up to 10 students. \nHours & Pricing \nThe homeschool programs run from 10:00am – 2:00pm \nExtended Day Fee $4.00 \nAll homeschool children must be accompanied by an adult.
URL:https://funhomeschoolflorida.com/event/orlando-science-center-homeschool-field-trips/2026-05-05/
LOCATION:The Orlando Science Center
CATEGORIES:Orlando
ATTACH;FMTTYPE=image/png:https://funhomeschoolflorida.com/wp-content/uploads/2026/04/homeschool-workshops-orlando-science-center_720-1920x720-1.png
END:VEVENT
BEGIN:VEVENT
DTSTART;TZID=America/New_York:20260512T100000
DTEND;TZID=America/New_York:20260512T140000
DTSTAMP:20260419T215311
CREATED:20260404T133744Z
LAST-MODIFIED:20260404T134517Z
UID:10003925-1778580000-1778594400@funhomeschoolflorida.com
SUMMARY:Orlando Science Center Homeschool Field Trips
DESCRIPTION:Homeschool Field Trips \nThis Field Trip is designed exclusively for Homeschool co-ops and individual homeschool families\, offering a guided experience that includes a hands-on Lab\, interactive exhibits\, a show and time to enjoy lunch together. \n2025-2026 Homeschool Field Trips \nMay 5 – Survival STEM (tailored to Grades 1-2) \nMay 12 – Roller Coaster (tailored to Grades 3-5) \nMay 18 – Survival STEM (tailored to Grades 3-5) \nMay 21 – Superworm Science (tailored to Grades 1-2)6s)+ \nThe Homeschool Field Trip is for grades K-12\, however the Discovery Lab is built around standards in the specified grade level. Homeschool caregivers with students outside of the specified grade level are welcome to attend and adapt the Discovery Lab content to the individual level of their student. \nHomeschool Field Trips \n$19 per Student \n$19 per Adult \nEach student must be accompanied by an adult. Adults may have custodial care of up to 10 students. \nHours & Pricing \nThe homeschool programs run from 10:00am – 2:00pm \nExtended Day Fee $4.00 \nAll homeschool children must be accompanied by an adult.
URL:https://funhomeschoolflorida.com/event/orlando-science-center-homeschool-field-trips/2026-05-12/
LOCATION:The Orlando Science Center
CATEGORIES:Orlando
ATTACH;FMTTYPE=image/png:https://funhomeschoolflorida.com/wp-content/uploads/2026/04/homeschool-workshops-orlando-science-center_720-1920x720-1.png
END:VEVENT
BEGIN:VEVENT
DTSTART;TZID=America/New_York:20260518T100000
DTEND;TZID=America/New_York:20260518T140000
DTSTAMP:20260419T215311
CREATED:20260404T133744Z
LAST-MODIFIED:20260404T134517Z
UID:10003926-1779098400-1779112800@funhomeschoolflorida.com
SUMMARY:Orlando Science Center Homeschool Field Trips
DESCRIPTION:Homeschool Field Trips \nThis Field Trip is designed exclusively for Homeschool co-ops and individual homeschool families\, offering a guided experience that includes a hands-on Lab\, interactive exhibits\, a show and time to enjoy lunch together. \n2025-2026 Homeschool Field Trips \nMay 5 – Survival STEM (tailored to Grades 1-2) \nMay 12 – Roller Coaster (tailored to Grades 3-5) \nMay 18 – Survival STEM (tailored to Grades 3-5) \nMay 21 – Superworm Science (tailored to Grades 1-2)6s)+ \nThe Homeschool Field Trip is for grades K-12\, however the Discovery Lab is built around standards in the specified grade level. Homeschool caregivers with students outside of the specified grade level are welcome to attend and adapt the Discovery Lab content to the individual level of their student. \nHomeschool Field Trips \n$19 per Student \n$19 per Adult \nEach student must be accompanied by an adult. Adults may have custodial care of up to 10 students. \nHours & Pricing \nThe homeschool programs run from 10:00am – 2:00pm \nExtended Day Fee $4.00 \nAll homeschool children must be accompanied by an adult.
URL:https://funhomeschoolflorida.com/event/orlando-science-center-homeschool-field-trips/2026-05-18/
LOCATION:The Orlando Science Center
CATEGORIES:Orlando
ATTACH;FMTTYPE=image/png:https://funhomeschoolflorida.com/wp-content/uploads/2026/04/homeschool-workshops-orlando-science-center_720-1920x720-1.png
END:VEVENT
BEGIN:VEVENT
DTSTART;TZID=America/New_York:20260521T100000
DTEND;TZID=America/New_York:20260521T140000
DTSTAMP:20260419T215311
CREATED:20260404T133744Z
LAST-MODIFIED:20260404T134517Z
UID:10003927-1779357600-1779372000@funhomeschoolflorida.com
SUMMARY:Orlando Science Center Homeschool Field Trips
DESCRIPTION:Homeschool Field Trips \nThis Field Trip is designed exclusively for Homeschool co-ops and individual homeschool families\, offering a guided experience that includes a hands-on Lab\, interactive exhibits\, a show and time to enjoy lunch together. \n2025-2026 Homeschool Field Trips \nMay 5 – Survival STEM (tailored to Grades 1-2) \nMay 12 – Roller Coaster (tailored to Grades 3-5) \nMay 18 – Survival STEM (tailored to Grades 3-5) \nMay 21 – Superworm Science (tailored to Grades 1-2)6s)+ \nThe Homeschool Field Trip is for grades K-12\, however the Discovery Lab is built around standards in the specified grade level. Homeschool caregivers with students outside of the specified grade level are welcome to attend and adapt the Discovery Lab content to the individual level of their student. \nHomeschool Field Trips \n$19 per Student \n$19 per Adult \nEach student must be accompanied by an adult. Adults may have custodial care of up to 10 students. \nHours & Pricing \nThe homeschool programs run from 10:00am – 2:00pm \nExtended Day Fee $4.00 \nAll homeschool children must be accompanied by an adult.
URL:https://funhomeschoolflorida.com/event/orlando-science-center-homeschool-field-trips/2026-05-21/
LOCATION:The Orlando Science Center
CATEGORIES:Orlando
ATTACH;FMTTYPE=image/png:https://funhomeschoolflorida.com/wp-content/uploads/2026/04/homeschool-workshops-orlando-science-center_720-1920x720-1.png
END:VEVENT
END:VCALENDAR