BEGIN:VCALENDAR
VERSION:2.0
PRODID:-// - ECPv6.15.20//NONSGML v1.0//EN
CALSCALE:GREGORIAN
METHOD:PUBLISH
X-ORIGINAL-URL:https://funhomeschoolflorida.com
X-WR-CALDESC:Events for 
REFRESH-INTERVAL;VALUE=DURATION:PT1H
X-Robots-Tag:noindex
X-PUBLISHED-TTL:PT1H
BEGIN:VTIMEZONE
TZID:America/New_York
BEGIN:DAYLIGHT
TZOFFSETFROM:-0500
TZOFFSETTO:-0400
TZNAME:EDT
DTSTART:20250309T070000
END:DAYLIGHT
BEGIN:STANDARD
TZOFFSETFROM:-0400
TZOFFSETTO:-0500
TZNAME:EST
DTSTART:20251102T060000
END:STANDARD
BEGIN:DAYLIGHT
TZOFFSETFROM:-0500
TZOFFSETTO:-0400
TZNAME:EDT
DTSTART:20260308T070000
END:DAYLIGHT
BEGIN:STANDARD
TZOFFSETFROM:-0400
TZOFFSETTO:-0500
TZNAME:EST
DTSTART:20261101T060000
END:STANDARD
BEGIN:DAYLIGHT
TZOFFSETFROM:-0500
TZOFFSETTO:-0400
TZNAME:EDT
DTSTART:20270314T070000
END:DAYLIGHT
BEGIN:STANDARD
TZOFFSETFROM:-0400
TZOFFSETTO:-0500
TZNAME:EST
DTSTART:20271107T060000
END:STANDARD
END:VTIMEZONE
BEGIN:VEVENT
DTSTART;TZID=America/New_York:20260428T073000
DTEND;TZID=America/New_York:20260428T153000
DTSTAMP:20260419T083254
CREATED:20260117T130733Z
LAST-MODIFIED:20260418T031816Z
UID:10001127-1777361400-1777390200@funhomeschoolflorida.com
SUMMARY:SURF SKATE SCIENCE Shark Research Expedition with NSU and Guy Harvey Foundation
DESCRIPTION:Shark Research Expedition with NSU and Guy Harvey Foundation \nDive into Real-World Science! \nJoin us for a one-of-a-kind\, hands-on shark research expedition aboard a working research vessel! In partnership with Nova Southeastern University and the Guy Harvey Foundation\, participants will team up with top marine scientists to study sharks in the wild Atlantic waters just off Port Everglades. \nYou’ll learn how to safely catch\, measure\, tag\, and collect DNA and other scientific data on sharks—helping with real conservation work happening right now. Between research sets\, you’ll even have the chance to snorkel in the open ocean! \nNSU Oceanographic Center \n8000 N Ocean Dr\, Dania Beach\, FL 33004\, USA \nSpring dates: \nFeb 20\, 2026\, 7:30 AM – 3:30 PM \nMar 16\, 2026\, 7:30 AM – 3:30 PM \nApr 28\, 2026\, 7:30 AM – 3:30 PM \nMay 12\, 2026\, 7:30 AM – 3:30 PM \n  \n📌 Ages: Open to parents and students ages 8 and up (Students under 15 must be accompanied by a paid adult participant) \nAdult/Student Self Pay $175.00 \nPlease register and pay through their website\, link below.
URL:https://funhomeschoolflorida.com/event/february-sharksurf-skate-science-research-expedition-with-nsu-and-guy-harvey-foundation/2026-04-28/
LOCATION:FL
CATEGORIES:Broward County
ATTACH;FMTTYPE=image/jpeg:https://funhomeschoolflorida.com/wp-content/uploads/2026/01/2feeae_5c1095af34de443ba8a1e1ce732c0aacmv2.jpg
END:VEVENT
BEGIN:VEVENT
DTSTART;TZID=America/New_York:20260428T100000
DTEND;TZID=America/New_York:20260428T120000
DTSTAMP:20260419T083254
CREATED:20260113T015005Z
LAST-MODIFIED:20260415T032716Z
UID:10000968-1777370400-1777377600@funhomeschoolflorida.com
SUMMARY:Project Rock: Homeschoolers
DESCRIPTION:Home Schoolers: \nCome c\,limb with a guide. During this 2 hour period of time you will be provided with all of the gear and instruction to get to the top of the routes and progress on a path of learning new skills both physically and mentally. On a 1 to 5 guide to climber ratio\, guides will take the kids through the art of climbing routes up to 60 feet tall. The cost for this class is $25 if using the projectROCK team to belay\, or $13 if parent belays for their child. \n**Parents\, want to learn to belay? Sign up with James for a lesson\, for $13 during Homeschool Tuesday \nNo pre-registration required. Pay in person @ Project Rock. \nClasses every 1st & 3rd Tuesday \nDates for homeschool classes: \nJanuary 6th and 20th \nFebruary 3rd and 17th \nMarch 3rd and 17th \nApril 7th and 21st \nMay 5th and 19th
URL:https://funhomeschoolflorida.com/event/project-rock-homeschoolers/2026-04-28/
LOCATION:Project Rock\, 3580 N Andrews Ave\, Oakland Park\, FL\, 33309\, United States
CATEGORIES:Broward County
ATTACH;FMTTYPE=image/png:https://funhomeschoolflorida.com/wp-content/uploads/2026/01/projectrock-logo.png
END:VEVENT
BEGIN:VEVENT
DTSTART;TZID=America/New_York:20260428T120000
DTEND;TZID=America/New_York:20260428T130000
DTSTAMP:20260419T083254
CREATED:20260115T110314Z
LAST-MODIFIED:20260417T223356Z
UID:10001029-1777377600-1777381200@funhomeschoolflorida.com
SUMMARY:YEA Homeschool Program- Healing Herbs
DESCRIPTION:Students will explore the world of medicinal plants by learning how to identify common healing herbs native or commonly grown in Florida. They will discover how these plants have been used for centuries to support wellness. Through hands-on activities\, they will create simple herbal products such as tinctures\, infusions\, and salves\, while learning about plant parts\, life cycles\, and the chemistry behind natural remedies. \nApr 28\, 2026\, 12:00 PM – 1:00 PM @ North Lauderdale Saraniero Branch \nPlease register and pay through their website. \n$25 [Self-Pay or Step Up Direct Bill]
URL:https://funhomeschoolflorida.com/event/yea-homeschool-program-healing-herbs/
LOCATION:North Lauderdale Saraniero Branch\, 6901 Kimberly Boulevard\, North Lauderdale\, FL\, 33068\, United States
CATEGORIES:Broward County
ATTACH;FMTTYPE=image/png:https://funhomeschoolflorida.com/wp-content/uploads/2026/01/6c1267_edee46f3c1ca4bcba2fb33d8010c9ec7mv2.png
END:VEVENT
BEGIN:VEVENT
DTSTART;TZID=America/New_York:20260428T133000
DTEND;TZID=America/New_York:20260428T143000
DTSTAMP:20260419T083254
CREATED:20260112T184708Z
LAST-MODIFIED:20260415T032716Z
UID:10000890-1777383000-1777386600@funhomeschoolflorida.com
SUMMARY:SoFlo Ninja Academy - Home School Ninja class
DESCRIPTION:Home School Ninja \n(Ages 5-12) \nOur Home School Ninja class is specifically crafted for young enthusiasts aged 5 to 12\, providing a unique opportunity for home-schooled children to dive into the world of Soflo Ninja. This daytime class is not just about tackling obstacles; it’s a comprehensive physical education program designed to enhance endurance\, stability\, agility\, and more. Through a combination of structured ninja training and free play\, children learn to navigate challenging courses\, boosting their physical fitness and problem-solving skills. The environment is supportive and motivational\, making it ideal for building confidence and social skills among peers with similar interests. Join us to give your child a fun\, dynamic way to stay active and learn invaluable life skills that go beyond physical fitness. \n*Exceptions may be made for siblings. Please inquire. \n$35.00 \nPlease sign up on their website\, the link is below.
URL:https://funhomeschoolflorida.com/event/soflo-ninja-academy-home-school-ninja-class/2026-04-28/
LOCATION:SoFlo Ninja Academy\, 1751 W Copans Rd Suite 1 & 2\, Pompano Beach\, FL\, 33064\, United States
CATEGORIES:Broward County
ATTACH;FMTTYPE=image/webp:https://funhomeschoolflorida.com/wp-content/uploads/2026/01/SOFLO_Logo.webp
END:VEVENT
BEGIN:VEVENT
DTSTART;TZID=America/New_York:20260428T133000
DTEND;TZID=America/New_York:20260428T143000
DTSTAMP:20260419T083254
CREATED:20260325T183800Z
LAST-MODIFIED:20260417T224627Z
UID:10003794-1777383000-1777386600@funhomeschoolflorida.com
SUMMARY:Kids Homeschool Art Club-ART PAPER SCISSORS ​PLANTATION
DESCRIPTION:ART PAPER SCISSORS PLANTATION \nKids Homeschool Art Club \nIn this 1 hour class for ages 5 to 10\, step into a world of creativity\, culture\, and color in our fun and engaging homeschool art classes! Our Art Around the World program takes students on a global journey\, exploring famous artists\, unique styles\, and cultural traditions from every corner of the map. Each class introduces a new country or region through a bite-sized lesson\, a featured artist or art style\, and a hands-on project that brings the learning to life. \nSeries appointment times: \nApril 7th\, 2026 at 1:30 PM \nApril 14th\, 2026 at 1:30 PM \nApril 21st\, 2026 at 1:30 PM \nApril 28th\, 2026 at 1:30 PM \nPlease register and pay through their website\, link below.
URL:https://funhomeschoolflorida.com/event/kids-homeschool-art-club-art-paper-scissors-plantation-2/2026-04-28/
LOCATION:ART PAPER SCISSORS ​PLANTATION\, 821 N Nob Hill Road\, Plantation\, FL\, 33324\, United States
CATEGORIES:Broward County
ATTACH;FMTTYPE=image/jpeg:https://funhomeschoolflorida.com/wp-content/uploads/2026/01/appointmentType-thumb-50733713.jpg
END:VEVENT
BEGIN:VEVENT
DTSTART;TZID=America/New_York:20260428T140000
DTEND;TZID=America/New_York:20260428T150000
DTSTAMP:20260419T083254
CREATED:20260112T181514Z
LAST-MODIFIED:20260415T032716Z
UID:10000255-1777384800-1777388400@funhomeschoolflorida.com
SUMMARY:Mission Parkour - Homeschool Parkour
DESCRIPTION:Homeschool Parkour class is a 30 min structured lesson by a certified coach followed by a 30 free time for the student to explore. The 1 hour class is taught and supervised so the student can learn the basic movements of Parkour. As they progress the student can take the fundamental movements and apply them to their individual needs and style gaining strength\, confidence and flexibility including their imagination. \n  \nHOMESCHOOL DROP-IN $20 \nThis homeschool class can only be taken one time. Membership required to continue. \nHOMESCHOOL $50 \nThe class includes 4 sessions for the month. Can be used one time per week. Makeup sessions must be done within the subscription month. \nHOMESCHOOL  $99 \nThe class includes 10 sessions per the month. Can be used twice per week. Makeup sessions must be done within the subscription month \n  \nClasses offered: \nMonday & Tuesday @ 2pm \nWednesday @ 1pm & 2pm \nThese classes repeat weekly unless otherwise noted. Please sign up on website\, link is below
URL:https://funhomeschoolflorida.com/event/mission-parkour-homeschool-parkour/2026-04-28/
LOCATION:Mission Parkour\, 4039 NE 10 Ave Oakland Park\, FL 33334\, Oakland Park\, FL\, 33334\, United States
CATEGORIES:Broward County
ATTACH;FMTTYPE=image/jpeg:https://funhomeschoolflorida.com/wp-content/uploads/2026/01/original.jpeg
END:VEVENT
BEGIN:VEVENT
DTSTART;TZID=America/New_York:20260428T160000
DTEND;TZID=America/New_York:20260428T170000
DTSTAMP:20260419T083254
CREATED:20260328T151618Z
LAST-MODIFIED:20260417T223502Z
UID:10003885-1777392000-1777395600@funhomeschoolflorida.com
SUMMARY:FREE Kids' Art Studio
DESCRIPTION:Tuesday\, April 28 \n4:00pm – 4:45pm \nDrop in and use your creativity to make a new piece of art! \nEvery month\, discover a new art form and experiment with different materials. This program is self-guided to encourage creative exploration. Recommended for children ages 6-12; siblings welcome with caregiver. Limited capacity; pre-registration recommended for each child attending the program.
URL:https://funhomeschoolflorida.com/event/free-kids-art-studio/
LOCATION:Nova Southeastern University Alvin Sherman Library\, Research and Information Technology Center\, 3100 Ray Ferrero Junior Boulevard\, Fort Lauderdale\, FL\, 33314\, United States
CATEGORIES:Broward County
END:VEVENT
END:VCALENDAR