BEGIN:VCALENDAR
VERSION:2.0
PRODID:-// - ECPv6.15.20//NONSGML v1.0//EN
CALSCALE:GREGORIAN
METHOD:PUBLISH
X-ORIGINAL-URL:https://funhomeschoolflorida.com
X-WR-CALDESC:Events for 
REFRESH-INTERVAL;VALUE=DURATION:PT1H
X-Robots-Tag:noindex
X-PUBLISHED-TTL:PT1H
BEGIN:VTIMEZONE
TZID:America/New_York
BEGIN:DAYLIGHT
TZOFFSETFROM:-0500
TZOFFSETTO:-0400
TZNAME:EDT
DTSTART:20250309T070000
END:DAYLIGHT
BEGIN:STANDARD
TZOFFSETFROM:-0400
TZOFFSETTO:-0500
TZNAME:EST
DTSTART:20251102T060000
END:STANDARD
BEGIN:DAYLIGHT
TZOFFSETFROM:-0500
TZOFFSETTO:-0400
TZNAME:EDT
DTSTART:20260308T070000
END:DAYLIGHT
BEGIN:STANDARD
TZOFFSETFROM:-0400
TZOFFSETTO:-0500
TZNAME:EST
DTSTART:20261101T060000
END:STANDARD
BEGIN:DAYLIGHT
TZOFFSETFROM:-0500
TZOFFSETTO:-0400
TZNAME:EDT
DTSTART:20270314T070000
END:DAYLIGHT
BEGIN:STANDARD
TZOFFSETFROM:-0400
TZOFFSETTO:-0500
TZNAME:EST
DTSTART:20271107T060000
END:STANDARD
END:VTIMEZONE
BEGIN:VEVENT
DTSTART;TZID=America/New_York:20260414T100000
DTEND;TZID=America/New_York:20260414T120000
DTSTAMP:20260419T083340
CREATED:20260113T015005Z
LAST-MODIFIED:20260415T032716Z
UID:10000967-1776160800-1776168000@funhomeschoolflorida.com
SUMMARY:Project Rock: Homeschoolers
DESCRIPTION:Home Schoolers: \nCome c\,limb with a guide. During this 2 hour period of time you will be provided with all of the gear and instruction to get to the top of the routes and progress on a path of learning new skills both physically and mentally. On a 1 to 5 guide to climber ratio\, guides will take the kids through the art of climbing routes up to 60 feet tall. The cost for this class is $25 if using the projectROCK team to belay\, or $13 if parent belays for their child. \n**Parents\, want to learn to belay? Sign up with James for a lesson\, for $13 during Homeschool Tuesday \nNo pre-registration required. Pay in person @ Project Rock. \nClasses every 1st & 3rd Tuesday \nDates for homeschool classes: \nJanuary 6th and 20th \nFebruary 3rd and 17th \nMarch 3rd and 17th \nApril 7th and 21st \nMay 5th and 19th
URL:https://funhomeschoolflorida.com/event/project-rock-homeschoolers/2026-04-14/
LOCATION:Project Rock\, 3580 N Andrews Ave\, Oakland Park\, FL\, 33309\, United States
CATEGORIES:Broward County
ATTACH;FMTTYPE=image/png:https://funhomeschoolflorida.com/wp-content/uploads/2026/01/projectrock-logo.png
END:VEVENT
BEGIN:VEVENT
DTSTART;TZID=America/New_York:20260414T100000
DTEND;TZID=America/New_York:20260414T120000
DTSTAMP:20260419T083340
CREATED:20260326T030047Z
LAST-MODIFIED:20260417T223357Z
UID:10003857-1776160800-1776168000@funhomeschoolflorida.com
SUMMARY:JellyCat Cake Decorating Class for Homeschoolers
DESCRIPTION:JellyCat Cake Decorating Class for Homeschoolers \nApril 14\, 2026 \nTime: 10:00 am – 12:00 pm \nAddress: 1765 North University Drive\, Plantation\, FL \nA weekday class designed especially for homeschooled children. Students will learn how to decorate a personal cake using buttercream and fondant decorations in a fun\, hands-on environment led by our instructors. \nOpen to children ages 5 and up. \nChildren 9 and older may participate independently. \nChildren 8 and under must have an adult supervising (no ticket required for the supervising adult). \nEach ticket is for one participant\, and every child will decorate their own personal cake. \nBecause young participants (under 9) require the full attention of their supervising adult\, we kindly ask that babies or toddlers not attend. This ensures the guardian can fully support their child and helps maintain a focused\, safe\, and enjoyable environment for all students. \nWhat Does the Workshop Include? \nAll tools\, materials\, and ingredients needed to create and decorate a personal cake. \nDuration: Approximately 3 hours. \nWho Can Enroll? \nOpen to homeschool students ages 5 and up. \nSuitable for beginners with little to no experience. \nThis class offers a creative outlet and practical skills for homeschooled students while encouraging independence\, teamwork\, and fun in a structured environment. \nIf you have a voucher please use it at checkout. \nREGISTER ONLINE AND RESERVE YOUR SEAT TODAY! Link below \nEMA Funds can be used for this class. \n$85
URL:https://funhomeschoolflorida.com/event/jellycat-cake-decorating-class-for-homeschoolers-2/
LOCATION:Mia Cake House- Plantation\, 1765 North University Drive\, Plantation\, United States
CATEGORIES:Broward County
ATTACH;FMTTYPE=image/webp:https://funhomeschoolflorida.com/wp-content/uploads/2026/03/jellycats-spring-cookies-hs-26.webp
ORGANIZER;CN="Mia Cake House- Plantation":MAILTO:info@miacakehouse.com
END:VEVENT
BEGIN:VEVENT
DTSTART;TZID=America/New_York:20260414T100000
DTEND;TZID=America/New_York:20260414T120000
DTSTAMP:20260419T083340
CREATED:20260326T101804Z
LAST-MODIFIED:20260417T223357Z
UID:10003858-1776160800-1776168000@funhomeschoolflorida.com
SUMMARY:JellyCat Cake Decorating Class for Homeschoolers
DESCRIPTION:JellyCat Cake Decorating Class for Homeschoolers \nApril 14\, 2026 \nTime: 10:00 am – 12:00 pm \nAddress: 1765 North University Drive\, Plantation\, FL \nA weekday class designed especially for homeschooled children. Students will learn how to decorate a personal cake using buttercream and fondant decorations in a fun\, hands-on environment led by our instructors. \nOpen to children ages 5 and up. \nChildren 9 and older may participate independently. \nChildren 8 and under must have an adult supervising (no ticket required for the supervising adult). \nEach ticket is for one participant\, and every child will decorate their own personal cake. \nBecause young participants (under 9) require the full attention of their supervising adult\, we kindly ask that babies or toddlers not attend. This ensures the guardian can fully support their child and helps maintain a focused\, safe\, and enjoyable environment for all students. \nWhat Does the Workshop Include? \nAll tools\, materials\, and ingredients needed to create and decorate a personal cake. \nDuration: Approximately 3 hours. \nWho Can Enroll? \nOpen to homeschool students ages 5 and up. \nSuitable for beginners with little to no experience. \nThis class offers a creative outlet and practical skills for homeschooled students while encouraging independence\, teamwork\, and fun in a structured environment. \nIf you have a voucher please use it at checkout. \nREGISTER ONLINE AND RESERVE YOUR SEAT TODAY! Link below \nEMA Funds can be used for this class. \n$85
URL:https://funhomeschoolflorida.com/event/jellycat-cake-decorating-class-for-homeschoolers-3/
LOCATION:Mia Cake House- Plantation\, 1765 North University Drive\, Plantation\, United States
CATEGORIES:Broward County
ATTACH;FMTTYPE=image/webp:https://funhomeschoolflorida.com/wp-content/uploads/2026/03/jellycats-spring-cookies-hs-26.webp
ORGANIZER;CN="Mia Cake House- Plantation":MAILTO:info@miacakehouse.com
END:VEVENT
BEGIN:VEVENT
DTSTART;TZID=America/New_York:20260414T133000
DTEND;TZID=America/New_York:20260414T143000
DTSTAMP:20260419T083340
CREATED:20260112T184708Z
LAST-MODIFIED:20260415T032716Z
UID:10000886-1776173400-1776177000@funhomeschoolflorida.com
SUMMARY:SoFlo Ninja Academy - Home School Ninja class
DESCRIPTION:Home School Ninja \n(Ages 5-12) \nOur Home School Ninja class is specifically crafted for young enthusiasts aged 5 to 12\, providing a unique opportunity for home-schooled children to dive into the world of Soflo Ninja. This daytime class is not just about tackling obstacles; it’s a comprehensive physical education program designed to enhance endurance\, stability\, agility\, and more. Through a combination of structured ninja training and free play\, children learn to navigate challenging courses\, boosting their physical fitness and problem-solving skills. The environment is supportive and motivational\, making it ideal for building confidence and social skills among peers with similar interests. Join us to give your child a fun\, dynamic way to stay active and learn invaluable life skills that go beyond physical fitness. \n*Exceptions may be made for siblings. Please inquire. \n$35.00 \nPlease sign up on their website\, the link is below.
URL:https://funhomeschoolflorida.com/event/soflo-ninja-academy-home-school-ninja-class/2026-04-14/
LOCATION:SoFlo Ninja Academy\, 1751 W Copans Rd Suite 1 & 2\, Pompano Beach\, FL\, 33064\, United States
CATEGORIES:Broward County
ATTACH;FMTTYPE=image/webp:https://funhomeschoolflorida.com/wp-content/uploads/2026/01/SOFLO_Logo.webp
END:VEVENT
BEGIN:VEVENT
DTSTART;TZID=America/New_York:20260414T133000
DTEND;TZID=America/New_York:20260414T143000
DTSTAMP:20260419T083340
CREATED:20260325T183800Z
LAST-MODIFIED:20260417T224627Z
UID:10003792-1776173400-1776177000@funhomeschoolflorida.com
SUMMARY:Kids Homeschool Art Club-ART PAPER SCISSORS ​PLANTATION
DESCRIPTION:ART PAPER SCISSORS PLANTATION \nKids Homeschool Art Club \nIn this 1 hour class for ages 5 to 10\, step into a world of creativity\, culture\, and color in our fun and engaging homeschool art classes! Our Art Around the World program takes students on a global journey\, exploring famous artists\, unique styles\, and cultural traditions from every corner of the map. Each class introduces a new country or region through a bite-sized lesson\, a featured artist or art style\, and a hands-on project that brings the learning to life. \nSeries appointment times: \nApril 7th\, 2026 at 1:30 PM \nApril 14th\, 2026 at 1:30 PM \nApril 21st\, 2026 at 1:30 PM \nApril 28th\, 2026 at 1:30 PM \nPlease register and pay through their website\, link below.
URL:https://funhomeschoolflorida.com/event/kids-homeschool-art-club-art-paper-scissors-plantation-2/2026-04-14/
LOCATION:ART PAPER SCISSORS ​PLANTATION\, 821 N Nob Hill Road\, Plantation\, FL\, 33324\, United States
CATEGORIES:Broward County
ATTACH;FMTTYPE=image/jpeg:https://funhomeschoolflorida.com/wp-content/uploads/2026/01/appointmentType-thumb-50733713.jpg
END:VEVENT
BEGIN:VEVENT
DTSTART;TZID=America/New_York:20260414T140000
DTEND;TZID=America/New_York:20260414T150000
DTSTAMP:20260419T083340
CREATED:20260112T181514Z
LAST-MODIFIED:20260415T032716Z
UID:10000249-1776175200-1776178800@funhomeschoolflorida.com
SUMMARY:Mission Parkour - Homeschool Parkour
DESCRIPTION:Homeschool Parkour class is a 30 min structured lesson by a certified coach followed by a 30 free time for the student to explore. The 1 hour class is taught and supervised so the student can learn the basic movements of Parkour. As they progress the student can take the fundamental movements and apply them to their individual needs and style gaining strength\, confidence and flexibility including their imagination. \n  \nHOMESCHOOL DROP-IN $20 \nThis homeschool class can only be taken one time. Membership required to continue. \nHOMESCHOOL $50 \nThe class includes 4 sessions for the month. Can be used one time per week. Makeup sessions must be done within the subscription month. \nHOMESCHOOL  $99 \nThe class includes 10 sessions per the month. Can be used twice per week. Makeup sessions must be done within the subscription month \n  \nClasses offered: \nMonday & Tuesday @ 2pm \nWednesday @ 1pm & 2pm \nThese classes repeat weekly unless otherwise noted. Please sign up on website\, link is below
URL:https://funhomeschoolflorida.com/event/mission-parkour-homeschool-parkour/2026-04-14/
LOCATION:Mission Parkour\, 4039 NE 10 Ave Oakland Park\, FL 33334\, Oakland Park\, FL\, 33334\, United States
CATEGORIES:Broward County
ATTACH;FMTTYPE=image/jpeg:https://funhomeschoolflorida.com/wp-content/uploads/2026/01/original.jpeg
END:VEVENT
END:VCALENDAR