BEGIN:VCALENDAR
VERSION:2.0
PRODID:-// - ECPv6.15.20//NONSGML v1.0//EN
CALSCALE:GREGORIAN
METHOD:PUBLISH
X-ORIGINAL-URL:https://funhomeschoolflorida.com
X-WR-CALDESC:Events for 
REFRESH-INTERVAL;VALUE=DURATION:PT1H
X-Robots-Tag:noindex
X-PUBLISHED-TTL:PT1H
BEGIN:VTIMEZONE
TZID:America/New_York
BEGIN:DAYLIGHT
TZOFFSETFROM:-0500
TZOFFSETTO:-0400
TZNAME:EDT
DTSTART:20250309T070000
END:DAYLIGHT
BEGIN:STANDARD
TZOFFSETFROM:-0400
TZOFFSETTO:-0500
TZNAME:EST
DTSTART:20251102T060000
END:STANDARD
BEGIN:DAYLIGHT
TZOFFSETFROM:-0500
TZOFFSETTO:-0400
TZNAME:EDT
DTSTART:20260308T070000
END:DAYLIGHT
BEGIN:STANDARD
TZOFFSETFROM:-0400
TZOFFSETTO:-0500
TZNAME:EST
DTSTART:20261101T060000
END:STANDARD
BEGIN:DAYLIGHT
TZOFFSETFROM:-0500
TZOFFSETTO:-0400
TZNAME:EDT
DTSTART:20270314T070000
END:DAYLIGHT
BEGIN:STANDARD
TZOFFSETFROM:-0400
TZOFFSETTO:-0500
TZNAME:EST
DTSTART:20271107T060000
END:STANDARD
END:VTIMEZONE
BEGIN:VEVENT
DTSTART;TZID=America/New_York:20260403T100000
DTEND;TZID=America/New_York:20260403T120000
DTSTAMP:20260419T083339
CREATED:20260326T023318Z
LAST-MODIFIED:20260417T224627Z
UID:10003853-1775210400-1775217600@funhomeschoolflorida.com
SUMMARY:Cinnamon Rolls Baking Class for Kids @ Mia Cake House
DESCRIPTION:Cinnamon Rolls Baking Class for Kids \nApril 3\, 2026 \nTime 10:00 am – 12:00 pm \nPlantation Location: \n1765 North University Drive\, Plantation\, FL\, USA \nLearn how to make soft\, fluffy cinnamon rolls from scratch in this hands-on baking class. \nWe will cover dough preparation\, shaping\, and baking techniques for perfectly swirled rollsFinish by topping your warm rolls with a rich glaze and take home a batch you made yourself. \nThis class is fully interactive and focused on skill-building. Students will mix\, shape\, and cook their own cinnamon roll. \nPerfect for homeschoolers who love to cook\, create\, and learn through hands-on experiences in the kitchen. \nWhat does the workshop include? \nThe workshop includes all the tools\, materials\, and ingredients required to prepare the pasta and souce. \nHow long does it take? \nThe workshop lasts approximately 2 hours.. \nWho can enroll in this class? \nThis class is for homeschooled children (or in that age range) \nChildren 5-8 must be accompanied by an adult. \nREGISTER ONLINE AND RESERVE YOUR SEAT TODAY!
URL:https://funhomeschoolflorida.com/event/cinnamon-rolls-baking-class-for-kids-mia-cake-house/
LOCATION:Mia Cake House- Plantation\, 1765 North University Drive\, Plantation\, United States
CATEGORIES:Broward County
ATTACH;FMTTYPE=image/webp:https://funhomeschoolflorida.com/wp-content/uploads/2026/03/ciannamon-roll-kids-26.webp
ORGANIZER;CN="Mia Cake House- Plantation":MAILTO:info@miacakehouse.com
END:VEVENT
BEGIN:VEVENT
DTSTART;TZID=America/New_York:20260403T103000
DTEND;TZID=America/New_York:20260403T113000
DTSTAMP:20260419T083339
CREATED:20260327T172247Z
LAST-MODIFIED:20260417T225414Z
UID:10003869-1775212200-1775215800@funhomeschoolflorida.com
SUMMARY:FREE Mirabel’s Great Discovery By Catalina Arenas Ages 4 & up
DESCRIPTION:Mirabel’s Great Discovery By Catalina Arenas \nAges 4 & up \nYoung At Art (now Broward County Library Branch) \nFriday\, April 03 \n10:30am – 11:30am \nMirabel’s Great Discovery is a lively theatrical performance for young audiences that blends puppetry\, music\, and juggling. \nMirabel’s Great Discovery is a lively theatrical performance for young audiences that blends puppetry\, music\, and juggling\, to celebrate language\, identity\, and communication. Inspired by the world of Encanto\, the story follows Mirabel\, a curious and determined girl who is searching for her special power in a family where everyone else seems to have one. This event is presented by Catalina Arenas of Creative Stage Productions. \nRegister through their website\, link below.
URL:https://funhomeschoolflorida.com/event/mirabels-great-discovery-by-catalina-arenas-ages-4-up/
LOCATION:Young At Art (now Broward County Library Branch)\, 751 Southwest 121st Avenue\, Deerfield Beach\, FL\, 33325\, United States
CATEGORIES:Broward County
END:VEVENT
END:VCALENDAR