BEGIN:VCALENDAR
VERSION:2.0
PRODID:-// - ECPv6.15.20//NONSGML v1.0//EN
CALSCALE:GREGORIAN
METHOD:PUBLISH
X-ORIGINAL-URL:https://funhomeschoolflorida.com
X-WR-CALDESC:Events for 
REFRESH-INTERVAL;VALUE=DURATION:PT1H
X-Robots-Tag:noindex
X-PUBLISHED-TTL:PT1H
BEGIN:VTIMEZONE
TZID:America/New_York
BEGIN:DAYLIGHT
TZOFFSETFROM:-0500
TZOFFSETTO:-0400
TZNAME:EDT
DTSTART:20250309T070000
END:DAYLIGHT
BEGIN:STANDARD
TZOFFSETFROM:-0400
TZOFFSETTO:-0500
TZNAME:EST
DTSTART:20251102T060000
END:STANDARD
BEGIN:DAYLIGHT
TZOFFSETFROM:-0500
TZOFFSETTO:-0400
TZNAME:EDT
DTSTART:20260308T070000
END:DAYLIGHT
BEGIN:STANDARD
TZOFFSETFROM:-0400
TZOFFSETTO:-0500
TZNAME:EST
DTSTART:20261101T060000
END:STANDARD
BEGIN:DAYLIGHT
TZOFFSETFROM:-0500
TZOFFSETTO:-0400
TZNAME:EDT
DTSTART:20270314T070000
END:DAYLIGHT
BEGIN:STANDARD
TZOFFSETFROM:-0400
TZOFFSETTO:-0500
TZNAME:EST
DTSTART:20271107T060000
END:STANDARD
END:VTIMEZONE
BEGIN:VEVENT
DTSTART;TZID=America/New_York:20260331T100000
DTEND;TZID=America/New_York:20260331T114500
DTSTAMP:20260419T083404
CREATED:20260221T174008Z
LAST-MODIFIED:20260417T230203Z
UID:10002254-1774951200-1774957500@funhomeschoolflorida.com
SUMMARY:Sawgrass Nature Center Field Trip: Meet Animal Friends! Sponsored by Outschool
DESCRIPTION:Join us on March 31st at 10:00 AM for a field trip and presentation at the Sawgrass Nature Center in Coral Springs! \n10:00am-11:00am: Meet Your Animal Friends program \n11:00-11:45am: Tour of the facility \nThe Meet Your Animal Friends program involves 6 live animals that students can learn about. During this program\, the students will get to gently touch most of the animals that are brought while also learning about the habitats and adaptations specific to each animal. After the presentation\, students will get to take a tour of the facility. \n** \nAdmission for the first 20 kids and chaperones will be FREE courtesy of Outschool! \nIf you would like to attend but aren’t one of the first 20\, admission rates are $9.50/student and $5/chaperone. This event is first come\, first serve so it’s recommended to arrive a little early. \nLindsay will be present before and after the event to answer any questions about Outschool\, using FES/PEP funding with Outschool and with some coupons and raffles for attendees! \nHope to see you there!
URL:https://funhomeschoolflorida.com/event/sawgrass-nature-center-field-trip-meet-animal-friends-sponsored-by-outschool/
LOCATION:Sawgrass Nature Center\, 3000 Sportsplex Dr\, Coral Springs\, FL\, 33065\, United States
CATEGORIES:Broward County
ATTACH;FMTTYPE=image/jpeg:https://funhomeschoolflorida.com/wp-content/uploads/2026/02/FB_IMG_1771694675894.jpg
END:VEVENT
BEGIN:VEVENT
DTSTART;TZID=America/New_York:20260331T100000
DTEND;TZID=America/New_York:20260331T120000
DTSTAMP:20260419T083404
CREATED:20260113T015005Z
LAST-MODIFIED:20260415T032716Z
UID:10000966-1774951200-1774958400@funhomeschoolflorida.com
SUMMARY:Project Rock: Homeschoolers
DESCRIPTION:Home Schoolers: \nCome c\,limb with a guide. During this 2 hour period of time you will be provided with all of the gear and instruction to get to the top of the routes and progress on a path of learning new skills both physically and mentally. On a 1 to 5 guide to climber ratio\, guides will take the kids through the art of climbing routes up to 60 feet tall. The cost for this class is $25 if using the projectROCK team to belay\, or $13 if parent belays for their child. \n**Parents\, want to learn to belay? Sign up with James for a lesson\, for $13 during Homeschool Tuesday \nNo pre-registration required. Pay in person @ Project Rock. \nClasses every 1st & 3rd Tuesday \nDates for homeschool classes: \nJanuary 6th and 20th \nFebruary 3rd and 17th \nMarch 3rd and 17th \nApril 7th and 21st \nMay 5th and 19th
URL:https://funhomeschoolflorida.com/event/project-rock-homeschoolers/2026-03-31/
LOCATION:Project Rock\, 3580 N Andrews Ave\, Oakland Park\, FL\, 33309\, United States
CATEGORIES:Broward County
ATTACH;FMTTYPE=image/png:https://funhomeschoolflorida.com/wp-content/uploads/2026/01/projectrock-logo.png
END:VEVENT
BEGIN:VEVENT
DTSTART;TZID=America/New_York:20260331T133000
DTEND;TZID=America/New_York:20260331T143000
DTSTAMP:20260419T083404
CREATED:20260112T184708Z
LAST-MODIFIED:20260415T032716Z
UID:10000882-1774963800-1774967400@funhomeschoolflorida.com
SUMMARY:SoFlo Ninja Academy - Home School Ninja class
DESCRIPTION:Home School Ninja \n(Ages 5-12) \nOur Home School Ninja class is specifically crafted for young enthusiasts aged 5 to 12\, providing a unique opportunity for home-schooled children to dive into the world of Soflo Ninja. This daytime class is not just about tackling obstacles; it’s a comprehensive physical education program designed to enhance endurance\, stability\, agility\, and more. Through a combination of structured ninja training and free play\, children learn to navigate challenging courses\, boosting their physical fitness and problem-solving skills. The environment is supportive and motivational\, making it ideal for building confidence and social skills among peers with similar interests. Join us to give your child a fun\, dynamic way to stay active and learn invaluable life skills that go beyond physical fitness. \n*Exceptions may be made for siblings. Please inquire. \n$35.00 \nPlease sign up on their website\, the link is below.
URL:https://funhomeschoolflorida.com/event/soflo-ninja-academy-home-school-ninja-class/2026-03-31/
LOCATION:SoFlo Ninja Academy\, 1751 W Copans Rd Suite 1 & 2\, Pompano Beach\, FL\, 33064\, United States
CATEGORIES:Broward County
ATTACH;FMTTYPE=image/webp:https://funhomeschoolflorida.com/wp-content/uploads/2026/01/SOFLO_Logo.webp
END:VEVENT
BEGIN:VEVENT
DTSTART;TZID=America/New_York:20260331T140000
DTEND;TZID=America/New_York:20260331T150000
DTSTAMP:20260419T083404
CREATED:20260112T181514Z
LAST-MODIFIED:20260415T032716Z
UID:10000243-1774965600-1774969200@funhomeschoolflorida.com
SUMMARY:Mission Parkour - Homeschool Parkour
DESCRIPTION:Homeschool Parkour class is a 30 min structured lesson by a certified coach followed by a 30 free time for the student to explore. The 1 hour class is taught and supervised so the student can learn the basic movements of Parkour. As they progress the student can take the fundamental movements and apply them to their individual needs and style gaining strength\, confidence and flexibility including their imagination. \n  \nHOMESCHOOL DROP-IN $20 \nThis homeschool class can only be taken one time. Membership required to continue. \nHOMESCHOOL $50 \nThe class includes 4 sessions for the month. Can be used one time per week. Makeup sessions must be done within the subscription month. \nHOMESCHOOL  $99 \nThe class includes 10 sessions per the month. Can be used twice per week. Makeup sessions must be done within the subscription month \n  \nClasses offered: \nMonday & Tuesday @ 2pm \nWednesday @ 1pm & 2pm \nThese classes repeat weekly unless otherwise noted. Please sign up on website\, link is below
URL:https://funhomeschoolflorida.com/event/mission-parkour-homeschool-parkour/2026-03-31/
LOCATION:Mission Parkour\, 4039 NE 10 Ave Oakland Park\, FL 33334\, Oakland Park\, FL\, 33334\, United States
CATEGORIES:Broward County
ATTACH;FMTTYPE=image/jpeg:https://funhomeschoolflorida.com/wp-content/uploads/2026/01/original.jpeg
END:VEVENT
BEGIN:VEVENT
DTSTART;TZID=America/New_York:20260331T160000
DTEND;TZID=America/New_York:20260331T170000
DTSTAMP:20260419T083404
CREATED:20260221T205856Z
LAST-MODIFIED:20260417T225414Z
UID:10002256-1774972800-1774976400@funhomeschoolflorida.com
SUMMARY:Beat the Buzzer! A Sports-Themed Escape Room
DESCRIPTION:Free \nTuesday\, March 31 \n4:00pm – 5:00pm \nWork collaboratively to decode a sequence of sports-themed puzzles and achieve victory before the buzzer sounds! \nhis program is recommended for ages 7 and up. Two games will run concurrently\, and participants may be grouped together with a maximum of 10 players per game. \nPlease note: Space is limited\, and pre-registration is required for each participant attending this program
URL:https://funhomeschoolflorida.com/event/beat-the-buzzer-a-sports-themed-escape-room/
LOCATION:Nova Southeastern University Alvin Sherman Library\, Research and Information Technology Center\, 3100 Ray Ferrero Junior Boulevard\, Fort Lauderdale\, FL\, 33314\, United States
CATEGORIES:Broward County
ATTACH;FMTTYPE=image/png:https://funhomeschoolflorida.com/wp-content/uploads/2026/02/NV_Beat-the-Buzzer-Escape-Room.png
END:VEVENT
END:VCALENDAR