BEGIN:VCALENDAR
VERSION:2.0
PRODID:-// - ECPv6.15.20//NONSGML v1.0//EN
CALSCALE:GREGORIAN
METHOD:PUBLISH
X-ORIGINAL-URL:https://funhomeschoolflorida.com
X-WR-CALDESC:Events for 
REFRESH-INTERVAL;VALUE=DURATION:PT1H
X-Robots-Tag:noindex
X-PUBLISHED-TTL:PT1H
BEGIN:VTIMEZONE
TZID:America/New_York
BEGIN:DAYLIGHT
TZOFFSETFROM:-0500
TZOFFSETTO:-0400
TZNAME:EDT
DTSTART:20250309T070000
END:DAYLIGHT
BEGIN:STANDARD
TZOFFSETFROM:-0400
TZOFFSETTO:-0500
TZNAME:EST
DTSTART:20251102T060000
END:STANDARD
BEGIN:DAYLIGHT
TZOFFSETFROM:-0500
TZOFFSETTO:-0400
TZNAME:EDT
DTSTART:20260308T070000
END:DAYLIGHT
BEGIN:STANDARD
TZOFFSETFROM:-0400
TZOFFSETTO:-0500
TZNAME:EST
DTSTART:20261101T060000
END:STANDARD
BEGIN:DAYLIGHT
TZOFFSETFROM:-0500
TZOFFSETTO:-0400
TZNAME:EDT
DTSTART:20270314T070000
END:DAYLIGHT
BEGIN:STANDARD
TZOFFSETFROM:-0400
TZOFFSETTO:-0500
TZNAME:EST
DTSTART:20271107T060000
END:STANDARD
END:VTIMEZONE
BEGIN:VEVENT
DTSTART;TZID=America/New_York:20260327T093000
DTEND;TZID=America/New_York:20260327T110000
DTSTAMP:20260419T102521
CREATED:20260225T111732Z
LAST-MODIFIED:20260417T230203Z
UID:10002259-1774603800-1774609200@funhomeschoolflorida.com
SUMMARY:Learning Journey Homeschool Collective Field Trip: She Persisted: The Musical
DESCRIPTION:Learning Journey Homeschool Collective Field Trip: She Persisted: The Musical \n*Must join FB group to gain access to activities and events.* \nTheir link to join and pay is below. \nThis group host many exciting events throughout the month. It’s a great way for kids to meet up with other homeschoolers and plugin to the homeschool community. \nWe’re celebrating Women’s History Month with a theater performance of She Persisted: The Musical at The Broward Center for the Performing Arts!🎭 \nInspired by the bestselling book “She Persisted” by Chelsea Clinton\, She Persisted: The Musical is a trailblazing production that celebrates the strength and resilience of women who have shaped history. Fourth-grader Naomi’s field trip to a Women’s History Museum turns into a time travel adventure where she encounters inspirational women who have overcome barriers and made waves throughout U.S. history. From activists to athletes\, artists and more\, the musical features the stories of female groundbreakers such as Harriet Tubman\, Virginia Apgar\, Ruby Bridges\, Sally Ride\, Florence Griffith Joyner and Sonia Sotomayor. With humor\, heart and a powerful message\, this show encourages kids to embrace their own inner strength and keep pushing forward—no matter the obstacles. \nThis is a homeschool group fieldtrip\, please find more information on their Facebook events page below.
URL:https://funhomeschoolflorida.com/event/learning-journey-homeschool-collective-field-trip-she-persisted-the-musical/
LOCATION:Amaturo Theater at The Broward Center for the Performing Arts\, 201 SW 5th Avenue\, Fort Lauderdale\, FL\, 33312\, United States
CATEGORIES:Broward County
ATTACH;FMTTYPE=image/jpeg:https://funhomeschoolflorida.com/wp-content/uploads/2026/02/1000005059.jpg
ORGANIZER;CN="Learning Journeys Homeschool Collective":MAILTO:LearningJourneysHC@gmail.com
END:VEVENT
BEGIN:VEVENT
DTSTART;TZID=America/New_York:20260327T100000
DTEND;TZID=America/New_York:20260327T110000
DTSTAMP:20260419T102521
CREATED:20260113T070337Z
LAST-MODIFIED:20260225T115600Z
UID:10002263-1774605600-1774609200@funhomeschoolflorida.com
SUMMARY:She Persisted [ A MUSICAL]: Smart Stage Matinee Series For Students
DESCRIPTION:Recommended grade levels: 3-6 \nLap Tickets are available for purchase for children 12 months and under\, only available at the Broward Center’s AutoNation Box Office. Everyone in the theater must have a ticket. \nStudy guides for all of the Smart Stage Matinees are available for download. HERE \nShowtimes: \nThu\, Mar 26\, 2026 – 10:00 AM \nFri\, Mar 27\, 2026 – 10:00 AM \n$10.01 per ticket\, \nMust pay through their website\, link below \nInspired by the bestselling book “She Persisted” by Chelsea Clinton\, She Persisted\, The Musical is a trailblazing production that celebrates the strength and resilience of women who have shaped history. Fourth-grader Naomi’s field trip to a Women’s History Museum turns into a time travel adventure where she encounters inspirational women who have overcome barriers and made waves throughout U.S. history. From activists to athletes\, artists and more\, the musical features the stories of female groundbreakers such as Harriet Tubman\, Virginia Apgar\, Ruby Bridges\, Sally Ride\, Florence Griffith Joyner and Sonia Sotomayor. With humor\, heart and a powerful message\, this show encourages kids to embrace their own inner strength and keep pushing forward—no matter the obstacles. \nThis event requires a ticket\, please purchase on their website. Link is below. \nOther shows: https://www.browardcenter.org/smart-stage-matinees
URL:https://funhomeschoolflorida.com/event/she-persisted-smart-stage-matinee-series/2026-03-27/
LOCATION:Amaturo Theater at The Broward Center for the Performing Arts\, 201 SW 5th Avenue\, Fort Lauderdale\, FL\, 33312\, United States
CATEGORIES:Broward County
ATTACH;FMTTYPE=image/jpeg:https://funhomeschoolflorida.com/wp-content/uploads/2026/01/ShePersisted-EDP-955-x-500-9964ce5fed.jpg
END:VEVENT
BEGIN:VEVENT
DTSTART;TZID=America/New_York:20260327T100000
DTEND;TZID=America/New_York:20260327T120000
DTSTAMP:20260419T102521
CREATED:20260326T023711Z
LAST-MODIFIED:20260417T224627Z
UID:10003854-1774605600-1774612800@funhomeschoolflorida.com
SUMMARY:Cinnamon Rolls Baking Class for Kids @ Mia Cake House
DESCRIPTION:Cinnamon Rolls Baking Class for Kids \nMarch 27\, 2026 \nTime 10:00 am – 12:00 pm \nDEERFIELD BEACH LOCATION \nLearn how to make soft\, fluffy cinnamon rolls from scratch in this hands-on baking class. \nWe will cover dough preparation\, shaping\, and baking techniques for perfectly swirled rollsFinish by topping your warm rolls with a rich glaze and take home a batch you made yourself. \nThis class is fully interactive and focused on skill-building. Students will mix\, shape\, and cook their own cinnamon roll. \nPerfect for homeschoolers who love to cook\, create\, and learn through hands-on experiences in the kitchen. \nWhat does the workshop include? \nThe workshop includes all the tools\, materials\, and ingredients required to prepare the pasta and souce. \nHow long does it take? \nThe workshop lasts approximately 2 hours.. \nWho can enroll in this class? \nThis class is for homeschooled children (or in that age range) \nChildren 5-8 must be accompanied by an adult. \nREGISTER ONLINE AND RESERVE YOUR SEAT TODAY!
URL:https://funhomeschoolflorida.com/event/cinnamon-rolls-baking-class-for-kids-mia-cake-house-2/
LOCATION:Mia Cake House – DEERFIELD\, 3788 W. Hillsboro Blvd\, Deerfield Beach\, FL\, 33442\, United States
CATEGORIES:Broward County
ATTACH;FMTTYPE=image/webp:https://funhomeschoolflorida.com/wp-content/uploads/2026/03/ciannamon-roll-kids-26.webp
ORGANIZER;CN="Mia Cake House":MAILTO:info@miacakehouse.com
END:VEVENT
BEGIN:VEVENT
DTSTART;TZID=America/New_York:20260327T103000
DTEND;TZID=America/New_York:20260327T130000
DTSTAMP:20260419T102521
CREATED:20260116T085150Z
LAST-MODIFIED:20260417T034540Z
UID:10001050-1774607400-1774616400@funhomeschoolflorida.com
SUMMARY:Flourish Atelier- A Nature Inspired Makerspace W/ Project Flourish
DESCRIPTION:4 – 12 yrs \n10:30am – 1:00pm \nWhat’s an Atelier you ask? Just a fancy way to say “workshop” or “design studio” in French\, and ours celebrates the most creative / energetic of spaces… Nature! \nEach month we gather to explore different wonders of the natural world and turn our discoveries into beautiful artistic expressions. \nFlourish Atelier offers playful pursuits for nature-based learning through: \n1) Edible Earth- plant-forward cooking provocations \n2) Handwork- a seasonal craft\, honoring our nature theme \n3) Natural Apothecary- plant powered intentional practices of self-care \nNotes \nPlease bring a water bottle and dress for play. \nFood labs feature Vegetarian friendly recipes \n  \nFri\, Jan 20\, 2025 – May 15\, 2026 \nWhat you’ll learn \nJanuary – Colors of Nature \nFebruary – Water Ways \nMarch – Songbird Studios \nApril – Flower Powered \nMay – Bee The Maker \nProject Flourish Community is a direct billing participant with Step Up for Students. Payments can be allocated directly through your ESA. \n**Registration closes 2 days prior to class.Please register through their website\, link below. \nDrop-In $38/day [ Self-Pay or Step Up Direct Bill]
URL:https://funhomeschoolflorida.com/event/flourish-atelier-a-nature-inspired-makerspace-w-project-flourish/2026-03-27/
LOCATION:Deerfield Beach Historical Society\, 84 SE 4th Ave\, Deerfield beach\, FL\, 33441\, United States
CATEGORIES:Broward County
ATTACH;FMTTYPE=image/webp:https://funhomeschoolflorida.com/wp-content/uploads/2026/01/projectflourish_final-02.webp
ORGANIZER;CN="Project Flourish":MAILTO:alicia@projectflourishcommunity.com
END:VEVENT
END:VCALENDAR