BEGIN:VCALENDAR
VERSION:2.0
PRODID:-// - ECPv6.15.20//NONSGML v1.0//EN
CALSCALE:GREGORIAN
METHOD:PUBLISH
X-ORIGINAL-URL:https://funhomeschoolflorida.com
X-WR-CALDESC:Events for 
REFRESH-INTERVAL;VALUE=DURATION:PT1H
X-Robots-Tag:noindex
X-PUBLISHED-TTL:PT1H
BEGIN:VTIMEZONE
TZID:America/New_York
BEGIN:DAYLIGHT
TZOFFSETFROM:-0500
TZOFFSETTO:-0400
TZNAME:EDT
DTSTART:20250309T070000
END:DAYLIGHT
BEGIN:STANDARD
TZOFFSETFROM:-0400
TZOFFSETTO:-0500
TZNAME:EST
DTSTART:20251102T060000
END:STANDARD
BEGIN:DAYLIGHT
TZOFFSETFROM:-0500
TZOFFSETTO:-0400
TZNAME:EDT
DTSTART:20260308T070000
END:DAYLIGHT
BEGIN:STANDARD
TZOFFSETFROM:-0400
TZOFFSETTO:-0500
TZNAME:EST
DTSTART:20261101T060000
END:STANDARD
BEGIN:DAYLIGHT
TZOFFSETFROM:-0500
TZOFFSETTO:-0400
TZNAME:EDT
DTSTART:20270314T070000
END:DAYLIGHT
BEGIN:STANDARD
TZOFFSETFROM:-0400
TZOFFSETTO:-0500
TZNAME:EST
DTSTART:20271107T060000
END:STANDARD
END:VTIMEZONE
BEGIN:VEVENT
DTSTART;TZID=America/New_York:20260324T103000
DTEND;TZID=America/New_York:20260324T130000
DTSTAMP:20260419T102313
CREATED:20260115T114629Z
LAST-MODIFIED:20260417T034540Z
UID:10001042-1774348200-1774357200@funhomeschoolflorida.com
SUMMARY:Culinary Casita Living Arts Class W/ Project Flourish
DESCRIPTION:For ages 7 – 14 yrs \n10:30am – 1:00pm \nJoin Team Flourish for a delicious deep dive into plant-forward eating and living! We’ll explore home economics and food literacy principles through a lens of fresh local ingredients\, food stories\, life skills and everyday cooking techniques\, while creating recipes that truly celebrate the season. \nProject Flourish Community is a direct billing participant with Step Up for Students. Payments can be allocated directly through your ESA. \n**Registration closes 2 days prior to class \nNotes \nFood labs feature Vegetarian friendly recipes \nWhat you’ll learn: \nTues. 1/20 – Spice Market \nTues. 2/3 – Cocoa Confections \nTues. 2/17 – Liberation’s Table\, Black History Culinary Showcase \nTues. 3/10 – Citrus Celebrations \nTues. 3/24 – Taste The Rainbow \nTues. 4/7 – Garden-To-Table Grazing \nTues. 4/21 – Edible Earth\, zero waste cooking \nTues. 5/5 – Blooms & Brew Tea Party \nTues. 5/ 19 – Farmers Market Finds \nPlease register and pay through their website. \nDrop-In $42/day [Self-Pay or Step Up Direct Bill] \nSibling Discounts: Second Child (10%)\, Third Child (10%)\, Any Additional Child (10%)
URL:https://funhomeschoolflorida.com/event/home-economics-culinary-casita-living-arts-class-w-project-flourish/2026-03-24/
LOCATION:Deerfield Beach Historical Society\, 84 SE 4th Ave\, Deerfield beach\, FL\, 33441\, United States
CATEGORIES:Broward County
ATTACH;FMTTYPE=image/webp:https://funhomeschoolflorida.com/wp-content/uploads/2026/01/FINALPFSchoolhouseheader.webp
ORGANIZER;CN="Project Flourish":MAILTO:alicia@projectflourishcommunity.com
END:VEVENT
BEGIN:VEVENT
DTSTART;TZID=America/New_York:20260324T130000
DTEND;TZID=America/New_York:20260324T140000
DTSTAMP:20260419T102313
CREATED:20260115T105748Z
LAST-MODIFIED:20260221T232323Z
UID:10001028-1774357200-1774360800@funhomeschoolflorida.com
SUMMARY:YEA Homeschool Program- Cellular Celebrations
DESCRIPTION:Students will explore the structure and function of plant and animal cells through observation\, comparison\, and modeling activities. \nBy the end of the lesson\, students will be able to: \n1. Identify basic cell parts (organelles) and their functions. \n2. Compare plant and animal cell structures using observations and drawings. \n3. Model how a cell functions by comparing it to parts of a home. \n4. Explain how structure relates to function within both plant and animal cells. \n5. Demonstrate understanding through matching\, drawing\, and storytelling \nMar 24\, 2026\, 1:00 PM – 2:00 PM @ North Lauderdale Saraniero Branch \nPlease register and pay through their website. \n$25 [Self-Pay or Step Up Direct Bill]
URL:https://funhomeschoolflorida.com/event/yea-homeschool-program-cellular-celebrations/
LOCATION:North Lauderdale Saraniero Branch\, 6901 Kimberly Boulevard\, North Lauderdale\, FL\, 33068\, United States
CATEGORIES:Broward County
ATTACH;FMTTYPE=image/png:https://funhomeschoolflorida.com/wp-content/uploads/2026/01/6c1267_fcd36f19126c4ad7ada88c87cfbcafa0mv2.png
END:VEVENT
BEGIN:VEVENT
DTSTART;TZID=America/New_York:20260324T133000
DTEND;TZID=America/New_York:20260324T143000
DTSTAMP:20260419T102313
CREATED:20260112T184708Z
LAST-MODIFIED:20260415T032716Z
UID:10000880-1774359000-1774362600@funhomeschoolflorida.com
SUMMARY:SoFlo Ninja Academy - Home School Ninja class
DESCRIPTION:Home School Ninja \n(Ages 5-12) \nOur Home School Ninja class is specifically crafted for young enthusiasts aged 5 to 12\, providing a unique opportunity for home-schooled children to dive into the world of Soflo Ninja. This daytime class is not just about tackling obstacles; it’s a comprehensive physical education program designed to enhance endurance\, stability\, agility\, and more. Through a combination of structured ninja training and free play\, children learn to navigate challenging courses\, boosting their physical fitness and problem-solving skills. The environment is supportive and motivational\, making it ideal for building confidence and social skills among peers with similar interests. Join us to give your child a fun\, dynamic way to stay active and learn invaluable life skills that go beyond physical fitness. \n*Exceptions may be made for siblings. Please inquire. \n$35.00 \nPlease sign up on their website\, the link is below.
URL:https://funhomeschoolflorida.com/event/soflo-ninja-academy-home-school-ninja-class/2026-03-24/
LOCATION:SoFlo Ninja Academy\, 1751 W Copans Rd Suite 1 & 2\, Pompano Beach\, FL\, 33064\, United States
CATEGORIES:Broward County
ATTACH;FMTTYPE=image/webp:https://funhomeschoolflorida.com/wp-content/uploads/2026/01/SOFLO_Logo.webp
END:VEVENT
BEGIN:VEVENT
DTSTART;TZID=America/New_York:20260324T140000
DTEND;TZID=America/New_York:20260324T150000
DTSTAMP:20260419T102313
CREATED:20260112T181514Z
LAST-MODIFIED:20260415T032716Z
UID:10000240-1774360800-1774364400@funhomeschoolflorida.com
SUMMARY:Mission Parkour - Homeschool Parkour
DESCRIPTION:Homeschool Parkour class is a 30 min structured lesson by a certified coach followed by a 30 free time for the student to explore. The 1 hour class is taught and supervised so the student can learn the basic movements of Parkour. As they progress the student can take the fundamental movements and apply them to their individual needs and style gaining strength\, confidence and flexibility including their imagination. \n  \nHOMESCHOOL DROP-IN $20 \nThis homeschool class can only be taken one time. Membership required to continue. \nHOMESCHOOL $50 \nThe class includes 4 sessions for the month. Can be used one time per week. Makeup sessions must be done within the subscription month. \nHOMESCHOOL  $99 \nThe class includes 10 sessions per the month. Can be used twice per week. Makeup sessions must be done within the subscription month \n  \nClasses offered: \nMonday & Tuesday @ 2pm \nWednesday @ 1pm & 2pm \nThese classes repeat weekly unless otherwise noted. Please sign up on website\, link is below
URL:https://funhomeschoolflorida.com/event/mission-parkour-homeschool-parkour/2026-03-24/
LOCATION:Mission Parkour\, 4039 NE 10 Ave Oakland Park\, FL 33334\, Oakland Park\, FL\, 33334\, United States
CATEGORIES:Broward County
ATTACH;FMTTYPE=image/jpeg:https://funhomeschoolflorida.com/wp-content/uploads/2026/01/original.jpeg
END:VEVENT
END:VCALENDAR